BEGIN:VCALENDAR
VERSION:2.0
PRODID:-//St. Nicholas of Tolentine Church - ECPv6.15.20//NONSGML v1.0//EN
CALSCALE:GREGORIAN
METHOD:PUBLISH
X-WR-CALNAME:St. Nicholas of Tolentine Church
X-ORIGINAL-URL:https://stnicholasoftolentinebronx.org
X-WR-CALDESC:Events for St. Nicholas of Tolentine Church
REFRESH-INTERVAL;VALUE=DURATION:PT1H
X-Robots-Tag:noindex
X-PUBLISHED-TTL:PT1H
BEGIN:VTIMEZONE
TZID:America/New_York
BEGIN:DAYLIGHT
TZOFFSETFROM:-0500
TZOFFSETTO:-0400
TZNAME:EDT
DTSTART:20260308T070000
END:DAYLIGHT
BEGIN:STANDARD
TZOFFSETFROM:-0400
TZOFFSETTO:-0500
TZNAME:EST
DTSTART:20261101T060000
END:STANDARD
BEGIN:DAYLIGHT
TZOFFSETFROM:-0500
TZOFFSETTO:-0400
TZNAME:EDT
DTSTART:20270314T070000
END:DAYLIGHT
BEGIN:STANDARD
TZOFFSETFROM:-0400
TZOFFSETTO:-0500
TZNAME:EST
DTSTART:20271107T060000
END:STANDARD
BEGIN:DAYLIGHT
TZOFFSETFROM:-0500
TZOFFSETTO:-0400
TZNAME:EDT
DTSTART:20280312T070000
END:DAYLIGHT
BEGIN:STANDARD
TZOFFSETFROM:-0400
TZOFFSETTO:-0500
TZNAME:EST
DTSTART:20281105T060000
END:STANDARD
END:VTIMEZONE
BEGIN:VEVENT
DTSTART;TZID=America/New_York:20270405T083000
DTEND;TZID=America/New_York:20270405T093000
DTSTAMP:20260423T235258
CREATED:20250305T035020Z
LAST-MODIFIED:20250305T035025Z
UID:10016270-1806913800-1806917400@stnicholasoftolentinebronx.org
SUMMARY:8:30 am Spanish Mass
DESCRIPTION:
URL:https://stnicholasoftolentinebronx.org/event/830-am-spanish-mass-3/2027-04-05/
LOCATION:St Nicholas of Tolentine Church\, 2345 University Avenue\, Bronx\, NY\, 10468\, United States
END:VEVENT
BEGIN:VEVENT
DTSTART;TZID=America/New_York:20270405T120000
DTEND;TZID=America/New_York:20270405T123000
DTSTAMP:20260423T235258
CREATED:20250305T040540Z
LAST-MODIFIED:20250305T040545Z
UID:10017574-1806926400-1806928200@stnicholasoftolentinebronx.org
SUMMARY:12:00 Noon English mass
DESCRIPTION:
URL:https://stnicholasoftolentinebronx.org/event/1200-noon-english-mass/2027-04-05/
LOCATION:St Nicholas of Tolentine Church\, 2345 University Avenue\, Bronx\, NY\, 10468\, United States
END:VEVENT
BEGIN:VEVENT
DTSTART;TZID=America/New_York:20270406T083000
DTEND;TZID=America/New_York:20270406T093000
DTSTAMP:20260423T235258
CREATED:20250305T035020Z
LAST-MODIFIED:20250305T035025Z
UID:10016271-1807000200-1807003800@stnicholasoftolentinebronx.org
SUMMARY:8:30 am Spanish Mass
DESCRIPTION:
URL:https://stnicholasoftolentinebronx.org/event/830-am-spanish-mass-3/2027-04-06/
LOCATION:St Nicholas of Tolentine Church\, 2345 University Avenue\, Bronx\, NY\, 10468\, United States
END:VEVENT
BEGIN:VEVENT
DTSTART;TZID=America/New_York:20270406T120000
DTEND;TZID=America/New_York:20270406T123000
DTSTAMP:20260423T235258
CREATED:20250305T040540Z
LAST-MODIFIED:20250305T040545Z
UID:10017575-1807012800-1807014600@stnicholasoftolentinebronx.org
SUMMARY:12:00 Noon English mass
DESCRIPTION:
URL:https://stnicholasoftolentinebronx.org/event/1200-noon-english-mass/2027-04-06/
LOCATION:St Nicholas of Tolentine Church\, 2345 University Avenue\, Bronx\, NY\, 10468\, United States
END:VEVENT
BEGIN:VEVENT
DTSTART;TZID=America/New_York:20270407T083000
DTEND;TZID=America/New_York:20270407T093000
DTSTAMP:20260423T235258
CREATED:20250305T035020Z
LAST-MODIFIED:20250305T035025Z
UID:10016272-1807086600-1807090200@stnicholasoftolentinebronx.org
SUMMARY:8:30 am Spanish Mass
DESCRIPTION:
URL:https://stnicholasoftolentinebronx.org/event/830-am-spanish-mass-3/2027-04-07/
LOCATION:St Nicholas of Tolentine Church\, 2345 University Avenue\, Bronx\, NY\, 10468\, United States
END:VEVENT
BEGIN:VEVENT
DTSTART;TZID=America/New_York:20270407T120000
DTEND;TZID=America/New_York:20270407T123000
DTSTAMP:20260423T235258
CREATED:20250305T040540Z
LAST-MODIFIED:20250305T040545Z
UID:10017576-1807099200-1807101000@stnicholasoftolentinebronx.org
SUMMARY:12:00 Noon English mass
DESCRIPTION:
URL:https://stnicholasoftolentinebronx.org/event/1200-noon-english-mass/2027-04-07/
LOCATION:St Nicholas of Tolentine Church\, 2345 University Avenue\, Bronx\, NY\, 10468\, United States
END:VEVENT
BEGIN:VEVENT
DTSTART;TZID=America/New_York:20270408T083000
DTEND;TZID=America/New_York:20270408T093000
DTSTAMP:20260423T235258
CREATED:20250305T035020Z
LAST-MODIFIED:20250305T035025Z
UID:10016273-1807173000-1807176600@stnicholasoftolentinebronx.org
SUMMARY:8:30 am Spanish Mass
DESCRIPTION:
URL:https://stnicholasoftolentinebronx.org/event/830-am-spanish-mass-3/2027-04-08/
LOCATION:St Nicholas of Tolentine Church\, 2345 University Avenue\, Bronx\, NY\, 10468\, United States
END:VEVENT
BEGIN:VEVENT
DTSTART;TZID=America/New_York:20270408T120000
DTEND;TZID=America/New_York:20270408T123000
DTSTAMP:20260423T235258
CREATED:20250305T040540Z
LAST-MODIFIED:20250305T040545Z
UID:10017577-1807185600-1807187400@stnicholasoftolentinebronx.org
SUMMARY:12:00 Noon English mass
DESCRIPTION:
URL:https://stnicholasoftolentinebronx.org/event/1200-noon-english-mass/2027-04-08/
LOCATION:St Nicholas of Tolentine Church\, 2345 University Avenue\, Bronx\, NY\, 10468\, United States
END:VEVENT
BEGIN:VEVENT
DTSTART;TZID=America/New_York:20270408T190000
DTEND;TZID=America/New_York:20270408T210000
DTSTAMP:20260423T235258
CREATED:20250305T041048Z
LAST-MODIFIED:20250306T225714Z
UID:10018446-1807210800-1807218000@stnicholasoftolentinebronx.org
SUMMARY:7:00 pm Círculo
DESCRIPTION:
URL:https://stnicholasoftolentinebronx.org/event/700-circulo/2027-04-08/
LOCATION:NY
END:VEVENT
BEGIN:VEVENT
DTSTART;TZID=America/New_York:20270409T083000
DTEND;TZID=America/New_York:20270409T093000
DTSTAMP:20260423T235258
CREATED:20250305T035020Z
LAST-MODIFIED:20250305T035025Z
UID:10016274-1807259400-1807263000@stnicholasoftolentinebronx.org
SUMMARY:8:30 am Spanish Mass
DESCRIPTION:
URL:https://stnicholasoftolentinebronx.org/event/830-am-spanish-mass-3/2027-04-09/
LOCATION:St Nicholas of Tolentine Church\, 2345 University Avenue\, Bronx\, NY\, 10468\, United States
END:VEVENT
BEGIN:VEVENT
DTSTART;TZID=America/New_York:20270409T120000
DTEND;TZID=America/New_York:20270409T123000
DTSTAMP:20260423T235258
CREATED:20250305T040540Z
LAST-MODIFIED:20250305T040545Z
UID:10017578-1807272000-1807273800@stnicholasoftolentinebronx.org
SUMMARY:12:00 Noon English mass
DESCRIPTION:
URL:https://stnicholasoftolentinebronx.org/event/1200-noon-english-mass/2027-04-09/
LOCATION:St Nicholas of Tolentine Church\, 2345 University Avenue\, Bronx\, NY\, 10468\, United States
END:VEVENT
BEGIN:VEVENT
DTSTART;TZID=America/New_York:20270410T074500
DTEND;TZID=America/New_York:20270410T083000
DTSTAMP:20260423T235258
CREATED:20250313T023643Z
LAST-MODIFIED:20250313T023646Z
UID:10018727-1807343100-1807345800@stnicholasoftolentinebronx.org
SUMMARY:7:45 am Vietnamese Mass
DESCRIPTION:
URL:https://stnicholasoftolentinebronx.org/event/745-am-vietnamese-mass/2027-04-10/
LOCATION:St Nicholas of Tolentine Church\, 2345 University Avenue\, Bronx\, NY\, 10468\, United States
END:VEVENT
BEGIN:VEVENT
DTSTART;TZID=America/New_York:20270410T173000
DTEND;TZID=America/New_York:20270410T183000
DTSTAMP:20260423T235258
CREATED:20250313T023751Z
LAST-MODIFIED:20250313T023752Z
UID:10018988-1807378200-1807381800@stnicholasoftolentinebronx.org
SUMMARY:5:30 pm Confessions
DESCRIPTION:
URL:https://stnicholasoftolentinebronx.org/event/530-pm-confessions/2027-04-10/
LOCATION:St Nicholas of Tolentine Church\, 2345 University Avenue\, Bronx\, NY\, 10468\, United States
END:VEVENT
BEGIN:VEVENT
DTSTART;TZID=America/New_York:20270410T190000
DTEND;TZID=America/New_York:20270410T200000
DTSTAMP:20260423T235258
CREATED:20250313T023841Z
LAST-MODIFIED:20250313T023842Z
UID:10019249-1807383600-1807387200@stnicholasoftolentinebronx.org
SUMMARY:7:00 pm Spanish Mass
DESCRIPTION:
URL:https://stnicholasoftolentinebronx.org/event/700-pm-spanish-mass/2027-04-10/
LOCATION:St Nicholas of Tolentine Church\, 2345 University Avenue\, Bronx\, NY\, 10468\, United States
END:VEVENT
BEGIN:VEVENT
DTSTART;TZID=America/New_York:20270411T080000
DTEND;TZID=America/New_York:20270411T090000
DTSTAMP:20260423T235258
CREATED:20250313T023930Z
LAST-MODIFIED:20250418T035212Z
UID:10019510-1807430400-1807434000@stnicholasoftolentinebronx.org
SUMMARY:8:00 am English Mass
DESCRIPTION:
URL:https://stnicholasoftolentinebronx.org/event/800-am-english-mass/2027-04-11/
LOCATION:St Nicholas of Tolentine Church\, 2345 University Avenue\, Bronx\, NY\, 10468\, United States
END:VEVENT
BEGIN:VEVENT
DTSTART;TZID=America/New_York:20270411T093000
DTEND;TZID=America/New_York:20270411T110000
DTSTAMP:20260423T235258
CREATED:20250313T024022Z
LAST-MODIFIED:20250313T024024Z
UID:10019771-1807435800-1807441200@stnicholasoftolentinebronx.org
SUMMARY:9:30 am Spanish Mass
DESCRIPTION:
URL:https://stnicholasoftolentinebronx.org/event/930-am-spanish-mass/2027-04-11/
LOCATION:St Nicholas of Tolentine Church\, 2345 University Avenue\, Bronx\, NY\, 10468\, United States
END:VEVENT
BEGIN:VEVENT
DTSTART;TZID=America/New_York:20270411T113000
DTEND;TZID=America/New_York:20270411T123000
DTSTAMP:20260423T235258
CREATED:20250313T024110Z
LAST-MODIFIED:20250313T024112Z
UID:10020032-1807443000-1807446600@stnicholasoftolentinebronx.org
SUMMARY:11:30 am English Mass
DESCRIPTION:
URL:https://stnicholasoftolentinebronx.org/event/1130-am-english-mass/2027-04-11/
LOCATION:St Nicholas of Tolentine Church\, 2345 University Avenue\, Bronx\, NY\, 10468\, United States
END:VEVENT
BEGIN:VEVENT
DTSTART;TZID=America/New_York:20270411T133000
DTEND;TZID=America/New_York:20270411T143000
DTSTAMP:20260423T235258
CREATED:20250313T024158Z
LAST-MODIFIED:20250313T024339Z
UID:10020293-1807450200-1807453800@stnicholasoftolentinebronx.org
SUMMARY:1:30 pm Vietnamese Mass
DESCRIPTION:
URL:https://stnicholasoftolentinebronx.org/event/130-pm-vietnamese-mass/2027-04-11/
LOCATION:St Nicholas of Tolentine Church\, 2345 University Avenue\, Bronx\, NY\, 10468\, United States
END:VEVENT
BEGIN:VEVENT
DTSTART;TZID=America/New_York:20270412T083000
DTEND;TZID=America/New_York:20270412T093000
DTSTAMP:20260423T235258
CREATED:20250305T035020Z
LAST-MODIFIED:20250305T035025Z
UID:10016275-1807518600-1807522200@stnicholasoftolentinebronx.org
SUMMARY:8:30 am Spanish Mass
DESCRIPTION:
URL:https://stnicholasoftolentinebronx.org/event/830-am-spanish-mass-3/2027-04-12/
LOCATION:St Nicholas of Tolentine Church\, 2345 University Avenue\, Bronx\, NY\, 10468\, United States
END:VEVENT
BEGIN:VEVENT
DTSTART;TZID=America/New_York:20270412T120000
DTEND;TZID=America/New_York:20270412T123000
DTSTAMP:20260423T235258
CREATED:20250305T040540Z
LAST-MODIFIED:20250305T040545Z
UID:10017579-1807531200-1807533000@stnicholasoftolentinebronx.org
SUMMARY:12:00 Noon English mass
DESCRIPTION:
URL:https://stnicholasoftolentinebronx.org/event/1200-noon-english-mass/2027-04-12/
LOCATION:St Nicholas of Tolentine Church\, 2345 University Avenue\, Bronx\, NY\, 10468\, United States
END:VEVENT
BEGIN:VEVENT
DTSTART;TZID=America/New_York:20270413T083000
DTEND;TZID=America/New_York:20270413T093000
DTSTAMP:20260423T235258
CREATED:20250305T035020Z
LAST-MODIFIED:20250305T035025Z
UID:10016276-1807605000-1807608600@stnicholasoftolentinebronx.org
SUMMARY:8:30 am Spanish Mass
DESCRIPTION:
URL:https://stnicholasoftolentinebronx.org/event/830-am-spanish-mass-3/2027-04-13/
LOCATION:St Nicholas of Tolentine Church\, 2345 University Avenue\, Bronx\, NY\, 10468\, United States
END:VEVENT
BEGIN:VEVENT
DTSTART;TZID=America/New_York:20270413T120000
DTEND;TZID=America/New_York:20270413T123000
DTSTAMP:20260423T235258
CREATED:20250305T040540Z
LAST-MODIFIED:20250305T040545Z
UID:10017580-1807617600-1807619400@stnicholasoftolentinebronx.org
SUMMARY:12:00 Noon English mass
DESCRIPTION:
URL:https://stnicholasoftolentinebronx.org/event/1200-noon-english-mass/2027-04-13/
LOCATION:St Nicholas of Tolentine Church\, 2345 University Avenue\, Bronx\, NY\, 10468\, United States
END:VEVENT
BEGIN:VEVENT
DTSTART;TZID=America/New_York:20270414T083000
DTEND;TZID=America/New_York:20270414T093000
DTSTAMP:20260423T235258
CREATED:20250305T035020Z
LAST-MODIFIED:20250305T035025Z
UID:10016277-1807691400-1807695000@stnicholasoftolentinebronx.org
SUMMARY:8:30 am Spanish Mass
DESCRIPTION:
URL:https://stnicholasoftolentinebronx.org/event/830-am-spanish-mass-3/2027-04-14/
LOCATION:St Nicholas of Tolentine Church\, 2345 University Avenue\, Bronx\, NY\, 10468\, United States
END:VEVENT
BEGIN:VEVENT
DTSTART;TZID=America/New_York:20270414T120000
DTEND;TZID=America/New_York:20270414T123000
DTSTAMP:20260423T235258
CREATED:20250305T040540Z
LAST-MODIFIED:20250305T040545Z
UID:10017581-1807704000-1807705800@stnicholasoftolentinebronx.org
SUMMARY:12:00 Noon English mass
DESCRIPTION:
URL:https://stnicholasoftolentinebronx.org/event/1200-noon-english-mass/2027-04-14/
LOCATION:St Nicholas of Tolentine Church\, 2345 University Avenue\, Bronx\, NY\, 10468\, United States
END:VEVENT
BEGIN:VEVENT
DTSTART;TZID=America/New_York:20270415T083000
DTEND;TZID=America/New_York:20270415T093000
DTSTAMP:20260423T235258
CREATED:20250305T035020Z
LAST-MODIFIED:20250305T035025Z
UID:10016278-1807777800-1807781400@stnicholasoftolentinebronx.org
SUMMARY:8:30 am Spanish Mass
DESCRIPTION:
URL:https://stnicholasoftolentinebronx.org/event/830-am-spanish-mass-3/2027-04-15/
LOCATION:St Nicholas of Tolentine Church\, 2345 University Avenue\, Bronx\, NY\, 10468\, United States
END:VEVENT
BEGIN:VEVENT
DTSTART;TZID=America/New_York:20270415T120000
DTEND;TZID=America/New_York:20270415T123000
DTSTAMP:20260423T235258
CREATED:20250305T040540Z
LAST-MODIFIED:20250305T040545Z
UID:10017582-1807790400-1807792200@stnicholasoftolentinebronx.org
SUMMARY:12:00 Noon English mass
DESCRIPTION:
URL:https://stnicholasoftolentinebronx.org/event/1200-noon-english-mass/2027-04-15/
LOCATION:St Nicholas of Tolentine Church\, 2345 University Avenue\, Bronx\, NY\, 10468\, United States
END:VEVENT
BEGIN:VEVENT
DTSTART;TZID=America/New_York:20270415T190000
DTEND;TZID=America/New_York:20270415T210000
DTSTAMP:20260423T235258
CREATED:20250305T041048Z
LAST-MODIFIED:20250306T225714Z
UID:10018447-1807815600-1807822800@stnicholasoftolentinebronx.org
SUMMARY:7:00 pm Círculo
DESCRIPTION:
URL:https://stnicholasoftolentinebronx.org/event/700-circulo/2027-04-15/
LOCATION:NY
END:VEVENT
BEGIN:VEVENT
DTSTART;TZID=America/New_York:20270416T083000
DTEND;TZID=America/New_York:20270416T093000
DTSTAMP:20260423T235258
CREATED:20250305T035020Z
LAST-MODIFIED:20250305T035025Z
UID:10016279-1807864200-1807867800@stnicholasoftolentinebronx.org
SUMMARY:8:30 am Spanish Mass
DESCRIPTION:
URL:https://stnicholasoftolentinebronx.org/event/830-am-spanish-mass-3/2027-04-16/
LOCATION:St Nicholas of Tolentine Church\, 2345 University Avenue\, Bronx\, NY\, 10468\, United States
END:VEVENT
BEGIN:VEVENT
DTSTART;TZID=America/New_York:20270416T120000
DTEND;TZID=America/New_York:20270416T123000
DTSTAMP:20260423T235258
CREATED:20250305T040540Z
LAST-MODIFIED:20250305T040545Z
UID:10017583-1807876800-1807878600@stnicholasoftolentinebronx.org
SUMMARY:12:00 Noon English mass
DESCRIPTION:
URL:https://stnicholasoftolentinebronx.org/event/1200-noon-english-mass/2027-04-16/
LOCATION:St Nicholas of Tolentine Church\, 2345 University Avenue\, Bronx\, NY\, 10468\, United States
END:VEVENT
BEGIN:VEVENT
DTSTART;TZID=America/New_York:20270417T074500
DTEND;TZID=America/New_York:20270417T083000
DTSTAMP:20260423T235258
CREATED:20250313T023643Z
LAST-MODIFIED:20250313T023646Z
UID:10018728-1807947900-1807950600@stnicholasoftolentinebronx.org
SUMMARY:7:45 am Vietnamese Mass
DESCRIPTION:
URL:https://stnicholasoftolentinebronx.org/event/745-am-vietnamese-mass/2027-04-17/
LOCATION:St Nicholas of Tolentine Church\, 2345 University Avenue\, Bronx\, NY\, 10468\, United States
END:VEVENT
END:VCALENDAR