BEGIN:VCALENDAR
VERSION:2.0
PRODID:-//St. Nicholas of Tolentine Church - ECPv6.15.20//NONSGML v1.0//EN
CALSCALE:GREGORIAN
METHOD:PUBLISH
X-WR-CALNAME:St. Nicholas of Tolentine Church
X-ORIGINAL-URL:https://stnicholasoftolentinebronx.org
X-WR-CALDESC:Events for St. Nicholas of Tolentine Church
REFRESH-INTERVAL;VALUE=DURATION:PT1H
X-Robots-Tag:noindex
X-PUBLISHED-TTL:PT1H
BEGIN:VTIMEZONE
TZID:America/New_York
BEGIN:DAYLIGHT
TZOFFSETFROM:-0500
TZOFFSETTO:-0400
TZNAME:EDT
DTSTART:20260308T070000
END:DAYLIGHT
BEGIN:STANDARD
TZOFFSETFROM:-0400
TZOFFSETTO:-0500
TZNAME:EST
DTSTART:20261101T060000
END:STANDARD
BEGIN:DAYLIGHT
TZOFFSETFROM:-0500
TZOFFSETTO:-0400
TZNAME:EDT
DTSTART:20270314T070000
END:DAYLIGHT
BEGIN:STANDARD
TZOFFSETFROM:-0400
TZOFFSETTO:-0500
TZNAME:EST
DTSTART:20271107T060000
END:STANDARD
BEGIN:DAYLIGHT
TZOFFSETFROM:-0500
TZOFFSETTO:-0400
TZNAME:EDT
DTSTART:20280312T070000
END:DAYLIGHT
BEGIN:STANDARD
TZOFFSETFROM:-0400
TZOFFSETTO:-0500
TZNAME:EST
DTSTART:20281105T060000
END:STANDARD
END:VTIMEZONE
BEGIN:VEVENT
DTSTART;TZID=America/New_York:20270321T093000
DTEND;TZID=America/New_York:20270321T110000
DTSTAMP:20260424T091754
CREATED:20250313T024022Z
LAST-MODIFIED:20250313T024024Z
UID:10019768-1805621400-1805626800@stnicholasoftolentinebronx.org
SUMMARY:9:30 am Spanish Mass
DESCRIPTION:
URL:https://stnicholasoftolentinebronx.org/event/930-am-spanish-mass/2027-03-21/
LOCATION:St Nicholas of Tolentine Church\, 2345 University Avenue\, Bronx\, NY\, 10468\, United States
END:VEVENT
BEGIN:VEVENT
DTSTART;TZID=America/New_York:20270321T113000
DTEND;TZID=America/New_York:20270321T123000
DTSTAMP:20260424T091755
CREATED:20250313T024110Z
LAST-MODIFIED:20250313T024112Z
UID:10020029-1805628600-1805632200@stnicholasoftolentinebronx.org
SUMMARY:11:30 am English Mass
DESCRIPTION:
URL:https://stnicholasoftolentinebronx.org/event/1130-am-english-mass/2027-03-21/
LOCATION:St Nicholas of Tolentine Church\, 2345 University Avenue\, Bronx\, NY\, 10468\, United States
END:VEVENT
BEGIN:VEVENT
DTSTART;TZID=America/New_York:20270321T133000
DTEND;TZID=America/New_York:20270321T143000
DTSTAMP:20260424T091755
CREATED:20250313T024158Z
LAST-MODIFIED:20250313T024339Z
UID:10020290-1805635800-1805639400@stnicholasoftolentinebronx.org
SUMMARY:1:30 pm Vietnamese Mass
DESCRIPTION:
URL:https://stnicholasoftolentinebronx.org/event/130-pm-vietnamese-mass/2027-03-21/
LOCATION:St Nicholas of Tolentine Church\, 2345 University Avenue\, Bronx\, NY\, 10468\, United States
END:VEVENT
BEGIN:VEVENT
DTSTART;TZID=America/New_York:20270322T083000
DTEND;TZID=America/New_York:20270322T093000
DTSTAMP:20260424T091755
CREATED:20250305T035020Z
LAST-MODIFIED:20250305T035025Z
UID:10016260-1805704200-1805707800@stnicholasoftolentinebronx.org
SUMMARY:8:30 am Spanish Mass
DESCRIPTION:
URL:https://stnicholasoftolentinebronx.org/event/830-am-spanish-mass-3/2027-03-22/
LOCATION:St Nicholas of Tolentine Church\, 2345 University Avenue\, Bronx\, NY\, 10468\, United States
END:VEVENT
BEGIN:VEVENT
DTSTART;TZID=America/New_York:20270322T120000
DTEND;TZID=America/New_York:20270322T123000
DTSTAMP:20260424T091755
CREATED:20250305T040540Z
LAST-MODIFIED:20250305T040545Z
UID:10017564-1805716800-1805718600@stnicholasoftolentinebronx.org
SUMMARY:12:00 Noon English mass
DESCRIPTION:
URL:https://stnicholasoftolentinebronx.org/event/1200-noon-english-mass/2027-03-22/
LOCATION:St Nicholas of Tolentine Church\, 2345 University Avenue\, Bronx\, NY\, 10468\, United States
END:VEVENT
BEGIN:VEVENT
DTSTART;TZID=America/New_York:20270323T083000
DTEND;TZID=America/New_York:20270323T093000
DTSTAMP:20260424T091755
CREATED:20250305T035020Z
LAST-MODIFIED:20250305T035025Z
UID:10016261-1805790600-1805794200@stnicholasoftolentinebronx.org
SUMMARY:8:30 am Spanish Mass
DESCRIPTION:
URL:https://stnicholasoftolentinebronx.org/event/830-am-spanish-mass-3/2027-03-23/
LOCATION:St Nicholas of Tolentine Church\, 2345 University Avenue\, Bronx\, NY\, 10468\, United States
END:VEVENT
BEGIN:VEVENT
DTSTART;TZID=America/New_York:20270323T120000
DTEND;TZID=America/New_York:20270323T123000
DTSTAMP:20260424T091755
CREATED:20250305T040540Z
LAST-MODIFIED:20250305T040545Z
UID:10017565-1805803200-1805805000@stnicholasoftolentinebronx.org
SUMMARY:12:00 Noon English mass
DESCRIPTION:
URL:https://stnicholasoftolentinebronx.org/event/1200-noon-english-mass/2027-03-23/
LOCATION:St Nicholas of Tolentine Church\, 2345 University Avenue\, Bronx\, NY\, 10468\, United States
END:VEVENT
BEGIN:VEVENT
DTSTART;TZID=America/New_York:20270324T083000
DTEND;TZID=America/New_York:20270324T093000
DTSTAMP:20260424T091755
CREATED:20250305T035020Z
LAST-MODIFIED:20250305T035025Z
UID:10016262-1805877000-1805880600@stnicholasoftolentinebronx.org
SUMMARY:8:30 am Spanish Mass
DESCRIPTION:
URL:https://stnicholasoftolentinebronx.org/event/830-am-spanish-mass-3/2027-03-24/
LOCATION:St Nicholas of Tolentine Church\, 2345 University Avenue\, Bronx\, NY\, 10468\, United States
END:VEVENT
BEGIN:VEVENT
DTSTART;TZID=America/New_York:20270324T120000
DTEND;TZID=America/New_York:20270324T123000
DTSTAMP:20260424T091755
CREATED:20250305T040540Z
LAST-MODIFIED:20250305T040545Z
UID:10017566-1805889600-1805891400@stnicholasoftolentinebronx.org
SUMMARY:12:00 Noon English mass
DESCRIPTION:
URL:https://stnicholasoftolentinebronx.org/event/1200-noon-english-mass/2027-03-24/
LOCATION:St Nicholas of Tolentine Church\, 2345 University Avenue\, Bronx\, NY\, 10468\, United States
END:VEVENT
BEGIN:VEVENT
DTSTART;TZID=America/New_York:20270325T083000
DTEND;TZID=America/New_York:20270325T093000
DTSTAMP:20260424T091755
CREATED:20250305T035020Z
LAST-MODIFIED:20250305T035025Z
UID:10016263-1805963400-1805967000@stnicholasoftolentinebronx.org
SUMMARY:8:30 am Spanish Mass
DESCRIPTION:
URL:https://stnicholasoftolentinebronx.org/event/830-am-spanish-mass-3/2027-03-25/
LOCATION:St Nicholas of Tolentine Church\, 2345 University Avenue\, Bronx\, NY\, 10468\, United States
END:VEVENT
BEGIN:VEVENT
DTSTART;TZID=America/New_York:20270325T120000
DTEND;TZID=America/New_York:20270325T123000
DTSTAMP:20260424T091755
CREATED:20250305T040540Z
LAST-MODIFIED:20250305T040545Z
UID:10017567-1805976000-1805977800@stnicholasoftolentinebronx.org
SUMMARY:12:00 Noon English mass
DESCRIPTION:
URL:https://stnicholasoftolentinebronx.org/event/1200-noon-english-mass/2027-03-25/
LOCATION:St Nicholas of Tolentine Church\, 2345 University Avenue\, Bronx\, NY\, 10468\, United States
END:VEVENT
BEGIN:VEVENT
DTSTART;TZID=America/New_York:20270325T190000
DTEND;TZID=America/New_York:20270325T210000
DTSTAMP:20260424T091755
CREATED:20250305T041048Z
LAST-MODIFIED:20250306T225714Z
UID:10018444-1806001200-1806008400@stnicholasoftolentinebronx.org
SUMMARY:7:00 pm Círculo
DESCRIPTION:
URL:https://stnicholasoftolentinebronx.org/event/700-circulo/2027-03-25/
LOCATION:NY
END:VEVENT
BEGIN:VEVENT
DTSTART;TZID=America/New_York:20270326T083000
DTEND;TZID=America/New_York:20270326T093000
DTSTAMP:20260424T091755
CREATED:20250305T035020Z
LAST-MODIFIED:20250305T035025Z
UID:10016264-1806049800-1806053400@stnicholasoftolentinebronx.org
SUMMARY:8:30 am Spanish Mass
DESCRIPTION:
URL:https://stnicholasoftolentinebronx.org/event/830-am-spanish-mass-3/2027-03-26/
LOCATION:St Nicholas of Tolentine Church\, 2345 University Avenue\, Bronx\, NY\, 10468\, United States
END:VEVENT
BEGIN:VEVENT
DTSTART;TZID=America/New_York:20270326T120000
DTEND;TZID=America/New_York:20270326T123000
DTSTAMP:20260424T091755
CREATED:20250305T040540Z
LAST-MODIFIED:20250305T040545Z
UID:10017568-1806062400-1806064200@stnicholasoftolentinebronx.org
SUMMARY:12:00 Noon English mass
DESCRIPTION:
URL:https://stnicholasoftolentinebronx.org/event/1200-noon-english-mass/2027-03-26/
LOCATION:St Nicholas of Tolentine Church\, 2345 University Avenue\, Bronx\, NY\, 10468\, United States
END:VEVENT
BEGIN:VEVENT
DTSTART;TZID=America/New_York:20270327T074500
DTEND;TZID=America/New_York:20270327T083000
DTSTAMP:20260424T091755
CREATED:20250313T023643Z
LAST-MODIFIED:20250313T023646Z
UID:10018725-1806133500-1806136200@stnicholasoftolentinebronx.org
SUMMARY:7:45 am Vietnamese Mass
DESCRIPTION:
URL:https://stnicholasoftolentinebronx.org/event/745-am-vietnamese-mass/2027-03-27/
LOCATION:St Nicholas of Tolentine Church\, 2345 University Avenue\, Bronx\, NY\, 10468\, United States
END:VEVENT
BEGIN:VEVENT
DTSTART;TZID=America/New_York:20270327T173000
DTEND;TZID=America/New_York:20270327T183000
DTSTAMP:20260424T091755
CREATED:20250313T023751Z
LAST-MODIFIED:20250313T023752Z
UID:10018986-1806168600-1806172200@stnicholasoftolentinebronx.org
SUMMARY:5:30 pm Confessions
DESCRIPTION:
URL:https://stnicholasoftolentinebronx.org/event/530-pm-confessions/2027-03-27/
LOCATION:St Nicholas of Tolentine Church\, 2345 University Avenue\, Bronx\, NY\, 10468\, United States
END:VEVENT
BEGIN:VEVENT
DTSTART;TZID=America/New_York:20270327T190000
DTEND;TZID=America/New_York:20270327T200000
DTSTAMP:20260424T091755
CREATED:20250313T023841Z
LAST-MODIFIED:20250313T023842Z
UID:10019247-1806174000-1806177600@stnicholasoftolentinebronx.org
SUMMARY:7:00 pm Spanish Mass
DESCRIPTION:
URL:https://stnicholasoftolentinebronx.org/event/700-pm-spanish-mass/2027-03-27/
LOCATION:St Nicholas of Tolentine Church\, 2345 University Avenue\, Bronx\, NY\, 10468\, United States
END:VEVENT
BEGIN:VEVENT
DTSTART;TZID=America/New_York:20270328T080000
DTEND;TZID=America/New_York:20270328T090000
DTSTAMP:20260424T091755
CREATED:20250313T023930Z
LAST-MODIFIED:20250418T035212Z
UID:10019508-1806220800-1806224400@stnicholasoftolentinebronx.org
SUMMARY:8:00 am English Mass
DESCRIPTION:
URL:https://stnicholasoftolentinebronx.org/event/800-am-english-mass/2027-03-28/
LOCATION:St Nicholas of Tolentine Church\, 2345 University Avenue\, Bronx\, NY\, 10468\, United States
END:VEVENT
BEGIN:VEVENT
DTSTART;TZID=America/New_York:20270328T093000
DTEND;TZID=America/New_York:20270328T110000
DTSTAMP:20260424T091755
CREATED:20250313T024022Z
LAST-MODIFIED:20250313T024024Z
UID:10019769-1806226200-1806231600@stnicholasoftolentinebronx.org
SUMMARY:9:30 am Spanish Mass
DESCRIPTION:
URL:https://stnicholasoftolentinebronx.org/event/930-am-spanish-mass/2027-03-28/
LOCATION:St Nicholas of Tolentine Church\, 2345 University Avenue\, Bronx\, NY\, 10468\, United States
END:VEVENT
BEGIN:VEVENT
DTSTART;TZID=America/New_York:20270328T113000
DTEND;TZID=America/New_York:20270328T123000
DTSTAMP:20260424T091755
CREATED:20250313T024110Z
LAST-MODIFIED:20250313T024112Z
UID:10020030-1806233400-1806237000@stnicholasoftolentinebronx.org
SUMMARY:11:30 am English Mass
DESCRIPTION:
URL:https://stnicholasoftolentinebronx.org/event/1130-am-english-mass/2027-03-28/
LOCATION:St Nicholas of Tolentine Church\, 2345 University Avenue\, Bronx\, NY\, 10468\, United States
END:VEVENT
BEGIN:VEVENT
DTSTART;TZID=America/New_York:20270328T133000
DTEND;TZID=America/New_York:20270328T143000
DTSTAMP:20260424T091755
CREATED:20250313T024158Z
LAST-MODIFIED:20250313T024339Z
UID:10020291-1806240600-1806244200@stnicholasoftolentinebronx.org
SUMMARY:1:30 pm Vietnamese Mass
DESCRIPTION:
URL:https://stnicholasoftolentinebronx.org/event/130-pm-vietnamese-mass/2027-03-28/
LOCATION:St Nicholas of Tolentine Church\, 2345 University Avenue\, Bronx\, NY\, 10468\, United States
END:VEVENT
BEGIN:VEVENT
DTSTART;TZID=America/New_York:20270329T083000
DTEND;TZID=America/New_York:20270329T093000
DTSTAMP:20260424T091755
CREATED:20250305T035020Z
LAST-MODIFIED:20250305T035025Z
UID:10016265-1806309000-1806312600@stnicholasoftolentinebronx.org
SUMMARY:8:30 am Spanish Mass
DESCRIPTION:
URL:https://stnicholasoftolentinebronx.org/event/830-am-spanish-mass-3/2027-03-29/
LOCATION:St Nicholas of Tolentine Church\, 2345 University Avenue\, Bronx\, NY\, 10468\, United States
END:VEVENT
BEGIN:VEVENT
DTSTART;TZID=America/New_York:20270329T120000
DTEND;TZID=America/New_York:20270329T123000
DTSTAMP:20260424T091755
CREATED:20250305T040540Z
LAST-MODIFIED:20250305T040545Z
UID:10017569-1806321600-1806323400@stnicholasoftolentinebronx.org
SUMMARY:12:00 Noon English mass
DESCRIPTION:
URL:https://stnicholasoftolentinebronx.org/event/1200-noon-english-mass/2027-03-29/
LOCATION:St Nicholas of Tolentine Church\, 2345 University Avenue\, Bronx\, NY\, 10468\, United States
END:VEVENT
BEGIN:VEVENT
DTSTART;TZID=America/New_York:20270330T083000
DTEND;TZID=America/New_York:20270330T093000
DTSTAMP:20260424T091755
CREATED:20250305T035020Z
LAST-MODIFIED:20250305T035025Z
UID:10016266-1806395400-1806399000@stnicholasoftolentinebronx.org
SUMMARY:8:30 am Spanish Mass
DESCRIPTION:
URL:https://stnicholasoftolentinebronx.org/event/830-am-spanish-mass-3/2027-03-30/
LOCATION:St Nicholas of Tolentine Church\, 2345 University Avenue\, Bronx\, NY\, 10468\, United States
END:VEVENT
BEGIN:VEVENT
DTSTART;TZID=America/New_York:20270330T120000
DTEND;TZID=America/New_York:20270330T123000
DTSTAMP:20260424T091755
CREATED:20250305T040540Z
LAST-MODIFIED:20250305T040545Z
UID:10017570-1806408000-1806409800@stnicholasoftolentinebronx.org
SUMMARY:12:00 Noon English mass
DESCRIPTION:
URL:https://stnicholasoftolentinebronx.org/event/1200-noon-english-mass/2027-03-30/
LOCATION:St Nicholas of Tolentine Church\, 2345 University Avenue\, Bronx\, NY\, 10468\, United States
END:VEVENT
BEGIN:VEVENT
DTSTART;TZID=America/New_York:20270331T083000
DTEND;TZID=America/New_York:20270331T093000
DTSTAMP:20260424T091755
CREATED:20250305T035020Z
LAST-MODIFIED:20250305T035025Z
UID:10016267-1806481800-1806485400@stnicholasoftolentinebronx.org
SUMMARY:8:30 am Spanish Mass
DESCRIPTION:
URL:https://stnicholasoftolentinebronx.org/event/830-am-spanish-mass-3/2027-03-31/
LOCATION:St Nicholas of Tolentine Church\, 2345 University Avenue\, Bronx\, NY\, 10468\, United States
END:VEVENT
BEGIN:VEVENT
DTSTART;TZID=America/New_York:20270331T120000
DTEND;TZID=America/New_York:20270331T123000
DTSTAMP:20260424T091755
CREATED:20250305T040540Z
LAST-MODIFIED:20250305T040545Z
UID:10017571-1806494400-1806496200@stnicholasoftolentinebronx.org
SUMMARY:12:00 Noon English mass
DESCRIPTION:
URL:https://stnicholasoftolentinebronx.org/event/1200-noon-english-mass/2027-03-31/
LOCATION:St Nicholas of Tolentine Church\, 2345 University Avenue\, Bronx\, NY\, 10468\, United States
END:VEVENT
BEGIN:VEVENT
DTSTART;TZID=America/New_York:20270401T083000
DTEND;TZID=America/New_York:20270401T093000
DTSTAMP:20260424T091755
CREATED:20250305T035020Z
LAST-MODIFIED:20250305T035025Z
UID:10016268-1806568200-1806571800@stnicholasoftolentinebronx.org
SUMMARY:8:30 am Spanish Mass
DESCRIPTION:
URL:https://stnicholasoftolentinebronx.org/event/830-am-spanish-mass-3/2027-04-01/
LOCATION:St Nicholas of Tolentine Church\, 2345 University Avenue\, Bronx\, NY\, 10468\, United States
END:VEVENT
BEGIN:VEVENT
DTSTART;TZID=America/New_York:20270401T120000
DTEND;TZID=America/New_York:20270401T123000
DTSTAMP:20260424T091755
CREATED:20250305T040540Z
LAST-MODIFIED:20250305T040545Z
UID:10017572-1806580800-1806582600@stnicholasoftolentinebronx.org
SUMMARY:12:00 Noon English mass
DESCRIPTION:
URL:https://stnicholasoftolentinebronx.org/event/1200-noon-english-mass/2027-04-01/
LOCATION:St Nicholas of Tolentine Church\, 2345 University Avenue\, Bronx\, NY\, 10468\, United States
END:VEVENT
BEGIN:VEVENT
DTSTART;TZID=America/New_York:20270401T190000
DTEND;TZID=America/New_York:20270401T210000
DTSTAMP:20260424T091755
CREATED:20250305T041048Z
LAST-MODIFIED:20250306T225714Z
UID:10018445-1806606000-1806613200@stnicholasoftolentinebronx.org
SUMMARY:7:00 pm Círculo
DESCRIPTION:
URL:https://stnicholasoftolentinebronx.org/event/700-circulo/2027-04-01/
LOCATION:NY
END:VEVENT
END:VCALENDAR