BEGIN:VCALENDAR
VERSION:2.0
PRODID:-//St. Nicholas of Tolentine Church - ECPv6.15.20//NONSGML v1.0//EN
CALSCALE:GREGORIAN
METHOD:PUBLISH
X-ORIGINAL-URL:https://stnicholasoftolentinebronx.org
X-WR-CALDESC:Events for St. Nicholas of Tolentine Church
REFRESH-INTERVAL;VALUE=DURATION:PT1H
X-Robots-Tag:noindex
X-PUBLISHED-TTL:PT1H
BEGIN:VTIMEZONE
TZID:America/New_York
BEGIN:DAYLIGHT
TZOFFSETFROM:-0500
TZOFFSETTO:-0400
TZNAME:EDT
DTSTART:20260308T070000
END:DAYLIGHT
BEGIN:STANDARD
TZOFFSETFROM:-0400
TZOFFSETTO:-0500
TZNAME:EST
DTSTART:20261101T060000
END:STANDARD
BEGIN:DAYLIGHT
TZOFFSETFROM:-0500
TZOFFSETTO:-0400
TZNAME:EDT
DTSTART:20270314T070000
END:DAYLIGHT
BEGIN:STANDARD
TZOFFSETFROM:-0400
TZOFFSETTO:-0500
TZNAME:EST
DTSTART:20271107T060000
END:STANDARD
BEGIN:DAYLIGHT
TZOFFSETFROM:-0500
TZOFFSETTO:-0400
TZNAME:EDT
DTSTART:20280312T070000
END:DAYLIGHT
BEGIN:STANDARD
TZOFFSETFROM:-0400
TZOFFSETTO:-0500
TZNAME:EST
DTSTART:20281105T060000
END:STANDARD
END:VTIMEZONE
BEGIN:VEVENT
DTSTART;TZID=America/New_York:20271212T080000
DTEND;TZID=America/New_York:20271212T090000
DTSTAMP:20260425T065758
CREATED:20250313T023930Z
LAST-MODIFIED:20250418T035212Z
UID:10019545-1828598400-1828602000@stnicholasoftolentinebronx.org
SUMMARY:8:00 am English Mass
DESCRIPTION:
URL:https://stnicholasoftolentinebronx.org/event/800-am-english-mass/2027-12-12/
LOCATION:St Nicholas of Tolentine Church\, 2345 University Avenue\, Bronx\, NY\, 10468\, United States
END:VEVENT
BEGIN:VEVENT
DTSTART;TZID=America/New_York:20271212T093000
DTEND;TZID=America/New_York:20271212T110000
DTSTAMP:20260425T065758
CREATED:20250313T024022Z
LAST-MODIFIED:20250313T024024Z
UID:10019806-1828603800-1828609200@stnicholasoftolentinebronx.org
SUMMARY:9:30 am Spanish Mass
DESCRIPTION:
URL:https://stnicholasoftolentinebronx.org/event/930-am-spanish-mass/2027-12-12/
LOCATION:St Nicholas of Tolentine Church\, 2345 University Avenue\, Bronx\, NY\, 10468\, United States
END:VEVENT
BEGIN:VEVENT
DTSTART;TZID=America/New_York:20271212T113000
DTEND;TZID=America/New_York:20271212T123000
DTSTAMP:20260425T065758
CREATED:20250313T024110Z
LAST-MODIFIED:20250313T024112Z
UID:10020067-1828611000-1828614600@stnicholasoftolentinebronx.org
SUMMARY:11:30 am English Mass
DESCRIPTION:
URL:https://stnicholasoftolentinebronx.org/event/1130-am-english-mass/2027-12-12/
LOCATION:St Nicholas of Tolentine Church\, 2345 University Avenue\, Bronx\, NY\, 10468\, United States
END:VEVENT
BEGIN:VEVENT
DTSTART;TZID=America/New_York:20271212T133000
DTEND;TZID=America/New_York:20271212T143000
DTSTAMP:20260425T065758
CREATED:20250313T024158Z
LAST-MODIFIED:20250313T024339Z
UID:10020328-1828618200-1828621800@stnicholasoftolentinebronx.org
SUMMARY:1:30 pm Vietnamese Mass
DESCRIPTION:
URL:https://stnicholasoftolentinebronx.org/event/130-pm-vietnamese-mass/2027-12-12/
LOCATION:St Nicholas of Tolentine Church\, 2345 University Avenue\, Bronx\, NY\, 10468\, United States
END:VEVENT
BEGIN:VEVENT
DTSTART;TZID=America/New_York:20271213T083000
DTEND;TZID=America/New_York:20271213T093000
DTSTAMP:20260425T065758
CREATED:20250305T035020Z
LAST-MODIFIED:20250305T035025Z
UID:10016450-1828686600-1828690200@stnicholasoftolentinebronx.org
SUMMARY:8:30 am Spanish Mass
DESCRIPTION:
URL:https://stnicholasoftolentinebronx.org/event/830-am-spanish-mass-3/2027-12-13/
LOCATION:St Nicholas of Tolentine Church\, 2345 University Avenue\, Bronx\, NY\, 10468\, United States
END:VEVENT
BEGIN:VEVENT
DTSTART;TZID=America/New_York:20271213T120000
DTEND;TZID=America/New_York:20271213T123000
DTSTAMP:20260425T065758
CREATED:20250305T040540Z
LAST-MODIFIED:20250305T040545Z
UID:10017754-1828699200-1828701000@stnicholasoftolentinebronx.org
SUMMARY:12:00 Noon English mass
DESCRIPTION:
URL:https://stnicholasoftolentinebronx.org/event/1200-noon-english-mass/2027-12-13/
LOCATION:St Nicholas of Tolentine Church\, 2345 University Avenue\, Bronx\, NY\, 10468\, United States
END:VEVENT
BEGIN:VEVENT
DTSTART;TZID=America/New_York:20271214T083000
DTEND;TZID=America/New_York:20271214T093000
DTSTAMP:20260425T065758
CREATED:20250305T035020Z
LAST-MODIFIED:20250305T035025Z
UID:10016451-1828773000-1828776600@stnicholasoftolentinebronx.org
SUMMARY:8:30 am Spanish Mass
DESCRIPTION:
URL:https://stnicholasoftolentinebronx.org/event/830-am-spanish-mass-3/2027-12-14/
LOCATION:St Nicholas of Tolentine Church\, 2345 University Avenue\, Bronx\, NY\, 10468\, United States
END:VEVENT
BEGIN:VEVENT
DTSTART;TZID=America/New_York:20271214T120000
DTEND;TZID=America/New_York:20271214T123000
DTSTAMP:20260425T065758
CREATED:20250305T040540Z
LAST-MODIFIED:20250305T040545Z
UID:10017755-1828785600-1828787400@stnicholasoftolentinebronx.org
SUMMARY:12:00 Noon English mass
DESCRIPTION:
URL:https://stnicholasoftolentinebronx.org/event/1200-noon-english-mass/2027-12-14/
LOCATION:St Nicholas of Tolentine Church\, 2345 University Avenue\, Bronx\, NY\, 10468\, United States
END:VEVENT
BEGIN:VEVENT
DTSTART;TZID=America/New_York:20271215T083000
DTEND;TZID=America/New_York:20271215T093000
DTSTAMP:20260425T065758
CREATED:20250305T035020Z
LAST-MODIFIED:20250305T035025Z
UID:10016452-1828859400-1828863000@stnicholasoftolentinebronx.org
SUMMARY:8:30 am Spanish Mass
DESCRIPTION:
URL:https://stnicholasoftolentinebronx.org/event/830-am-spanish-mass-3/2027-12-15/
LOCATION:St Nicholas of Tolentine Church\, 2345 University Avenue\, Bronx\, NY\, 10468\, United States
END:VEVENT
BEGIN:VEVENT
DTSTART;TZID=America/New_York:20271215T120000
DTEND;TZID=America/New_York:20271215T123000
DTSTAMP:20260425T065758
CREATED:20250305T040540Z
LAST-MODIFIED:20250305T040545Z
UID:10017756-1828872000-1828873800@stnicholasoftolentinebronx.org
SUMMARY:12:00 Noon English mass
DESCRIPTION:
URL:https://stnicholasoftolentinebronx.org/event/1200-noon-english-mass/2027-12-15/
LOCATION:St Nicholas of Tolentine Church\, 2345 University Avenue\, Bronx\, NY\, 10468\, United States
END:VEVENT
BEGIN:VEVENT
DTSTART;TZID=America/New_York:20271216T083000
DTEND;TZID=America/New_York:20271216T093000
DTSTAMP:20260425T065758
CREATED:20250305T035020Z
LAST-MODIFIED:20250305T035025Z
UID:10016453-1828945800-1828949400@stnicholasoftolentinebronx.org
SUMMARY:8:30 am Spanish Mass
DESCRIPTION:
URL:https://stnicholasoftolentinebronx.org/event/830-am-spanish-mass-3/2027-12-16/
LOCATION:St Nicholas of Tolentine Church\, 2345 University Avenue\, Bronx\, NY\, 10468\, United States
END:VEVENT
BEGIN:VEVENT
DTSTART;TZID=America/New_York:20271216T120000
DTEND;TZID=America/New_York:20271216T123000
DTSTAMP:20260425T065758
CREATED:20250305T040540Z
LAST-MODIFIED:20250305T040545Z
UID:10017757-1828958400-1828960200@stnicholasoftolentinebronx.org
SUMMARY:12:00 Noon English mass
DESCRIPTION:
URL:https://stnicholasoftolentinebronx.org/event/1200-noon-english-mass/2027-12-16/
LOCATION:St Nicholas of Tolentine Church\, 2345 University Avenue\, Bronx\, NY\, 10468\, United States
END:VEVENT
BEGIN:VEVENT
DTSTART;TZID=America/New_York:20271216T190000
DTEND;TZID=America/New_York:20271216T210000
DTSTAMP:20260425T065758
CREATED:20250305T041048Z
LAST-MODIFIED:20250306T225714Z
UID:10018482-1828983600-1828990800@stnicholasoftolentinebronx.org
SUMMARY:7:00 pm Círculo
DESCRIPTION:
URL:https://stnicholasoftolentinebronx.org/event/700-circulo/2027-12-16/
LOCATION:NY
END:VEVENT
BEGIN:VEVENT
DTSTART;TZID=America/New_York:20271217T083000
DTEND;TZID=America/New_York:20271217T093000
DTSTAMP:20260425T065758
CREATED:20250305T035020Z
LAST-MODIFIED:20250305T035025Z
UID:10016454-1829032200-1829035800@stnicholasoftolentinebronx.org
SUMMARY:8:30 am Spanish Mass
DESCRIPTION:
URL:https://stnicholasoftolentinebronx.org/event/830-am-spanish-mass-3/2027-12-17/
LOCATION:St Nicholas of Tolentine Church\, 2345 University Avenue\, Bronx\, NY\, 10468\, United States
END:VEVENT
BEGIN:VEVENT
DTSTART;TZID=America/New_York:20271217T120000
DTEND;TZID=America/New_York:20271217T123000
DTSTAMP:20260425T065758
CREATED:20250305T040540Z
LAST-MODIFIED:20250305T040545Z
UID:10017758-1829044800-1829046600@stnicholasoftolentinebronx.org
SUMMARY:12:00 Noon English mass
DESCRIPTION:
URL:https://stnicholasoftolentinebronx.org/event/1200-noon-english-mass/2027-12-17/
LOCATION:St Nicholas of Tolentine Church\, 2345 University Avenue\, Bronx\, NY\, 10468\, United States
END:VEVENT
BEGIN:VEVENT
DTSTART;TZID=America/New_York:20271218T074500
DTEND;TZID=America/New_York:20271218T083000
DTSTAMP:20260425T065758
CREATED:20250313T023643Z
LAST-MODIFIED:20250313T023646Z
UID:10018763-1829115900-1829118600@stnicholasoftolentinebronx.org
SUMMARY:7:45 am Vietnamese Mass
DESCRIPTION:
URL:https://stnicholasoftolentinebronx.org/event/745-am-vietnamese-mass/2027-12-18/
LOCATION:St Nicholas of Tolentine Church\, 2345 University Avenue\, Bronx\, NY\, 10468\, United States
END:VEVENT
BEGIN:VEVENT
DTSTART;TZID=America/New_York:20271218T173000
DTEND;TZID=America/New_York:20271218T183000
DTSTAMP:20260425T065758
CREATED:20250313T023751Z
LAST-MODIFIED:20250313T023752Z
UID:10019024-1829151000-1829154600@stnicholasoftolentinebronx.org
SUMMARY:5:30 pm Confessions
DESCRIPTION:
URL:https://stnicholasoftolentinebronx.org/event/530-pm-confessions/2027-12-18/
LOCATION:St Nicholas of Tolentine Church\, 2345 University Avenue\, Bronx\, NY\, 10468\, United States
END:VEVENT
BEGIN:VEVENT
DTSTART;TZID=America/New_York:20271218T190000
DTEND;TZID=America/New_York:20271218T200000
DTSTAMP:20260425T065758
CREATED:20250313T023841Z
LAST-MODIFIED:20250313T023842Z
UID:10019285-1829156400-1829160000@stnicholasoftolentinebronx.org
SUMMARY:7:00 pm Spanish Mass
DESCRIPTION:
URL:https://stnicholasoftolentinebronx.org/event/700-pm-spanish-mass/2027-12-18/
LOCATION:St Nicholas of Tolentine Church\, 2345 University Avenue\, Bronx\, NY\, 10468\, United States
END:VEVENT
BEGIN:VEVENT
DTSTART;TZID=America/New_York:20271219T080000
DTEND;TZID=America/New_York:20271219T090000
DTSTAMP:20260425T065758
CREATED:20250313T023930Z
LAST-MODIFIED:20250418T035212Z
UID:10019546-1829203200-1829206800@stnicholasoftolentinebronx.org
SUMMARY:8:00 am English Mass
DESCRIPTION:
URL:https://stnicholasoftolentinebronx.org/event/800-am-english-mass/2027-12-19/
LOCATION:St Nicholas of Tolentine Church\, 2345 University Avenue\, Bronx\, NY\, 10468\, United States
END:VEVENT
BEGIN:VEVENT
DTSTART;TZID=America/New_York:20271219T093000
DTEND;TZID=America/New_York:20271219T110000
DTSTAMP:20260425T065758
CREATED:20250313T024022Z
LAST-MODIFIED:20250313T024024Z
UID:10019807-1829208600-1829214000@stnicholasoftolentinebronx.org
SUMMARY:9:30 am Spanish Mass
DESCRIPTION:
URL:https://stnicholasoftolentinebronx.org/event/930-am-spanish-mass/2027-12-19/
LOCATION:St Nicholas of Tolentine Church\, 2345 University Avenue\, Bronx\, NY\, 10468\, United States
END:VEVENT
BEGIN:VEVENT
DTSTART;TZID=America/New_York:20271219T113000
DTEND;TZID=America/New_York:20271219T123000
DTSTAMP:20260425T065758
CREATED:20250313T024110Z
LAST-MODIFIED:20250313T024112Z
UID:10020068-1829215800-1829219400@stnicholasoftolentinebronx.org
SUMMARY:11:30 am English Mass
DESCRIPTION:
URL:https://stnicholasoftolentinebronx.org/event/1130-am-english-mass/2027-12-19/
LOCATION:St Nicholas of Tolentine Church\, 2345 University Avenue\, Bronx\, NY\, 10468\, United States
END:VEVENT
BEGIN:VEVENT
DTSTART;TZID=America/New_York:20271219T133000
DTEND;TZID=America/New_York:20271219T143000
DTSTAMP:20260425T065758
CREATED:20250313T024158Z
LAST-MODIFIED:20250313T024339Z
UID:10020329-1829223000-1829226600@stnicholasoftolentinebronx.org
SUMMARY:1:30 pm Vietnamese Mass
DESCRIPTION:
URL:https://stnicholasoftolentinebronx.org/event/130-pm-vietnamese-mass/2027-12-19/
LOCATION:St Nicholas of Tolentine Church\, 2345 University Avenue\, Bronx\, NY\, 10468\, United States
END:VEVENT
BEGIN:VEVENT
DTSTART;TZID=America/New_York:20271220T083000
DTEND;TZID=America/New_York:20271220T093000
DTSTAMP:20260425T065758
CREATED:20250305T035020Z
LAST-MODIFIED:20250305T035025Z
UID:10016455-1829291400-1829295000@stnicholasoftolentinebronx.org
SUMMARY:8:30 am Spanish Mass
DESCRIPTION:
URL:https://stnicholasoftolentinebronx.org/event/830-am-spanish-mass-3/2027-12-20/
LOCATION:St Nicholas of Tolentine Church\, 2345 University Avenue\, Bronx\, NY\, 10468\, United States
END:VEVENT
BEGIN:VEVENT
DTSTART;TZID=America/New_York:20271220T120000
DTEND;TZID=America/New_York:20271220T123000
DTSTAMP:20260425T065758
CREATED:20250305T040540Z
LAST-MODIFIED:20250305T040545Z
UID:10017759-1829304000-1829305800@stnicholasoftolentinebronx.org
SUMMARY:12:00 Noon English mass
DESCRIPTION:
URL:https://stnicholasoftolentinebronx.org/event/1200-noon-english-mass/2027-12-20/
LOCATION:St Nicholas of Tolentine Church\, 2345 University Avenue\, Bronx\, NY\, 10468\, United States
END:VEVENT
BEGIN:VEVENT
DTSTART;TZID=America/New_York:20271221T083000
DTEND;TZID=America/New_York:20271221T093000
DTSTAMP:20260425T065758
CREATED:20250305T035020Z
LAST-MODIFIED:20250305T035025Z
UID:10016456-1829377800-1829381400@stnicholasoftolentinebronx.org
SUMMARY:8:30 am Spanish Mass
DESCRIPTION:
URL:https://stnicholasoftolentinebronx.org/event/830-am-spanish-mass-3/2027-12-21/
LOCATION:St Nicholas of Tolentine Church\, 2345 University Avenue\, Bronx\, NY\, 10468\, United States
END:VEVENT
BEGIN:VEVENT
DTSTART;TZID=America/New_York:20271221T120000
DTEND;TZID=America/New_York:20271221T123000
DTSTAMP:20260425T065758
CREATED:20250305T040540Z
LAST-MODIFIED:20250305T040545Z
UID:10017760-1829390400-1829392200@stnicholasoftolentinebronx.org
SUMMARY:12:00 Noon English mass
DESCRIPTION:
URL:https://stnicholasoftolentinebronx.org/event/1200-noon-english-mass/2027-12-21/
LOCATION:St Nicholas of Tolentine Church\, 2345 University Avenue\, Bronx\, NY\, 10468\, United States
END:VEVENT
BEGIN:VEVENT
DTSTART;TZID=America/New_York:20271222T083000
DTEND;TZID=America/New_York:20271222T093000
DTSTAMP:20260425T065758
CREATED:20250305T035020Z
LAST-MODIFIED:20250305T035025Z
UID:10016457-1829464200-1829467800@stnicholasoftolentinebronx.org
SUMMARY:8:30 am Spanish Mass
DESCRIPTION:
URL:https://stnicholasoftolentinebronx.org/event/830-am-spanish-mass-3/2027-12-22/
LOCATION:St Nicholas of Tolentine Church\, 2345 University Avenue\, Bronx\, NY\, 10468\, United States
END:VEVENT
BEGIN:VEVENT
DTSTART;TZID=America/New_York:20271222T120000
DTEND;TZID=America/New_York:20271222T123000
DTSTAMP:20260425T065758
CREATED:20250305T040540Z
LAST-MODIFIED:20250305T040545Z
UID:10017761-1829476800-1829478600@stnicholasoftolentinebronx.org
SUMMARY:12:00 Noon English mass
DESCRIPTION:
URL:https://stnicholasoftolentinebronx.org/event/1200-noon-english-mass/2027-12-22/
LOCATION:St Nicholas of Tolentine Church\, 2345 University Avenue\, Bronx\, NY\, 10468\, United States
END:VEVENT
BEGIN:VEVENT
DTSTART;TZID=America/New_York:20271223T083000
DTEND;TZID=America/New_York:20271223T093000
DTSTAMP:20260425T065758
CREATED:20250305T035020Z
LAST-MODIFIED:20250305T035025Z
UID:10016458-1829550600-1829554200@stnicholasoftolentinebronx.org
SUMMARY:8:30 am Spanish Mass
DESCRIPTION:
URL:https://stnicholasoftolentinebronx.org/event/830-am-spanish-mass-3/2027-12-23/
LOCATION:St Nicholas of Tolentine Church\, 2345 University Avenue\, Bronx\, NY\, 10468\, United States
END:VEVENT
BEGIN:VEVENT
DTSTART;TZID=America/New_York:20271223T120000
DTEND;TZID=America/New_York:20271223T123000
DTSTAMP:20260425T065758
CREATED:20250305T040540Z
LAST-MODIFIED:20250305T040545Z
UID:10017762-1829563200-1829565000@stnicholasoftolentinebronx.org
SUMMARY:12:00 Noon English mass
DESCRIPTION:
URL:https://stnicholasoftolentinebronx.org/event/1200-noon-english-mass/2027-12-23/
LOCATION:St Nicholas of Tolentine Church\, 2345 University Avenue\, Bronx\, NY\, 10468\, United States
END:VEVENT
END:VCALENDAR