BEGIN:VCALENDAR
VERSION:2.0
PRODID:-//St. Nicholas of Tolentine Church - ECPv6.15.20//NONSGML v1.0//EN
CALSCALE:GREGORIAN
METHOD:PUBLISH
X-ORIGINAL-URL:https://stnicholasoftolentinebronx.org
X-WR-CALDESC:Events for St. Nicholas of Tolentine Church
REFRESH-INTERVAL;VALUE=DURATION:PT1H
X-Robots-Tag:noindex
X-PUBLISHED-TTL:PT1H
BEGIN:VTIMEZONE
TZID:America/New_York
BEGIN:DAYLIGHT
TZOFFSETFROM:-0500
TZOFFSETTO:-0400
TZNAME:EDT
DTSTART:20270314T070000
END:DAYLIGHT
BEGIN:STANDARD
TZOFFSETFROM:-0400
TZOFFSETTO:-0500
TZNAME:EST
DTSTART:20271107T060000
END:STANDARD
BEGIN:DAYLIGHT
TZOFFSETFROM:-0500
TZOFFSETTO:-0400
TZNAME:EDT
DTSTART:20280312T070000
END:DAYLIGHT
BEGIN:STANDARD
TZOFFSETFROM:-0400
TZOFFSETTO:-0500
TZNAME:EST
DTSTART:20281105T060000
END:STANDARD
BEGIN:DAYLIGHT
TZOFFSETFROM:-0500
TZOFFSETTO:-0400
TZNAME:EDT
DTSTART:20290311T070000
END:DAYLIGHT
BEGIN:STANDARD
TZOFFSETFROM:-0400
TZOFFSETTO:-0500
TZNAME:EST
DTSTART:20291104T060000
END:STANDARD
END:VTIMEZONE
BEGIN:VEVENT
DTSTART;TZID=America/New_York:20280104T083000
DTEND;TZID=America/New_York:20280104T093000
DTSTAMP:20260425T100813
CREATED:20250305T035020Z
LAST-MODIFIED:20250305T035025Z
UID:10016466-1830587400-1830591000@stnicholasoftolentinebronx.org
SUMMARY:8:30 am Spanish Mass
DESCRIPTION:
URL:https://stnicholasoftolentinebronx.org/event/830-am-spanish-mass-3/2028-01-04/
LOCATION:St Nicholas of Tolentine Church\, 2345 University Avenue\, Bronx\, NY\, 10468\, United States
END:VEVENT
BEGIN:VEVENT
DTSTART;TZID=America/New_York:20280104T120000
DTEND;TZID=America/New_York:20280104T123000
DTSTAMP:20260425T100813
CREATED:20250305T040540Z
LAST-MODIFIED:20250305T040545Z
UID:10017770-1830600000-1830601800@stnicholasoftolentinebronx.org
SUMMARY:12:00 Noon English mass
DESCRIPTION:
URL:https://stnicholasoftolentinebronx.org/event/1200-noon-english-mass/2028-01-04/
LOCATION:St Nicholas of Tolentine Church\, 2345 University Avenue\, Bronx\, NY\, 10468\, United States
END:VEVENT
BEGIN:VEVENT
DTSTART;TZID=America/New_York:20280105T083000
DTEND;TZID=America/New_York:20280105T093000
DTSTAMP:20260425T100813
CREATED:20250305T035020Z
LAST-MODIFIED:20250305T035025Z
UID:10016467-1830673800-1830677400@stnicholasoftolentinebronx.org
SUMMARY:8:30 am Spanish Mass
DESCRIPTION:
URL:https://stnicholasoftolentinebronx.org/event/830-am-spanish-mass-3/2028-01-05/
LOCATION:St Nicholas of Tolentine Church\, 2345 University Avenue\, Bronx\, NY\, 10468\, United States
END:VEVENT
BEGIN:VEVENT
DTSTART;TZID=America/New_York:20280105T120000
DTEND;TZID=America/New_York:20280105T123000
DTSTAMP:20260425T100813
CREATED:20250305T040540Z
LAST-MODIFIED:20250305T040545Z
UID:10017771-1830686400-1830688200@stnicholasoftolentinebronx.org
SUMMARY:12:00 Noon English mass
DESCRIPTION:
URL:https://stnicholasoftolentinebronx.org/event/1200-noon-english-mass/2028-01-05/
LOCATION:St Nicholas of Tolentine Church\, 2345 University Avenue\, Bronx\, NY\, 10468\, United States
END:VEVENT
BEGIN:VEVENT
DTSTART;TZID=America/New_York:20280106T083000
DTEND;TZID=America/New_York:20280106T093000
DTSTAMP:20260425T100813
CREATED:20250305T035020Z
LAST-MODIFIED:20250305T035025Z
UID:10016468-1830760200-1830763800@stnicholasoftolentinebronx.org
SUMMARY:8:30 am Spanish Mass
DESCRIPTION:
URL:https://stnicholasoftolentinebronx.org/event/830-am-spanish-mass-3/2028-01-06/
LOCATION:St Nicholas of Tolentine Church\, 2345 University Avenue\, Bronx\, NY\, 10468\, United States
END:VEVENT
BEGIN:VEVENT
DTSTART;TZID=America/New_York:20280106T120000
DTEND;TZID=America/New_York:20280106T123000
DTSTAMP:20260425T100813
CREATED:20250305T040540Z
LAST-MODIFIED:20250305T040545Z
UID:10017772-1830772800-1830774600@stnicholasoftolentinebronx.org
SUMMARY:12:00 Noon English mass
DESCRIPTION:
URL:https://stnicholasoftolentinebronx.org/event/1200-noon-english-mass/2028-01-06/
LOCATION:St Nicholas of Tolentine Church\, 2345 University Avenue\, Bronx\, NY\, 10468\, United States
END:VEVENT
BEGIN:VEVENT
DTSTART;TZID=America/New_York:20280106T190000
DTEND;TZID=America/New_York:20280106T210000
DTSTAMP:20260425T100813
CREATED:20250305T041048Z
LAST-MODIFIED:20250306T225714Z
UID:10018485-1830798000-1830805200@stnicholasoftolentinebronx.org
SUMMARY:7:00 pm Círculo
DESCRIPTION:
URL:https://stnicholasoftolentinebronx.org/event/700-circulo/2028-01-06/
LOCATION:NY
END:VEVENT
BEGIN:VEVENT
DTSTART;TZID=America/New_York:20280107T083000
DTEND;TZID=America/New_York:20280107T093000
DTSTAMP:20260425T100813
CREATED:20250305T035020Z
LAST-MODIFIED:20250305T035025Z
UID:10016469-1830846600-1830850200@stnicholasoftolentinebronx.org
SUMMARY:8:30 am Spanish Mass
DESCRIPTION:
URL:https://stnicholasoftolentinebronx.org/event/830-am-spanish-mass-3/2028-01-07/
LOCATION:St Nicholas of Tolentine Church\, 2345 University Avenue\, Bronx\, NY\, 10468\, United States
END:VEVENT
BEGIN:VEVENT
DTSTART;TZID=America/New_York:20280107T120000
DTEND;TZID=America/New_York:20280107T123000
DTSTAMP:20260425T100813
CREATED:20250305T040540Z
LAST-MODIFIED:20250305T040545Z
UID:10017773-1830859200-1830861000@stnicholasoftolentinebronx.org
SUMMARY:12:00 Noon English mass
DESCRIPTION:
URL:https://stnicholasoftolentinebronx.org/event/1200-noon-english-mass/2028-01-07/
LOCATION:St Nicholas of Tolentine Church\, 2345 University Avenue\, Bronx\, NY\, 10468\, United States
END:VEVENT
BEGIN:VEVENT
DTSTART;TZID=America/New_York:20280108T074500
DTEND;TZID=America/New_York:20280108T083000
DTSTAMP:20260425T100813
CREATED:20250313T023643Z
LAST-MODIFIED:20250313T023646Z
UID:10018766-1830930300-1830933000@stnicholasoftolentinebronx.org
SUMMARY:7:45 am Vietnamese Mass
DESCRIPTION:
URL:https://stnicholasoftolentinebronx.org/event/745-am-vietnamese-mass/2028-01-08/
LOCATION:St Nicholas of Tolentine Church\, 2345 University Avenue\, Bronx\, NY\, 10468\, United States
END:VEVENT
BEGIN:VEVENT
DTSTART;TZID=America/New_York:20280108T173000
DTEND;TZID=America/New_York:20280108T183000
DTSTAMP:20260425T100813
CREATED:20250313T023751Z
LAST-MODIFIED:20250313T023752Z
UID:10019027-1830965400-1830969000@stnicholasoftolentinebronx.org
SUMMARY:5:30 pm Confessions
DESCRIPTION:
URL:https://stnicholasoftolentinebronx.org/event/530-pm-confessions/2028-01-08/
LOCATION:St Nicholas of Tolentine Church\, 2345 University Avenue\, Bronx\, NY\, 10468\, United States
END:VEVENT
BEGIN:VEVENT
DTSTART;TZID=America/New_York:20280108T190000
DTEND;TZID=America/New_York:20280108T200000
DTSTAMP:20260425T100813
CREATED:20250313T023841Z
LAST-MODIFIED:20250313T023842Z
UID:10019288-1830970800-1830974400@stnicholasoftolentinebronx.org
SUMMARY:7:00 pm Spanish Mass
DESCRIPTION:
URL:https://stnicholasoftolentinebronx.org/event/700-pm-spanish-mass/2028-01-08/
LOCATION:St Nicholas of Tolentine Church\, 2345 University Avenue\, Bronx\, NY\, 10468\, United States
END:VEVENT
BEGIN:VEVENT
DTSTART;TZID=America/New_York:20280109T080000
DTEND;TZID=America/New_York:20280109T090000
DTSTAMP:20260425T100813
CREATED:20250313T023930Z
LAST-MODIFIED:20250418T035212Z
UID:10019549-1831017600-1831021200@stnicholasoftolentinebronx.org
SUMMARY:8:00 am English Mass
DESCRIPTION:
URL:https://stnicholasoftolentinebronx.org/event/800-am-english-mass/2028-01-09/
LOCATION:St Nicholas of Tolentine Church\, 2345 University Avenue\, Bronx\, NY\, 10468\, United States
END:VEVENT
BEGIN:VEVENT
DTSTART;TZID=America/New_York:20280109T093000
DTEND;TZID=America/New_York:20280109T110000
DTSTAMP:20260425T100813
CREATED:20250313T024022Z
LAST-MODIFIED:20250313T024024Z
UID:10019810-1831023000-1831028400@stnicholasoftolentinebronx.org
SUMMARY:9:30 am Spanish Mass
DESCRIPTION:
URL:https://stnicholasoftolentinebronx.org/event/930-am-spanish-mass/2028-01-09/
LOCATION:St Nicholas of Tolentine Church\, 2345 University Avenue\, Bronx\, NY\, 10468\, United States
END:VEVENT
BEGIN:VEVENT
DTSTART;TZID=America/New_York:20280109T113000
DTEND;TZID=America/New_York:20280109T123000
DTSTAMP:20260425T100813
CREATED:20250313T024110Z
LAST-MODIFIED:20250313T024112Z
UID:10020071-1831030200-1831033800@stnicholasoftolentinebronx.org
SUMMARY:11:30 am English Mass
DESCRIPTION:
URL:https://stnicholasoftolentinebronx.org/event/1130-am-english-mass/2028-01-09/
LOCATION:St Nicholas of Tolentine Church\, 2345 University Avenue\, Bronx\, NY\, 10468\, United States
END:VEVENT
BEGIN:VEVENT
DTSTART;TZID=America/New_York:20280109T133000
DTEND;TZID=America/New_York:20280109T143000
DTSTAMP:20260425T100813
CREATED:20250313T024158Z
LAST-MODIFIED:20250313T024339Z
UID:10020332-1831037400-1831041000@stnicholasoftolentinebronx.org
SUMMARY:1:30 pm Vietnamese Mass
DESCRIPTION:
URL:https://stnicholasoftolentinebronx.org/event/130-pm-vietnamese-mass/2028-01-09/
LOCATION:St Nicholas of Tolentine Church\, 2345 University Avenue\, Bronx\, NY\, 10468\, United States
END:VEVENT
BEGIN:VEVENT
DTSTART;TZID=America/New_York:20280110T083000
DTEND;TZID=America/New_York:20280110T093000
DTSTAMP:20260425T100813
CREATED:20250305T035020Z
LAST-MODIFIED:20250305T035025Z
UID:10016470-1831105800-1831109400@stnicholasoftolentinebronx.org
SUMMARY:8:30 am Spanish Mass
DESCRIPTION:
URL:https://stnicholasoftolentinebronx.org/event/830-am-spanish-mass-3/2028-01-10/
LOCATION:St Nicholas of Tolentine Church\, 2345 University Avenue\, Bronx\, NY\, 10468\, United States
END:VEVENT
BEGIN:VEVENT
DTSTART;TZID=America/New_York:20280110T120000
DTEND;TZID=America/New_York:20280110T123000
DTSTAMP:20260425T100813
CREATED:20250305T040540Z
LAST-MODIFIED:20250305T040545Z
UID:10017774-1831118400-1831120200@stnicholasoftolentinebronx.org
SUMMARY:12:00 Noon English mass
DESCRIPTION:
URL:https://stnicholasoftolentinebronx.org/event/1200-noon-english-mass/2028-01-10/
LOCATION:St Nicholas of Tolentine Church\, 2345 University Avenue\, Bronx\, NY\, 10468\, United States
END:VEVENT
BEGIN:VEVENT
DTSTART;TZID=America/New_York:20280111T083000
DTEND;TZID=America/New_York:20280111T093000
DTSTAMP:20260425T100813
CREATED:20250305T035020Z
LAST-MODIFIED:20250305T035025Z
UID:10016471-1831192200-1831195800@stnicholasoftolentinebronx.org
SUMMARY:8:30 am Spanish Mass
DESCRIPTION:
URL:https://stnicholasoftolentinebronx.org/event/830-am-spanish-mass-3/2028-01-11/
LOCATION:St Nicholas of Tolentine Church\, 2345 University Avenue\, Bronx\, NY\, 10468\, United States
END:VEVENT
BEGIN:VEVENT
DTSTART;TZID=America/New_York:20280111T120000
DTEND;TZID=America/New_York:20280111T123000
DTSTAMP:20260425T100813
CREATED:20250305T040540Z
LAST-MODIFIED:20250305T040545Z
UID:10017775-1831204800-1831206600@stnicholasoftolentinebronx.org
SUMMARY:12:00 Noon English mass
DESCRIPTION:
URL:https://stnicholasoftolentinebronx.org/event/1200-noon-english-mass/2028-01-11/
LOCATION:St Nicholas of Tolentine Church\, 2345 University Avenue\, Bronx\, NY\, 10468\, United States
END:VEVENT
BEGIN:VEVENT
DTSTART;TZID=America/New_York:20280112T083000
DTEND;TZID=America/New_York:20280112T093000
DTSTAMP:20260425T100813
CREATED:20250305T035020Z
LAST-MODIFIED:20250305T035025Z
UID:10016472-1831278600-1831282200@stnicholasoftolentinebronx.org
SUMMARY:8:30 am Spanish Mass
DESCRIPTION:
URL:https://stnicholasoftolentinebronx.org/event/830-am-spanish-mass-3/2028-01-12/
LOCATION:St Nicholas of Tolentine Church\, 2345 University Avenue\, Bronx\, NY\, 10468\, United States
END:VEVENT
BEGIN:VEVENT
DTSTART;TZID=America/New_York:20280112T120000
DTEND;TZID=America/New_York:20280112T123000
DTSTAMP:20260425T100813
CREATED:20250305T040540Z
LAST-MODIFIED:20250305T040545Z
UID:10017776-1831291200-1831293000@stnicholasoftolentinebronx.org
SUMMARY:12:00 Noon English mass
DESCRIPTION:
URL:https://stnicholasoftolentinebronx.org/event/1200-noon-english-mass/2028-01-12/
LOCATION:St Nicholas of Tolentine Church\, 2345 University Avenue\, Bronx\, NY\, 10468\, United States
END:VEVENT
BEGIN:VEVENT
DTSTART;TZID=America/New_York:20280113T083000
DTEND;TZID=America/New_York:20280113T093000
DTSTAMP:20260425T100813
CREATED:20250305T035020Z
LAST-MODIFIED:20250305T035025Z
UID:10016473-1831365000-1831368600@stnicholasoftolentinebronx.org
SUMMARY:8:30 am Spanish Mass
DESCRIPTION:
URL:https://stnicholasoftolentinebronx.org/event/830-am-spanish-mass-3/2028-01-13/
LOCATION:St Nicholas of Tolentine Church\, 2345 University Avenue\, Bronx\, NY\, 10468\, United States
END:VEVENT
BEGIN:VEVENT
DTSTART;TZID=America/New_York:20280113T120000
DTEND;TZID=America/New_York:20280113T123000
DTSTAMP:20260425T100813
CREATED:20250305T040540Z
LAST-MODIFIED:20250305T040545Z
UID:10017777-1831377600-1831379400@stnicholasoftolentinebronx.org
SUMMARY:12:00 Noon English mass
DESCRIPTION:
URL:https://stnicholasoftolentinebronx.org/event/1200-noon-english-mass/2028-01-13/
LOCATION:St Nicholas of Tolentine Church\, 2345 University Avenue\, Bronx\, NY\, 10468\, United States
END:VEVENT
BEGIN:VEVENT
DTSTART;TZID=America/New_York:20280113T190000
DTEND;TZID=America/New_York:20280113T210000
DTSTAMP:20260425T100813
CREATED:20250305T041048Z
LAST-MODIFIED:20250306T225714Z
UID:10018486-1831402800-1831410000@stnicholasoftolentinebronx.org
SUMMARY:7:00 pm Círculo
DESCRIPTION:
URL:https://stnicholasoftolentinebronx.org/event/700-circulo/2028-01-13/
LOCATION:NY
END:VEVENT
BEGIN:VEVENT
DTSTART;TZID=America/New_York:20280114T083000
DTEND;TZID=America/New_York:20280114T093000
DTSTAMP:20260425T100813
CREATED:20250305T035020Z
LAST-MODIFIED:20250305T035025Z
UID:10016474-1831451400-1831455000@stnicholasoftolentinebronx.org
SUMMARY:8:30 am Spanish Mass
DESCRIPTION:
URL:https://stnicholasoftolentinebronx.org/event/830-am-spanish-mass-3/2028-01-14/
LOCATION:St Nicholas of Tolentine Church\, 2345 University Avenue\, Bronx\, NY\, 10468\, United States
END:VEVENT
BEGIN:VEVENT
DTSTART;TZID=America/New_York:20280114T120000
DTEND;TZID=America/New_York:20280114T123000
DTSTAMP:20260425T100813
CREATED:20250305T040540Z
LAST-MODIFIED:20250305T040545Z
UID:10017778-1831464000-1831465800@stnicholasoftolentinebronx.org
SUMMARY:12:00 Noon English mass
DESCRIPTION:
URL:https://stnicholasoftolentinebronx.org/event/1200-noon-english-mass/2028-01-14/
LOCATION:St Nicholas of Tolentine Church\, 2345 University Avenue\, Bronx\, NY\, 10468\, United States
END:VEVENT
BEGIN:VEVENT
DTSTART;TZID=America/New_York:20280115T074500
DTEND;TZID=America/New_York:20280115T083000
DTSTAMP:20260425T100813
CREATED:20250313T023643Z
LAST-MODIFIED:20250313T023646Z
UID:10018767-1831535100-1831537800@stnicholasoftolentinebronx.org
SUMMARY:7:45 am Vietnamese Mass
DESCRIPTION:
URL:https://stnicholasoftolentinebronx.org/event/745-am-vietnamese-mass/2028-01-15/
LOCATION:St Nicholas of Tolentine Church\, 2345 University Avenue\, Bronx\, NY\, 10468\, United States
END:VEVENT
BEGIN:VEVENT
DTSTART;TZID=America/New_York:20280115T173000
DTEND;TZID=America/New_York:20280115T183000
DTSTAMP:20260425T100813
CREATED:20250313T023751Z
LAST-MODIFIED:20250313T023752Z
UID:10019028-1831570200-1831573800@stnicholasoftolentinebronx.org
SUMMARY:5:30 pm Confessions
DESCRIPTION:
URL:https://stnicholasoftolentinebronx.org/event/530-pm-confessions/2028-01-15/
LOCATION:St Nicholas of Tolentine Church\, 2345 University Avenue\, Bronx\, NY\, 10468\, United States
END:VEVENT
BEGIN:VEVENT
DTSTART;TZID=America/New_York:20280115T190000
DTEND;TZID=America/New_York:20280115T200000
DTSTAMP:20260425T100813
CREATED:20250313T023841Z
LAST-MODIFIED:20250313T023842Z
UID:10019289-1831575600-1831579200@stnicholasoftolentinebronx.org
SUMMARY:7:00 pm Spanish Mass
DESCRIPTION:
URL:https://stnicholasoftolentinebronx.org/event/700-pm-spanish-mass/2028-01-15/
LOCATION:St Nicholas of Tolentine Church\, 2345 University Avenue\, Bronx\, NY\, 10468\, United States
END:VEVENT
END:VCALENDAR