BEGIN:VCALENDAR
VERSION:2.0
PRODID:-//St. Nicholas of Tolentine Church - ECPv6.15.20//NONSGML v1.0//EN
CALSCALE:GREGORIAN
METHOD:PUBLISH
X-ORIGINAL-URL:https://stnicholasoftolentinebronx.org
X-WR-CALDESC:Events for St. Nicholas of Tolentine Church
REFRESH-INTERVAL;VALUE=DURATION:PT1H
X-Robots-Tag:noindex
X-PUBLISHED-TTL:PT1H
BEGIN:VTIMEZONE
TZID:America/New_York
BEGIN:DAYLIGHT
TZOFFSETFROM:-0500
TZOFFSETTO:-0400
TZNAME:EDT
DTSTART:20270314T070000
END:DAYLIGHT
BEGIN:STANDARD
TZOFFSETFROM:-0400
TZOFFSETTO:-0500
TZNAME:EST
DTSTART:20271107T060000
END:STANDARD
BEGIN:DAYLIGHT
TZOFFSETFROM:-0500
TZOFFSETTO:-0400
TZNAME:EDT
DTSTART:20280312T070000
END:DAYLIGHT
BEGIN:STANDARD
TZOFFSETFROM:-0400
TZOFFSETTO:-0500
TZNAME:EST
DTSTART:20281105T060000
END:STANDARD
BEGIN:DAYLIGHT
TZOFFSETFROM:-0500
TZOFFSETTO:-0400
TZNAME:EDT
DTSTART:20290311T070000
END:DAYLIGHT
BEGIN:STANDARD
TZOFFSETFROM:-0400
TZOFFSETTO:-0500
TZNAME:EST
DTSTART:20291104T060000
END:STANDARD
END:VTIMEZONE
BEGIN:VEVENT
DTSTART;TZID=America/New_York:20280302T083000
DTEND;TZID=America/New_York:20280302T093000
DTSTAMP:20260425T114900
CREATED:20250305T035020Z
LAST-MODIFIED:20250305T035025Z
UID:10016508-1835598600-1835602200@stnicholasoftolentinebronx.org
SUMMARY:8:30 am Spanish Mass
DESCRIPTION:
URL:https://stnicholasoftolentinebronx.org/event/830-am-spanish-mass-3/2028-03-02/
LOCATION:St Nicholas of Tolentine Church\, 2345 University Avenue\, Bronx\, NY\, 10468\, United States
END:VEVENT
BEGIN:VEVENT
DTSTART;TZID=America/New_York:20280302T120000
DTEND;TZID=America/New_York:20280302T123000
DTSTAMP:20260425T114900
CREATED:20250305T040540Z
LAST-MODIFIED:20250305T040545Z
UID:10017812-1835611200-1835613000@stnicholasoftolentinebronx.org
SUMMARY:12:00 Noon English mass
DESCRIPTION:
URL:https://stnicholasoftolentinebronx.org/event/1200-noon-english-mass/2028-03-02/
LOCATION:St Nicholas of Tolentine Church\, 2345 University Avenue\, Bronx\, NY\, 10468\, United States
END:VEVENT
BEGIN:VEVENT
DTSTART;TZID=America/New_York:20280302T190000
DTEND;TZID=America/New_York:20280302T210000
DTSTAMP:20260425T114900
CREATED:20250305T041048Z
LAST-MODIFIED:20250306T225714Z
UID:10018493-1835636400-1835643600@stnicholasoftolentinebronx.org
SUMMARY:7:00 pm Círculo
DESCRIPTION:
URL:https://stnicholasoftolentinebronx.org/event/700-circulo/2028-03-02/
LOCATION:NY
END:VEVENT
BEGIN:VEVENT
DTSTART;TZID=America/New_York:20280303T083000
DTEND;TZID=America/New_York:20280303T093000
DTSTAMP:20260425T114900
CREATED:20250305T035020Z
LAST-MODIFIED:20250305T035025Z
UID:10016509-1835685000-1835688600@stnicholasoftolentinebronx.org
SUMMARY:8:30 am Spanish Mass
DESCRIPTION:
URL:https://stnicholasoftolentinebronx.org/event/830-am-spanish-mass-3/2028-03-03/
LOCATION:St Nicholas of Tolentine Church\, 2345 University Avenue\, Bronx\, NY\, 10468\, United States
END:VEVENT
BEGIN:VEVENT
DTSTART;TZID=America/New_York:20280303T120000
DTEND;TZID=America/New_York:20280303T123000
DTSTAMP:20260425T114900
CREATED:20250305T040540Z
LAST-MODIFIED:20250305T040545Z
UID:10017813-1835697600-1835699400@stnicholasoftolentinebronx.org
SUMMARY:12:00 Noon English mass
DESCRIPTION:
URL:https://stnicholasoftolentinebronx.org/event/1200-noon-english-mass/2028-03-03/
LOCATION:St Nicholas of Tolentine Church\, 2345 University Avenue\, Bronx\, NY\, 10468\, United States
END:VEVENT
BEGIN:VEVENT
DTSTART;TZID=America/New_York:20280304T074500
DTEND;TZID=America/New_York:20280304T083000
DTSTAMP:20260425T114900
CREATED:20250313T023643Z
LAST-MODIFIED:20250313T023646Z
UID:10018774-1835768700-1835771400@stnicholasoftolentinebronx.org
SUMMARY:7:45 am Vietnamese Mass
DESCRIPTION:
URL:https://stnicholasoftolentinebronx.org/event/745-am-vietnamese-mass/2028-03-04/
LOCATION:St Nicholas of Tolentine Church\, 2345 University Avenue\, Bronx\, NY\, 10468\, United States
END:VEVENT
BEGIN:VEVENT
DTSTART;TZID=America/New_York:20280304T173000
DTEND;TZID=America/New_York:20280304T183000
DTSTAMP:20260425T114900
CREATED:20250313T023751Z
LAST-MODIFIED:20250313T023752Z
UID:10019035-1835803800-1835807400@stnicholasoftolentinebronx.org
SUMMARY:5:30 pm Confessions
DESCRIPTION:
URL:https://stnicholasoftolentinebronx.org/event/530-pm-confessions/2028-03-04/
LOCATION:St Nicholas of Tolentine Church\, 2345 University Avenue\, Bronx\, NY\, 10468\, United States
END:VEVENT
BEGIN:VEVENT
DTSTART;TZID=America/New_York:20280304T190000
DTEND;TZID=America/New_York:20280304T200000
DTSTAMP:20260425T114900
CREATED:20250313T023841Z
LAST-MODIFIED:20250313T023842Z
UID:10019296-1835809200-1835812800@stnicholasoftolentinebronx.org
SUMMARY:7:00 pm Spanish Mass
DESCRIPTION:
URL:https://stnicholasoftolentinebronx.org/event/700-pm-spanish-mass/2028-03-04/
LOCATION:St Nicholas of Tolentine Church\, 2345 University Avenue\, Bronx\, NY\, 10468\, United States
END:VEVENT
BEGIN:VEVENT
DTSTART;TZID=America/New_York:20280305T080000
DTEND;TZID=America/New_York:20280305T090000
DTSTAMP:20260425T114900
CREATED:20250313T023930Z
LAST-MODIFIED:20250418T035212Z
UID:10019557-1835856000-1835859600@stnicholasoftolentinebronx.org
SUMMARY:8:00 am English Mass
DESCRIPTION:
URL:https://stnicholasoftolentinebronx.org/event/800-am-english-mass/2028-03-05/
LOCATION:St Nicholas of Tolentine Church\, 2345 University Avenue\, Bronx\, NY\, 10468\, United States
END:VEVENT
BEGIN:VEVENT
DTSTART;TZID=America/New_York:20280305T093000
DTEND;TZID=America/New_York:20280305T110000
DTSTAMP:20260425T114900
CREATED:20250313T024022Z
LAST-MODIFIED:20250313T024024Z
UID:10019818-1835861400-1835866800@stnicholasoftolentinebronx.org
SUMMARY:9:30 am Spanish Mass
DESCRIPTION:
URL:https://stnicholasoftolentinebronx.org/event/930-am-spanish-mass/2028-03-05/
LOCATION:St Nicholas of Tolentine Church\, 2345 University Avenue\, Bronx\, NY\, 10468\, United States
END:VEVENT
BEGIN:VEVENT
DTSTART;TZID=America/New_York:20280305T113000
DTEND;TZID=America/New_York:20280305T123000
DTSTAMP:20260425T114900
CREATED:20250313T024110Z
LAST-MODIFIED:20250313T024112Z
UID:10020079-1835868600-1835872200@stnicholasoftolentinebronx.org
SUMMARY:11:30 am English Mass
DESCRIPTION:
URL:https://stnicholasoftolentinebronx.org/event/1130-am-english-mass/2028-03-05/
LOCATION:St Nicholas of Tolentine Church\, 2345 University Avenue\, Bronx\, NY\, 10468\, United States
END:VEVENT
BEGIN:VEVENT
DTSTART;TZID=America/New_York:20280305T133000
DTEND;TZID=America/New_York:20280305T143000
DTSTAMP:20260425T114900
CREATED:20250313T024158Z
LAST-MODIFIED:20250313T024339Z
UID:10020340-1835875800-1835879400@stnicholasoftolentinebronx.org
SUMMARY:1:30 pm Vietnamese Mass
DESCRIPTION:
URL:https://stnicholasoftolentinebronx.org/event/130-pm-vietnamese-mass/2028-03-05/
LOCATION:St Nicholas of Tolentine Church\, 2345 University Avenue\, Bronx\, NY\, 10468\, United States
END:VEVENT
BEGIN:VEVENT
DTSTART;TZID=America/New_York:20280306T083000
DTEND;TZID=America/New_York:20280306T093000
DTSTAMP:20260425T114900
CREATED:20250305T035020Z
LAST-MODIFIED:20250305T035025Z
UID:10016510-1835944200-1835947800@stnicholasoftolentinebronx.org
SUMMARY:8:30 am Spanish Mass
DESCRIPTION:
URL:https://stnicholasoftolentinebronx.org/event/830-am-spanish-mass-3/2028-03-06/
LOCATION:St Nicholas of Tolentine Church\, 2345 University Avenue\, Bronx\, NY\, 10468\, United States
END:VEVENT
BEGIN:VEVENT
DTSTART;TZID=America/New_York:20280306T120000
DTEND;TZID=America/New_York:20280306T123000
DTSTAMP:20260425T114900
CREATED:20250305T040540Z
LAST-MODIFIED:20250305T040545Z
UID:10017814-1835956800-1835958600@stnicholasoftolentinebronx.org
SUMMARY:12:00 Noon English mass
DESCRIPTION:
URL:https://stnicholasoftolentinebronx.org/event/1200-noon-english-mass/2028-03-06/
LOCATION:St Nicholas of Tolentine Church\, 2345 University Avenue\, Bronx\, NY\, 10468\, United States
END:VEVENT
BEGIN:VEVENT
DTSTART;TZID=America/New_York:20280307T083000
DTEND;TZID=America/New_York:20280307T093000
DTSTAMP:20260425T114900
CREATED:20250305T035020Z
LAST-MODIFIED:20250305T035025Z
UID:10016511-1836030600-1836034200@stnicholasoftolentinebronx.org
SUMMARY:8:30 am Spanish Mass
DESCRIPTION:
URL:https://stnicholasoftolentinebronx.org/event/830-am-spanish-mass-3/2028-03-07/
LOCATION:St Nicholas of Tolentine Church\, 2345 University Avenue\, Bronx\, NY\, 10468\, United States
END:VEVENT
BEGIN:VEVENT
DTSTART;TZID=America/New_York:20280307T120000
DTEND;TZID=America/New_York:20280307T123000
DTSTAMP:20260425T114900
CREATED:20250305T040540Z
LAST-MODIFIED:20250305T040545Z
UID:10017815-1836043200-1836045000@stnicholasoftolentinebronx.org
SUMMARY:12:00 Noon English mass
DESCRIPTION:
URL:https://stnicholasoftolentinebronx.org/event/1200-noon-english-mass/2028-03-07/
LOCATION:St Nicholas of Tolentine Church\, 2345 University Avenue\, Bronx\, NY\, 10468\, United States
END:VEVENT
BEGIN:VEVENT
DTSTART;TZID=America/New_York:20280308T083000
DTEND;TZID=America/New_York:20280308T093000
DTSTAMP:20260425T114900
CREATED:20250305T035020Z
LAST-MODIFIED:20250305T035025Z
UID:10016512-1836117000-1836120600@stnicholasoftolentinebronx.org
SUMMARY:8:30 am Spanish Mass
DESCRIPTION:
URL:https://stnicholasoftolentinebronx.org/event/830-am-spanish-mass-3/2028-03-08/
LOCATION:St Nicholas of Tolentine Church\, 2345 University Avenue\, Bronx\, NY\, 10468\, United States
END:VEVENT
BEGIN:VEVENT
DTSTART;TZID=America/New_York:20280308T120000
DTEND;TZID=America/New_York:20280308T123000
DTSTAMP:20260425T114900
CREATED:20250305T040540Z
LAST-MODIFIED:20250305T040545Z
UID:10017816-1836129600-1836131400@stnicholasoftolentinebronx.org
SUMMARY:12:00 Noon English mass
DESCRIPTION:
URL:https://stnicholasoftolentinebronx.org/event/1200-noon-english-mass/2028-03-08/
LOCATION:St Nicholas of Tolentine Church\, 2345 University Avenue\, Bronx\, NY\, 10468\, United States
END:VEVENT
BEGIN:VEVENT
DTSTART;TZID=America/New_York:20280309T083000
DTEND;TZID=America/New_York:20280309T093000
DTSTAMP:20260425T114900
CREATED:20250305T035020Z
LAST-MODIFIED:20250305T035025Z
UID:10016513-1836203400-1836207000@stnicholasoftolentinebronx.org
SUMMARY:8:30 am Spanish Mass
DESCRIPTION:
URL:https://stnicholasoftolentinebronx.org/event/830-am-spanish-mass-3/2028-03-09/
LOCATION:St Nicholas of Tolentine Church\, 2345 University Avenue\, Bronx\, NY\, 10468\, United States
END:VEVENT
BEGIN:VEVENT
DTSTART;TZID=America/New_York:20280309T120000
DTEND;TZID=America/New_York:20280309T123000
DTSTAMP:20260425T114900
CREATED:20250305T040540Z
LAST-MODIFIED:20250305T040545Z
UID:10017817-1836216000-1836217800@stnicholasoftolentinebronx.org
SUMMARY:12:00 Noon English mass
DESCRIPTION:
URL:https://stnicholasoftolentinebronx.org/event/1200-noon-english-mass/2028-03-09/
LOCATION:St Nicholas of Tolentine Church\, 2345 University Avenue\, Bronx\, NY\, 10468\, United States
END:VEVENT
BEGIN:VEVENT
DTSTART;TZID=America/New_York:20280309T190000
DTEND;TZID=America/New_York:20280309T210000
DTSTAMP:20260425T114900
CREATED:20250305T041048Z
LAST-MODIFIED:20250306T225714Z
UID:10018494-1836241200-1836248400@stnicholasoftolentinebronx.org
SUMMARY:7:00 pm Círculo
DESCRIPTION:
URL:https://stnicholasoftolentinebronx.org/event/700-circulo/2028-03-09/
LOCATION:NY
END:VEVENT
BEGIN:VEVENT
DTSTART;TZID=America/New_York:20280310T083000
DTEND;TZID=America/New_York:20280310T093000
DTSTAMP:20260425T114900
CREATED:20250305T035020Z
LAST-MODIFIED:20250305T035025Z
UID:10016514-1836289800-1836293400@stnicholasoftolentinebronx.org
SUMMARY:8:30 am Spanish Mass
DESCRIPTION:
URL:https://stnicholasoftolentinebronx.org/event/830-am-spanish-mass-3/2028-03-10/
LOCATION:St Nicholas of Tolentine Church\, 2345 University Avenue\, Bronx\, NY\, 10468\, United States
END:VEVENT
BEGIN:VEVENT
DTSTART;TZID=America/New_York:20280310T120000
DTEND;TZID=America/New_York:20280310T123000
DTSTAMP:20260425T114900
CREATED:20250305T040540Z
LAST-MODIFIED:20250305T040545Z
UID:10017818-1836302400-1836304200@stnicholasoftolentinebronx.org
SUMMARY:12:00 Noon English mass
DESCRIPTION:
URL:https://stnicholasoftolentinebronx.org/event/1200-noon-english-mass/2028-03-10/
LOCATION:St Nicholas of Tolentine Church\, 2345 University Avenue\, Bronx\, NY\, 10468\, United States
END:VEVENT
BEGIN:VEVENT
DTSTART;TZID=America/New_York:20280311T074500
DTEND;TZID=America/New_York:20280311T083000
DTSTAMP:20260425T114900
CREATED:20250313T023643Z
LAST-MODIFIED:20250313T023646Z
UID:10018775-1836373500-1836376200@stnicholasoftolentinebronx.org
SUMMARY:7:45 am Vietnamese Mass
DESCRIPTION:
URL:https://stnicholasoftolentinebronx.org/event/745-am-vietnamese-mass/2028-03-11/
LOCATION:St Nicholas of Tolentine Church\, 2345 University Avenue\, Bronx\, NY\, 10468\, United States
END:VEVENT
BEGIN:VEVENT
DTSTART;TZID=America/New_York:20280311T173000
DTEND;TZID=America/New_York:20280311T183000
DTSTAMP:20260425T114900
CREATED:20250313T023751Z
LAST-MODIFIED:20250313T023752Z
UID:10019036-1836408600-1836412200@stnicholasoftolentinebronx.org
SUMMARY:5:30 pm Confessions
DESCRIPTION:
URL:https://stnicholasoftolentinebronx.org/event/530-pm-confessions/2028-03-11/
LOCATION:St Nicholas of Tolentine Church\, 2345 University Avenue\, Bronx\, NY\, 10468\, United States
END:VEVENT
BEGIN:VEVENT
DTSTART;TZID=America/New_York:20280311T190000
DTEND;TZID=America/New_York:20280311T200000
DTSTAMP:20260425T114900
CREATED:20250313T023841Z
LAST-MODIFIED:20250313T023842Z
UID:10019297-1836414000-1836417600@stnicholasoftolentinebronx.org
SUMMARY:7:00 pm Spanish Mass
DESCRIPTION:
URL:https://stnicholasoftolentinebronx.org/event/700-pm-spanish-mass/2028-03-11/
LOCATION:St Nicholas of Tolentine Church\, 2345 University Avenue\, Bronx\, NY\, 10468\, United States
END:VEVENT
BEGIN:VEVENT
DTSTART;TZID=America/New_York:20280312T080000
DTEND;TZID=America/New_York:20280312T090000
DTSTAMP:20260425T114900
CREATED:20250313T023930Z
LAST-MODIFIED:20250418T035212Z
UID:10019558-1836460800-1836464400@stnicholasoftolentinebronx.org
SUMMARY:8:00 am English Mass
DESCRIPTION:
URL:https://stnicholasoftolentinebronx.org/event/800-am-english-mass/2028-03-12/
LOCATION:St Nicholas of Tolentine Church\, 2345 University Avenue\, Bronx\, NY\, 10468\, United States
END:VEVENT
BEGIN:VEVENT
DTSTART;TZID=America/New_York:20280312T093000
DTEND;TZID=America/New_York:20280312T110000
DTSTAMP:20260425T114900
CREATED:20250313T024022Z
LAST-MODIFIED:20250313T024024Z
UID:10019819-1836466200-1836471600@stnicholasoftolentinebronx.org
SUMMARY:9:30 am Spanish Mass
DESCRIPTION:
URL:https://stnicholasoftolentinebronx.org/event/930-am-spanish-mass/2028-03-12/
LOCATION:St Nicholas of Tolentine Church\, 2345 University Avenue\, Bronx\, NY\, 10468\, United States
END:VEVENT
BEGIN:VEVENT
DTSTART;TZID=America/New_York:20280312T113000
DTEND;TZID=America/New_York:20280312T123000
DTSTAMP:20260425T114900
CREATED:20250313T024110Z
LAST-MODIFIED:20250313T024112Z
UID:10020080-1836473400-1836477000@stnicholasoftolentinebronx.org
SUMMARY:11:30 am English Mass
DESCRIPTION:
URL:https://stnicholasoftolentinebronx.org/event/1130-am-english-mass/2028-03-12/
LOCATION:St Nicholas of Tolentine Church\, 2345 University Avenue\, Bronx\, NY\, 10468\, United States
END:VEVENT
BEGIN:VEVENT
DTSTART;TZID=America/New_York:20280312T133000
DTEND;TZID=America/New_York:20280312T143000
DTSTAMP:20260425T114900
CREATED:20250313T024158Z
LAST-MODIFIED:20250313T024339Z
UID:10020341-1836480600-1836484200@stnicholasoftolentinebronx.org
SUMMARY:1:30 pm Vietnamese Mass
DESCRIPTION:
URL:https://stnicholasoftolentinebronx.org/event/130-pm-vietnamese-mass/2028-03-12/
LOCATION:St Nicholas of Tolentine Church\, 2345 University Avenue\, Bronx\, NY\, 10468\, United States
END:VEVENT
END:VCALENDAR