BEGIN:VCALENDAR
VERSION:2.0
PRODID:-//St. Nicholas of Tolentine Church - ECPv6.15.20//NONSGML v1.0//EN
CALSCALE:GREGORIAN
METHOD:PUBLISH
X-WR-CALNAME:St. Nicholas of Tolentine Church
X-ORIGINAL-URL:https://stnicholasoftolentinebronx.org
X-WR-CALDESC:Events for St. Nicholas of Tolentine Church
REFRESH-INTERVAL;VALUE=DURATION:PT1H
X-Robots-Tag:noindex
X-PUBLISHED-TTL:PT1H
BEGIN:VTIMEZONE
TZID:America/New_York
BEGIN:DAYLIGHT
TZOFFSETFROM:-0500
TZOFFSETTO:-0400
TZNAME:EDT
DTSTART:20270314T070000
END:DAYLIGHT
BEGIN:STANDARD
TZOFFSETFROM:-0400
TZOFFSETTO:-0500
TZNAME:EST
DTSTART:20271107T060000
END:STANDARD
BEGIN:DAYLIGHT
TZOFFSETFROM:-0500
TZOFFSETTO:-0400
TZNAME:EDT
DTSTART:20280312T070000
END:DAYLIGHT
BEGIN:STANDARD
TZOFFSETFROM:-0400
TZOFFSETTO:-0500
TZNAME:EST
DTSTART:20281105T060000
END:STANDARD
BEGIN:DAYLIGHT
TZOFFSETFROM:-0500
TZOFFSETTO:-0400
TZNAME:EDT
DTSTART:20290311T070000
END:DAYLIGHT
BEGIN:STANDARD
TZOFFSETFROM:-0400
TZOFFSETTO:-0500
TZNAME:EST
DTSTART:20291104T060000
END:STANDARD
END:VTIMEZONE
BEGIN:VEVENT
DTSTART;TZID=America/New_York:20280729T074500
DTEND;TZID=America/New_York:20280729T083000
DTSTAMP:20260425T213846
CREATED:20250313T023643Z
LAST-MODIFIED:20250313T023646Z
UID:10018795-1848469500-1848472200@stnicholasoftolentinebronx.org
SUMMARY:7:45 am Vietnamese Mass
DESCRIPTION:
URL:https://stnicholasoftolentinebronx.org/event/745-am-vietnamese-mass/2028-07-29/
LOCATION:St Nicholas of Tolentine Church\, 2345 University Avenue\, Bronx\, NY\, 10468\, United States
END:VEVENT
BEGIN:VEVENT
DTSTART;TZID=America/New_York:20280729T173000
DTEND;TZID=America/New_York:20280729T183000
DTSTAMP:20260425T213846
CREATED:20250313T023751Z
LAST-MODIFIED:20250313T023752Z
UID:10019056-1848504600-1848508200@stnicholasoftolentinebronx.org
SUMMARY:5:30 pm Confessions
DESCRIPTION:
URL:https://stnicholasoftolentinebronx.org/event/530-pm-confessions/2028-07-29/
LOCATION:St Nicholas of Tolentine Church\, 2345 University Avenue\, Bronx\, NY\, 10468\, United States
END:VEVENT
BEGIN:VEVENT
DTSTART;TZID=America/New_York:20280729T190000
DTEND;TZID=America/New_York:20280729T200000
DTSTAMP:20260425T213846
CREATED:20250313T023841Z
LAST-MODIFIED:20250313T023842Z
UID:10019317-1848510000-1848513600@stnicholasoftolentinebronx.org
SUMMARY:7:00 pm Spanish Mass
DESCRIPTION:
URL:https://stnicholasoftolentinebronx.org/event/700-pm-spanish-mass/2028-07-29/
LOCATION:St Nicholas of Tolentine Church\, 2345 University Avenue\, Bronx\, NY\, 10468\, United States
END:VEVENT
BEGIN:VEVENT
DTSTART;TZID=America/New_York:20280730T080000
DTEND;TZID=America/New_York:20280730T090000
DTSTAMP:20260425T213846
CREATED:20250313T023930Z
LAST-MODIFIED:20250418T035212Z
UID:10019578-1848556800-1848560400@stnicholasoftolentinebronx.org
SUMMARY:8:00 am English Mass
DESCRIPTION:
URL:https://stnicholasoftolentinebronx.org/event/800-am-english-mass/2028-07-30/
LOCATION:St Nicholas of Tolentine Church\, 2345 University Avenue\, Bronx\, NY\, 10468\, United States
END:VEVENT
BEGIN:VEVENT
DTSTART;TZID=America/New_York:20280730T093000
DTEND;TZID=America/New_York:20280730T110000
DTSTAMP:20260425T213846
CREATED:20250313T024022Z
LAST-MODIFIED:20250313T024024Z
UID:10019839-1848562200-1848567600@stnicholasoftolentinebronx.org
SUMMARY:9:30 am Spanish Mass
DESCRIPTION:
URL:https://stnicholasoftolentinebronx.org/event/930-am-spanish-mass/2028-07-30/
LOCATION:St Nicholas of Tolentine Church\, 2345 University Avenue\, Bronx\, NY\, 10468\, United States
END:VEVENT
BEGIN:VEVENT
DTSTART;TZID=America/New_York:20280730T113000
DTEND;TZID=America/New_York:20280730T123000
DTSTAMP:20260425T213846
CREATED:20250313T024110Z
LAST-MODIFIED:20250313T024112Z
UID:10020100-1848569400-1848573000@stnicholasoftolentinebronx.org
SUMMARY:11:30 am English Mass
DESCRIPTION:
URL:https://stnicholasoftolentinebronx.org/event/1130-am-english-mass/2028-07-30/
LOCATION:St Nicholas of Tolentine Church\, 2345 University Avenue\, Bronx\, NY\, 10468\, United States
END:VEVENT
BEGIN:VEVENT
DTSTART;TZID=America/New_York:20280730T133000
DTEND;TZID=America/New_York:20280730T143000
DTSTAMP:20260425T213846
CREATED:20250313T024158Z
LAST-MODIFIED:20250313T024339Z
UID:10020361-1848576600-1848580200@stnicholasoftolentinebronx.org
SUMMARY:1:30 pm Vietnamese Mass
DESCRIPTION:
URL:https://stnicholasoftolentinebronx.org/event/130-pm-vietnamese-mass/2028-07-30/
LOCATION:St Nicholas of Tolentine Church\, 2345 University Avenue\, Bronx\, NY\, 10468\, United States
END:VEVENT
BEGIN:VEVENT
DTSTART;TZID=America/New_York:20280731T083000
DTEND;TZID=America/New_York:20280731T093000
DTSTAMP:20260425T213846
CREATED:20250305T035020Z
LAST-MODIFIED:20250305T035025Z
UID:10016615-1848645000-1848648600@stnicholasoftolentinebronx.org
SUMMARY:8:30 am Spanish Mass
DESCRIPTION:
URL:https://stnicholasoftolentinebronx.org/event/830-am-spanish-mass-3/2028-07-31/
LOCATION:St Nicholas of Tolentine Church\, 2345 University Avenue\, Bronx\, NY\, 10468\, United States
END:VEVENT
BEGIN:VEVENT
DTSTART;TZID=America/New_York:20280731T120000
DTEND;TZID=America/New_York:20280731T123000
DTSTAMP:20260425T213846
CREATED:20250305T040540Z
LAST-MODIFIED:20250305T040545Z
UID:10017919-1848657600-1848659400@stnicholasoftolentinebronx.org
SUMMARY:12:00 Noon English mass
DESCRIPTION:
URL:https://stnicholasoftolentinebronx.org/event/1200-noon-english-mass/2028-07-31/
LOCATION:St Nicholas of Tolentine Church\, 2345 University Avenue\, Bronx\, NY\, 10468\, United States
END:VEVENT
BEGIN:VEVENT
DTSTART;TZID=America/New_York:20280801T083000
DTEND;TZID=America/New_York:20280801T093000
DTSTAMP:20260425T213846
CREATED:20250305T035020Z
LAST-MODIFIED:20250305T035025Z
UID:10016616-1848731400-1848735000@stnicholasoftolentinebronx.org
SUMMARY:8:30 am Spanish Mass
DESCRIPTION:
URL:https://stnicholasoftolentinebronx.org/event/830-am-spanish-mass-3/2028-08-01/
LOCATION:St Nicholas of Tolentine Church\, 2345 University Avenue\, Bronx\, NY\, 10468\, United States
END:VEVENT
BEGIN:VEVENT
DTSTART;TZID=America/New_York:20280801T120000
DTEND;TZID=America/New_York:20280801T123000
DTSTAMP:20260425T213846
CREATED:20250305T040540Z
LAST-MODIFIED:20250305T040545Z
UID:10017920-1848744000-1848745800@stnicholasoftolentinebronx.org
SUMMARY:12:00 Noon English mass
DESCRIPTION:
URL:https://stnicholasoftolentinebronx.org/event/1200-noon-english-mass/2028-08-01/
LOCATION:St Nicholas of Tolentine Church\, 2345 University Avenue\, Bronx\, NY\, 10468\, United States
END:VEVENT
BEGIN:VEVENT
DTSTART;TZID=America/New_York:20280802T083000
DTEND;TZID=America/New_York:20280802T093000
DTSTAMP:20260425T213846
CREATED:20250305T035020Z
LAST-MODIFIED:20250305T035025Z
UID:10016617-1848817800-1848821400@stnicholasoftolentinebronx.org
SUMMARY:8:30 am Spanish Mass
DESCRIPTION:
URL:https://stnicholasoftolentinebronx.org/event/830-am-spanish-mass-3/2028-08-02/
LOCATION:St Nicholas of Tolentine Church\, 2345 University Avenue\, Bronx\, NY\, 10468\, United States
END:VEVENT
BEGIN:VEVENT
DTSTART;TZID=America/New_York:20280802T120000
DTEND;TZID=America/New_York:20280802T123000
DTSTAMP:20260425T213846
CREATED:20250305T040540Z
LAST-MODIFIED:20250305T040545Z
UID:10017921-1848830400-1848832200@stnicholasoftolentinebronx.org
SUMMARY:12:00 Noon English mass
DESCRIPTION:
URL:https://stnicholasoftolentinebronx.org/event/1200-noon-english-mass/2028-08-02/
LOCATION:St Nicholas of Tolentine Church\, 2345 University Avenue\, Bronx\, NY\, 10468\, United States
END:VEVENT
BEGIN:VEVENT
DTSTART;TZID=America/New_York:20280803T083000
DTEND;TZID=America/New_York:20280803T093000
DTSTAMP:20260425T213846
CREATED:20250305T035020Z
LAST-MODIFIED:20250305T035025Z
UID:10016618-1848904200-1848907800@stnicholasoftolentinebronx.org
SUMMARY:8:30 am Spanish Mass
DESCRIPTION:
URL:https://stnicholasoftolentinebronx.org/event/830-am-spanish-mass-3/2028-08-03/
LOCATION:St Nicholas of Tolentine Church\, 2345 University Avenue\, Bronx\, NY\, 10468\, United States
END:VEVENT
BEGIN:VEVENT
DTSTART;TZID=America/New_York:20280803T120000
DTEND;TZID=America/New_York:20280803T123000
DTSTAMP:20260425T213846
CREATED:20250305T040540Z
LAST-MODIFIED:20250305T040545Z
UID:10017922-1848916800-1848918600@stnicholasoftolentinebronx.org
SUMMARY:12:00 Noon English mass
DESCRIPTION:
URL:https://stnicholasoftolentinebronx.org/event/1200-noon-english-mass/2028-08-03/
LOCATION:St Nicholas of Tolentine Church\, 2345 University Avenue\, Bronx\, NY\, 10468\, United States
END:VEVENT
BEGIN:VEVENT
DTSTART;TZID=America/New_York:20280803T190000
DTEND;TZID=America/New_York:20280803T210000
DTSTAMP:20260425T213846
CREATED:20250305T041048Z
LAST-MODIFIED:20250306T225714Z
UID:10018515-1848942000-1848949200@stnicholasoftolentinebronx.org
SUMMARY:7:00 pm Círculo
DESCRIPTION:
URL:https://stnicholasoftolentinebronx.org/event/700-circulo/2028-08-03/
LOCATION:NY
END:VEVENT
BEGIN:VEVENT
DTSTART;TZID=America/New_York:20280804T083000
DTEND;TZID=America/New_York:20280804T093000
DTSTAMP:20260425T213846
CREATED:20250305T035020Z
LAST-MODIFIED:20250305T035025Z
UID:10016619-1848990600-1848994200@stnicholasoftolentinebronx.org
SUMMARY:8:30 am Spanish Mass
DESCRIPTION:
URL:https://stnicholasoftolentinebronx.org/event/830-am-spanish-mass-3/2028-08-04/
LOCATION:St Nicholas of Tolentine Church\, 2345 University Avenue\, Bronx\, NY\, 10468\, United States
END:VEVENT
BEGIN:VEVENT
DTSTART;TZID=America/New_York:20280804T120000
DTEND;TZID=America/New_York:20280804T123000
DTSTAMP:20260425T213846
CREATED:20250305T040540Z
LAST-MODIFIED:20250305T040545Z
UID:10017923-1849003200-1849005000@stnicholasoftolentinebronx.org
SUMMARY:12:00 Noon English mass
DESCRIPTION:
URL:https://stnicholasoftolentinebronx.org/event/1200-noon-english-mass/2028-08-04/
LOCATION:St Nicholas of Tolentine Church\, 2345 University Avenue\, Bronx\, NY\, 10468\, United States
END:VEVENT
BEGIN:VEVENT
DTSTART;TZID=America/New_York:20280805T074500
DTEND;TZID=America/New_York:20280805T083000
DTSTAMP:20260425T213846
CREATED:20250313T023643Z
LAST-MODIFIED:20250313T023646Z
UID:10018796-1849074300-1849077000@stnicholasoftolentinebronx.org
SUMMARY:7:45 am Vietnamese Mass
DESCRIPTION:
URL:https://stnicholasoftolentinebronx.org/event/745-am-vietnamese-mass/2028-08-05/
LOCATION:St Nicholas of Tolentine Church\, 2345 University Avenue\, Bronx\, NY\, 10468\, United States
END:VEVENT
BEGIN:VEVENT
DTSTART;TZID=America/New_York:20280805T173000
DTEND;TZID=America/New_York:20280805T183000
DTSTAMP:20260425T213846
CREATED:20250313T023751Z
LAST-MODIFIED:20250313T023752Z
UID:10019057-1849109400-1849113000@stnicholasoftolentinebronx.org
SUMMARY:5:30 pm Confessions
DESCRIPTION:
URL:https://stnicholasoftolentinebronx.org/event/530-pm-confessions/2028-08-05/
LOCATION:St Nicholas of Tolentine Church\, 2345 University Avenue\, Bronx\, NY\, 10468\, United States
END:VEVENT
BEGIN:VEVENT
DTSTART;TZID=America/New_York:20280805T190000
DTEND;TZID=America/New_York:20280805T200000
DTSTAMP:20260425T213846
CREATED:20250313T023841Z
LAST-MODIFIED:20250313T023842Z
UID:10019318-1849114800-1849118400@stnicholasoftolentinebronx.org
SUMMARY:7:00 pm Spanish Mass
DESCRIPTION:
URL:https://stnicholasoftolentinebronx.org/event/700-pm-spanish-mass/2028-08-05/
LOCATION:St Nicholas of Tolentine Church\, 2345 University Avenue\, Bronx\, NY\, 10468\, United States
END:VEVENT
BEGIN:VEVENT
DTSTART;TZID=America/New_York:20280806T080000
DTEND;TZID=America/New_York:20280806T090000
DTSTAMP:20260425T213846
CREATED:20250313T023930Z
LAST-MODIFIED:20250418T035212Z
UID:10019579-1849161600-1849165200@stnicholasoftolentinebronx.org
SUMMARY:8:00 am English Mass
DESCRIPTION:
URL:https://stnicholasoftolentinebronx.org/event/800-am-english-mass/2028-08-06/
LOCATION:St Nicholas of Tolentine Church\, 2345 University Avenue\, Bronx\, NY\, 10468\, United States
END:VEVENT
BEGIN:VEVENT
DTSTART;TZID=America/New_York:20280806T093000
DTEND;TZID=America/New_York:20280806T110000
DTSTAMP:20260425T213846
CREATED:20250313T024022Z
LAST-MODIFIED:20250313T024024Z
UID:10019840-1849167000-1849172400@stnicholasoftolentinebronx.org
SUMMARY:9:30 am Spanish Mass
DESCRIPTION:
URL:https://stnicholasoftolentinebronx.org/event/930-am-spanish-mass/2028-08-06/
LOCATION:St Nicholas of Tolentine Church\, 2345 University Avenue\, Bronx\, NY\, 10468\, United States
END:VEVENT
BEGIN:VEVENT
DTSTART;TZID=America/New_York:20280806T113000
DTEND;TZID=America/New_York:20280806T123000
DTSTAMP:20260425T213846
CREATED:20250313T024110Z
LAST-MODIFIED:20250313T024112Z
UID:10020101-1849174200-1849177800@stnicholasoftolentinebronx.org
SUMMARY:11:30 am English Mass
DESCRIPTION:
URL:https://stnicholasoftolentinebronx.org/event/1130-am-english-mass/2028-08-06/
LOCATION:St Nicholas of Tolentine Church\, 2345 University Avenue\, Bronx\, NY\, 10468\, United States
END:VEVENT
BEGIN:VEVENT
DTSTART;TZID=America/New_York:20280806T133000
DTEND;TZID=America/New_York:20280806T143000
DTSTAMP:20260425T213846
CREATED:20250313T024158Z
LAST-MODIFIED:20250313T024339Z
UID:10020362-1849181400-1849185000@stnicholasoftolentinebronx.org
SUMMARY:1:30 pm Vietnamese Mass
DESCRIPTION:
URL:https://stnicholasoftolentinebronx.org/event/130-pm-vietnamese-mass/2028-08-06/
LOCATION:St Nicholas of Tolentine Church\, 2345 University Avenue\, Bronx\, NY\, 10468\, United States
END:VEVENT
BEGIN:VEVENT
DTSTART;TZID=America/New_York:20280807T083000
DTEND;TZID=America/New_York:20280807T093000
DTSTAMP:20260425T213846
CREATED:20250305T035020Z
LAST-MODIFIED:20250305T035025Z
UID:10016620-1849249800-1849253400@stnicholasoftolentinebronx.org
SUMMARY:8:30 am Spanish Mass
DESCRIPTION:
URL:https://stnicholasoftolentinebronx.org/event/830-am-spanish-mass-3/2028-08-07/
LOCATION:St Nicholas of Tolentine Church\, 2345 University Avenue\, Bronx\, NY\, 10468\, United States
END:VEVENT
BEGIN:VEVENT
DTSTART;TZID=America/New_York:20280807T120000
DTEND;TZID=America/New_York:20280807T123000
DTSTAMP:20260425T213846
CREATED:20250305T040540Z
LAST-MODIFIED:20250305T040545Z
UID:10017924-1849262400-1849264200@stnicholasoftolentinebronx.org
SUMMARY:12:00 Noon English mass
DESCRIPTION:
URL:https://stnicholasoftolentinebronx.org/event/1200-noon-english-mass/2028-08-07/
LOCATION:St Nicholas of Tolentine Church\, 2345 University Avenue\, Bronx\, NY\, 10468\, United States
END:VEVENT
BEGIN:VEVENT
DTSTART;TZID=America/New_York:20280808T083000
DTEND;TZID=America/New_York:20280808T093000
DTSTAMP:20260425T213846
CREATED:20250305T035020Z
LAST-MODIFIED:20250305T035025Z
UID:10016621-1849336200-1849339800@stnicholasoftolentinebronx.org
SUMMARY:8:30 am Spanish Mass
DESCRIPTION:
URL:https://stnicholasoftolentinebronx.org/event/830-am-spanish-mass-3/2028-08-08/
LOCATION:St Nicholas of Tolentine Church\, 2345 University Avenue\, Bronx\, NY\, 10468\, United States
END:VEVENT
BEGIN:VEVENT
DTSTART;TZID=America/New_York:20280808T120000
DTEND;TZID=America/New_York:20280808T123000
DTSTAMP:20260425T213846
CREATED:20250305T040540Z
LAST-MODIFIED:20250305T040545Z
UID:10017925-1849348800-1849350600@stnicholasoftolentinebronx.org
SUMMARY:12:00 Noon English mass
DESCRIPTION:
URL:https://stnicholasoftolentinebronx.org/event/1200-noon-english-mass/2028-08-08/
LOCATION:St Nicholas of Tolentine Church\, 2345 University Avenue\, Bronx\, NY\, 10468\, United States
END:VEVENT
BEGIN:VEVENT
DTSTART;TZID=America/New_York:20280809T083000
DTEND;TZID=America/New_York:20280809T093000
DTSTAMP:20260425T213846
CREATED:20250305T035020Z
LAST-MODIFIED:20250305T035025Z
UID:10016622-1849422600-1849426200@stnicholasoftolentinebronx.org
SUMMARY:8:30 am Spanish Mass
DESCRIPTION:
URL:https://stnicholasoftolentinebronx.org/event/830-am-spanish-mass-3/2028-08-09/
LOCATION:St Nicholas of Tolentine Church\, 2345 University Avenue\, Bronx\, NY\, 10468\, United States
END:VEVENT
END:VCALENDAR