BEGIN:VCALENDAR
VERSION:2.0
PRODID:-//St. Nicholas of Tolentine Church - ECPv6.15.20//NONSGML v1.0//EN
CALSCALE:GREGORIAN
METHOD:PUBLISH
X-ORIGINAL-URL:https://stnicholasoftolentinebronx.org
X-WR-CALDESC:Events for St. Nicholas of Tolentine Church
REFRESH-INTERVAL;VALUE=DURATION:PT1H
X-Robots-Tag:noindex
X-PUBLISHED-TTL:PT1H
BEGIN:VTIMEZONE
TZID:America/New_York
BEGIN:DAYLIGHT
TZOFFSETFROM:-0500
TZOFFSETTO:-0400
TZNAME:EDT
DTSTART:20270314T070000
END:DAYLIGHT
BEGIN:STANDARD
TZOFFSETFROM:-0400
TZOFFSETTO:-0500
TZNAME:EST
DTSTART:20271107T060000
END:STANDARD
BEGIN:DAYLIGHT
TZOFFSETFROM:-0500
TZOFFSETTO:-0400
TZNAME:EDT
DTSTART:20280312T070000
END:DAYLIGHT
BEGIN:STANDARD
TZOFFSETFROM:-0400
TZOFFSETTO:-0500
TZNAME:EST
DTSTART:20281105T060000
END:STANDARD
BEGIN:DAYLIGHT
TZOFFSETFROM:-0500
TZOFFSETTO:-0400
TZNAME:EDT
DTSTART:20290311T070000
END:DAYLIGHT
BEGIN:STANDARD
TZOFFSETFROM:-0400
TZOFFSETTO:-0500
TZNAME:EST
DTSTART:20291104T060000
END:STANDARD
END:VTIMEZONE
BEGIN:VEVENT
DTSTART;TZID=America/New_York:20280901T083000
DTEND;TZID=America/New_York:20280901T093000
DTSTAMP:20260425T231732
CREATED:20250305T035020Z
LAST-MODIFIED:20250305T035025Z
UID:10016639-1851409800-1851413400@stnicholasoftolentinebronx.org
SUMMARY:8:30 am Spanish Mass
DESCRIPTION:
URL:https://stnicholasoftolentinebronx.org/event/830-am-spanish-mass-3/2028-09-01/
LOCATION:St Nicholas of Tolentine Church\, 2345 University Avenue\, Bronx\, NY\, 10468\, United States
END:VEVENT
BEGIN:VEVENT
DTSTART;TZID=America/New_York:20280901T120000
DTEND;TZID=America/New_York:20280901T123000
DTSTAMP:20260425T231732
CREATED:20250305T040540Z
LAST-MODIFIED:20250305T040545Z
UID:10017943-1851422400-1851424200@stnicholasoftolentinebronx.org
SUMMARY:12:00 Noon English mass
DESCRIPTION:
URL:https://stnicholasoftolentinebronx.org/event/1200-noon-english-mass/2028-09-01/
LOCATION:St Nicholas of Tolentine Church\, 2345 University Avenue\, Bronx\, NY\, 10468\, United States
END:VEVENT
BEGIN:VEVENT
DTSTART;TZID=America/New_York:20280902T074500
DTEND;TZID=America/New_York:20280902T083000
DTSTAMP:20260425T231732
CREATED:20250313T023643Z
LAST-MODIFIED:20250313T023646Z
UID:10018800-1851493500-1851496200@stnicholasoftolentinebronx.org
SUMMARY:7:45 am Vietnamese Mass
DESCRIPTION:
URL:https://stnicholasoftolentinebronx.org/event/745-am-vietnamese-mass/2028-09-02/
LOCATION:St Nicholas of Tolentine Church\, 2345 University Avenue\, Bronx\, NY\, 10468\, United States
END:VEVENT
BEGIN:VEVENT
DTSTART;TZID=America/New_York:20280902T173000
DTEND;TZID=America/New_York:20280902T183000
DTSTAMP:20260425T231732
CREATED:20250313T023751Z
LAST-MODIFIED:20250313T023752Z
UID:10019061-1851528600-1851532200@stnicholasoftolentinebronx.org
SUMMARY:5:30 pm Confessions
DESCRIPTION:
URL:https://stnicholasoftolentinebronx.org/event/530-pm-confessions/2028-09-02/
LOCATION:St Nicholas of Tolentine Church\, 2345 University Avenue\, Bronx\, NY\, 10468\, United States
END:VEVENT
BEGIN:VEVENT
DTSTART;TZID=America/New_York:20280902T190000
DTEND;TZID=America/New_York:20280902T200000
DTSTAMP:20260425T231732
CREATED:20250313T023841Z
LAST-MODIFIED:20250313T023842Z
UID:10019322-1851534000-1851537600@stnicholasoftolentinebronx.org
SUMMARY:7:00 pm Spanish Mass
DESCRIPTION:
URL:https://stnicholasoftolentinebronx.org/event/700-pm-spanish-mass/2028-09-02/
LOCATION:St Nicholas of Tolentine Church\, 2345 University Avenue\, Bronx\, NY\, 10468\, United States
END:VEVENT
BEGIN:VEVENT
DTSTART;TZID=America/New_York:20280903T080000
DTEND;TZID=America/New_York:20280903T090000
DTSTAMP:20260425T231732
CREATED:20250313T023930Z
LAST-MODIFIED:20250418T035212Z
UID:10019583-1851580800-1851584400@stnicholasoftolentinebronx.org
SUMMARY:8:00 am English Mass
DESCRIPTION:
URL:https://stnicholasoftolentinebronx.org/event/800-am-english-mass/2028-09-03/
LOCATION:St Nicholas of Tolentine Church\, 2345 University Avenue\, Bronx\, NY\, 10468\, United States
END:VEVENT
BEGIN:VEVENT
DTSTART;TZID=America/New_York:20280903T093000
DTEND;TZID=America/New_York:20280903T110000
DTSTAMP:20260425T231732
CREATED:20250313T024022Z
LAST-MODIFIED:20250313T024024Z
UID:10019844-1851586200-1851591600@stnicholasoftolentinebronx.org
SUMMARY:9:30 am Spanish Mass
DESCRIPTION:
URL:https://stnicholasoftolentinebronx.org/event/930-am-spanish-mass/2028-09-03/
LOCATION:St Nicholas of Tolentine Church\, 2345 University Avenue\, Bronx\, NY\, 10468\, United States
END:VEVENT
BEGIN:VEVENT
DTSTART;TZID=America/New_York:20280903T113000
DTEND;TZID=America/New_York:20280903T123000
DTSTAMP:20260425T231732
CREATED:20250313T024110Z
LAST-MODIFIED:20250313T024112Z
UID:10020105-1851593400-1851597000@stnicholasoftolentinebronx.org
SUMMARY:11:30 am English Mass
DESCRIPTION:
URL:https://stnicholasoftolentinebronx.org/event/1130-am-english-mass/2028-09-03/
LOCATION:St Nicholas of Tolentine Church\, 2345 University Avenue\, Bronx\, NY\, 10468\, United States
END:VEVENT
BEGIN:VEVENT
DTSTART;TZID=America/New_York:20280903T133000
DTEND;TZID=America/New_York:20280903T143000
DTSTAMP:20260425T231732
CREATED:20250313T024158Z
LAST-MODIFIED:20250313T024339Z
UID:10020366-1851600600-1851604200@stnicholasoftolentinebronx.org
SUMMARY:1:30 pm Vietnamese Mass
DESCRIPTION:
URL:https://stnicholasoftolentinebronx.org/event/130-pm-vietnamese-mass/2028-09-03/
LOCATION:St Nicholas of Tolentine Church\, 2345 University Avenue\, Bronx\, NY\, 10468\, United States
END:VEVENT
BEGIN:VEVENT
DTSTART;TZID=America/New_York:20280904T083000
DTEND;TZID=America/New_York:20280904T093000
DTSTAMP:20260425T231732
CREATED:20250305T035020Z
LAST-MODIFIED:20250305T035025Z
UID:10016640-1851669000-1851672600@stnicholasoftolentinebronx.org
SUMMARY:8:30 am Spanish Mass
DESCRIPTION:
URL:https://stnicholasoftolentinebronx.org/event/830-am-spanish-mass-3/2028-09-04/
LOCATION:St Nicholas of Tolentine Church\, 2345 University Avenue\, Bronx\, NY\, 10468\, United States
END:VEVENT
BEGIN:VEVENT
DTSTART;TZID=America/New_York:20280904T120000
DTEND;TZID=America/New_York:20280904T123000
DTSTAMP:20260425T231732
CREATED:20250305T040540Z
LAST-MODIFIED:20250305T040545Z
UID:10017944-1851681600-1851683400@stnicholasoftolentinebronx.org
SUMMARY:12:00 Noon English mass
DESCRIPTION:
URL:https://stnicholasoftolentinebronx.org/event/1200-noon-english-mass/2028-09-04/
LOCATION:St Nicholas of Tolentine Church\, 2345 University Avenue\, Bronx\, NY\, 10468\, United States
END:VEVENT
BEGIN:VEVENT
DTSTART;TZID=America/New_York:20280905T083000
DTEND;TZID=America/New_York:20280905T093000
DTSTAMP:20260425T231732
CREATED:20250305T035020Z
LAST-MODIFIED:20250305T035025Z
UID:10016641-1851755400-1851759000@stnicholasoftolentinebronx.org
SUMMARY:8:30 am Spanish Mass
DESCRIPTION:
URL:https://stnicholasoftolentinebronx.org/event/830-am-spanish-mass-3/2028-09-05/
LOCATION:St Nicholas of Tolentine Church\, 2345 University Avenue\, Bronx\, NY\, 10468\, United States
END:VEVENT
BEGIN:VEVENT
DTSTART;TZID=America/New_York:20280905T120000
DTEND;TZID=America/New_York:20280905T123000
DTSTAMP:20260425T231732
CREATED:20250305T040540Z
LAST-MODIFIED:20250305T040545Z
UID:10017945-1851768000-1851769800@stnicholasoftolentinebronx.org
SUMMARY:12:00 Noon English mass
DESCRIPTION:
URL:https://stnicholasoftolentinebronx.org/event/1200-noon-english-mass/2028-09-05/
LOCATION:St Nicholas of Tolentine Church\, 2345 University Avenue\, Bronx\, NY\, 10468\, United States
END:VEVENT
BEGIN:VEVENT
DTSTART;TZID=America/New_York:20280906T083000
DTEND;TZID=America/New_York:20280906T093000
DTSTAMP:20260425T231732
CREATED:20250305T035020Z
LAST-MODIFIED:20250305T035025Z
UID:10016642-1851841800-1851845400@stnicholasoftolentinebronx.org
SUMMARY:8:30 am Spanish Mass
DESCRIPTION:
URL:https://stnicholasoftolentinebronx.org/event/830-am-spanish-mass-3/2028-09-06/
LOCATION:St Nicholas of Tolentine Church\, 2345 University Avenue\, Bronx\, NY\, 10468\, United States
END:VEVENT
BEGIN:VEVENT
DTSTART;TZID=America/New_York:20280906T120000
DTEND;TZID=America/New_York:20280906T123000
DTSTAMP:20260425T231732
CREATED:20250305T040540Z
LAST-MODIFIED:20250305T040545Z
UID:10017946-1851854400-1851856200@stnicholasoftolentinebronx.org
SUMMARY:12:00 Noon English mass
DESCRIPTION:
URL:https://stnicholasoftolentinebronx.org/event/1200-noon-english-mass/2028-09-06/
LOCATION:St Nicholas of Tolentine Church\, 2345 University Avenue\, Bronx\, NY\, 10468\, United States
END:VEVENT
BEGIN:VEVENT
DTSTART;TZID=America/New_York:20280907T083000
DTEND;TZID=America/New_York:20280907T093000
DTSTAMP:20260425T231732
CREATED:20250305T035020Z
LAST-MODIFIED:20250305T035025Z
UID:10016643-1851928200-1851931800@stnicholasoftolentinebronx.org
SUMMARY:8:30 am Spanish Mass
DESCRIPTION:
URL:https://stnicholasoftolentinebronx.org/event/830-am-spanish-mass-3/2028-09-07/
LOCATION:St Nicholas of Tolentine Church\, 2345 University Avenue\, Bronx\, NY\, 10468\, United States
END:VEVENT
BEGIN:VEVENT
DTSTART;TZID=America/New_York:20280907T120000
DTEND;TZID=America/New_York:20280907T123000
DTSTAMP:20260425T231732
CREATED:20250305T040540Z
LAST-MODIFIED:20250305T040545Z
UID:10017947-1851940800-1851942600@stnicholasoftolentinebronx.org
SUMMARY:12:00 Noon English mass
DESCRIPTION:
URL:https://stnicholasoftolentinebronx.org/event/1200-noon-english-mass/2028-09-07/
LOCATION:St Nicholas of Tolentine Church\, 2345 University Avenue\, Bronx\, NY\, 10468\, United States
END:VEVENT
BEGIN:VEVENT
DTSTART;TZID=America/New_York:20280907T190000
DTEND;TZID=America/New_York:20280907T210000
DTSTAMP:20260425T231732
CREATED:20250305T041048Z
LAST-MODIFIED:20250306T225714Z
UID:10018520-1851966000-1851973200@stnicholasoftolentinebronx.org
SUMMARY:7:00 pm Círculo
DESCRIPTION:
URL:https://stnicholasoftolentinebronx.org/event/700-circulo/2028-09-07/
LOCATION:NY
END:VEVENT
BEGIN:VEVENT
DTSTART;TZID=America/New_York:20280908T083000
DTEND;TZID=America/New_York:20280908T093000
DTSTAMP:20260425T231732
CREATED:20250305T035020Z
LAST-MODIFIED:20250305T035025Z
UID:10016644-1852014600-1852018200@stnicholasoftolentinebronx.org
SUMMARY:8:30 am Spanish Mass
DESCRIPTION:
URL:https://stnicholasoftolentinebronx.org/event/830-am-spanish-mass-3/2028-09-08/
LOCATION:St Nicholas of Tolentine Church\, 2345 University Avenue\, Bronx\, NY\, 10468\, United States
END:VEVENT
BEGIN:VEVENT
DTSTART;TZID=America/New_York:20280908T120000
DTEND;TZID=America/New_York:20280908T123000
DTSTAMP:20260425T231732
CREATED:20250305T040540Z
LAST-MODIFIED:20250305T040545Z
UID:10017948-1852027200-1852029000@stnicholasoftolentinebronx.org
SUMMARY:12:00 Noon English mass
DESCRIPTION:
URL:https://stnicholasoftolentinebronx.org/event/1200-noon-english-mass/2028-09-08/
LOCATION:St Nicholas of Tolentine Church\, 2345 University Avenue\, Bronx\, NY\, 10468\, United States
END:VEVENT
BEGIN:VEVENT
DTSTART;TZID=America/New_York:20280909T074500
DTEND;TZID=America/New_York:20280909T083000
DTSTAMP:20260425T231732
CREATED:20250313T023643Z
LAST-MODIFIED:20250313T023646Z
UID:10018801-1852098300-1852101000@stnicholasoftolentinebronx.org
SUMMARY:7:45 am Vietnamese Mass
DESCRIPTION:
URL:https://stnicholasoftolentinebronx.org/event/745-am-vietnamese-mass/2028-09-09/
LOCATION:St Nicholas of Tolentine Church\, 2345 University Avenue\, Bronx\, NY\, 10468\, United States
END:VEVENT
BEGIN:VEVENT
DTSTART;TZID=America/New_York:20280909T173000
DTEND;TZID=America/New_York:20280909T183000
DTSTAMP:20260425T231732
CREATED:20250313T023751Z
LAST-MODIFIED:20250313T023752Z
UID:10019062-1852133400-1852137000@stnicholasoftolentinebronx.org
SUMMARY:5:30 pm Confessions
DESCRIPTION:
URL:https://stnicholasoftolentinebronx.org/event/530-pm-confessions/2028-09-09/
LOCATION:St Nicholas of Tolentine Church\, 2345 University Avenue\, Bronx\, NY\, 10468\, United States
END:VEVENT
BEGIN:VEVENT
DTSTART;TZID=America/New_York:20280909T190000
DTEND;TZID=America/New_York:20280909T200000
DTSTAMP:20260425T231732
CREATED:20250313T023841Z
LAST-MODIFIED:20250313T023842Z
UID:10019323-1852138800-1852142400@stnicholasoftolentinebronx.org
SUMMARY:7:00 pm Spanish Mass
DESCRIPTION:
URL:https://stnicholasoftolentinebronx.org/event/700-pm-spanish-mass/2028-09-09/
LOCATION:St Nicholas of Tolentine Church\, 2345 University Avenue\, Bronx\, NY\, 10468\, United States
END:VEVENT
BEGIN:VEVENT
DTSTART;TZID=America/New_York:20280910T080000
DTEND;TZID=America/New_York:20280910T090000
DTSTAMP:20260425T231732
CREATED:20250313T023930Z
LAST-MODIFIED:20250418T035212Z
UID:10019584-1852185600-1852189200@stnicholasoftolentinebronx.org
SUMMARY:8:00 am English Mass
DESCRIPTION:
URL:https://stnicholasoftolentinebronx.org/event/800-am-english-mass/2028-09-10/
LOCATION:St Nicholas of Tolentine Church\, 2345 University Avenue\, Bronx\, NY\, 10468\, United States
END:VEVENT
BEGIN:VEVENT
DTSTART;TZID=America/New_York:20280910T093000
DTEND;TZID=America/New_York:20280910T110000
DTSTAMP:20260425T231732
CREATED:20250313T024022Z
LAST-MODIFIED:20250313T024024Z
UID:10019845-1852191000-1852196400@stnicholasoftolentinebronx.org
SUMMARY:9:30 am Spanish Mass
DESCRIPTION:
URL:https://stnicholasoftolentinebronx.org/event/930-am-spanish-mass/2028-09-10/
LOCATION:St Nicholas of Tolentine Church\, 2345 University Avenue\, Bronx\, NY\, 10468\, United States
END:VEVENT
BEGIN:VEVENT
DTSTART;TZID=America/New_York:20280910T113000
DTEND;TZID=America/New_York:20280910T123000
DTSTAMP:20260425T231732
CREATED:20250313T024110Z
LAST-MODIFIED:20250313T024112Z
UID:10020106-1852198200-1852201800@stnicholasoftolentinebronx.org
SUMMARY:11:30 am English Mass
DESCRIPTION:
URL:https://stnicholasoftolentinebronx.org/event/1130-am-english-mass/2028-09-10/
LOCATION:St Nicholas of Tolentine Church\, 2345 University Avenue\, Bronx\, NY\, 10468\, United States
END:VEVENT
BEGIN:VEVENT
DTSTART;TZID=America/New_York:20280910T133000
DTEND;TZID=America/New_York:20280910T143000
DTSTAMP:20260425T231732
CREATED:20250313T024158Z
LAST-MODIFIED:20250313T024339Z
UID:10020367-1852205400-1852209000@stnicholasoftolentinebronx.org
SUMMARY:1:30 pm Vietnamese Mass
DESCRIPTION:
URL:https://stnicholasoftolentinebronx.org/event/130-pm-vietnamese-mass/2028-09-10/
LOCATION:St Nicholas of Tolentine Church\, 2345 University Avenue\, Bronx\, NY\, 10468\, United States
END:VEVENT
BEGIN:VEVENT
DTSTART;TZID=America/New_York:20280911T083000
DTEND;TZID=America/New_York:20280911T093000
DTSTAMP:20260425T231732
CREATED:20250305T035020Z
LAST-MODIFIED:20250305T035025Z
UID:10016645-1852273800-1852277400@stnicholasoftolentinebronx.org
SUMMARY:8:30 am Spanish Mass
DESCRIPTION:
URL:https://stnicholasoftolentinebronx.org/event/830-am-spanish-mass-3/2028-09-11/
LOCATION:St Nicholas of Tolentine Church\, 2345 University Avenue\, Bronx\, NY\, 10468\, United States
END:VEVENT
BEGIN:VEVENT
DTSTART;TZID=America/New_York:20280911T120000
DTEND;TZID=America/New_York:20280911T123000
DTSTAMP:20260425T231732
CREATED:20250305T040540Z
LAST-MODIFIED:20250305T040545Z
UID:10017949-1852286400-1852288200@stnicholasoftolentinebronx.org
SUMMARY:12:00 Noon English mass
DESCRIPTION:
URL:https://stnicholasoftolentinebronx.org/event/1200-noon-english-mass/2028-09-11/
LOCATION:St Nicholas of Tolentine Church\, 2345 University Avenue\, Bronx\, NY\, 10468\, United States
END:VEVENT
BEGIN:VEVENT
DTSTART;TZID=America/New_York:20280912T083000
DTEND;TZID=America/New_York:20280912T093000
DTSTAMP:20260425T231732
CREATED:20250305T035020Z
LAST-MODIFIED:20250305T035025Z
UID:10016646-1852360200-1852363800@stnicholasoftolentinebronx.org
SUMMARY:8:30 am Spanish Mass
DESCRIPTION:
URL:https://stnicholasoftolentinebronx.org/event/830-am-spanish-mass-3/2028-09-12/
LOCATION:St Nicholas of Tolentine Church\, 2345 University Avenue\, Bronx\, NY\, 10468\, United States
END:VEVENT
END:VCALENDAR