BEGIN:VCALENDAR
VERSION:2.0
PRODID:-//St. Nicholas of Tolentine Church - ECPv6.15.20//NONSGML v1.0//EN
CALSCALE:GREGORIAN
METHOD:PUBLISH
X-WR-CALNAME:St. Nicholas of Tolentine Church
X-ORIGINAL-URL:https://stnicholasoftolentinebronx.org
X-WR-CALDESC:Events for St. Nicholas of Tolentine Church
REFRESH-INTERVAL;VALUE=DURATION:PT1H
X-Robots-Tag:noindex
X-PUBLISHED-TTL:PT1H
BEGIN:VTIMEZONE
TZID:America/New_York
BEGIN:DAYLIGHT
TZOFFSETFROM:-0500
TZOFFSETTO:-0400
TZNAME:EDT
DTSTART:20270314T070000
END:DAYLIGHT
BEGIN:STANDARD
TZOFFSETFROM:-0400
TZOFFSETTO:-0500
TZNAME:EST
DTSTART:20271107T060000
END:STANDARD
BEGIN:DAYLIGHT
TZOFFSETFROM:-0500
TZOFFSETTO:-0400
TZNAME:EDT
DTSTART:20280312T070000
END:DAYLIGHT
BEGIN:STANDARD
TZOFFSETFROM:-0400
TZOFFSETTO:-0500
TZNAME:EST
DTSTART:20281105T060000
END:STANDARD
BEGIN:DAYLIGHT
TZOFFSETFROM:-0500
TZOFFSETTO:-0400
TZNAME:EDT
DTSTART:20290311T070000
END:DAYLIGHT
BEGIN:STANDARD
TZOFFSETFROM:-0400
TZOFFSETTO:-0500
TZNAME:EST
DTSTART:20291104T060000
END:STANDARD
END:VTIMEZONE
BEGIN:VEVENT
DTSTART;TZID=America/New_York:20280917T093000
DTEND;TZID=America/New_York:20280917T110000
DTSTAMP:20260425T153744
CREATED:20250313T024022Z
LAST-MODIFIED:20250313T024024Z
UID:10019846-1852795800-1852801200@stnicholasoftolentinebronx.org
SUMMARY:9:30 am Spanish Mass
DESCRIPTION:
URL:https://stnicholasoftolentinebronx.org/event/930-am-spanish-mass/2028-09-17/
LOCATION:St Nicholas of Tolentine Church\, 2345 University Avenue\, Bronx\, NY\, 10468\, United States
END:VEVENT
BEGIN:VEVENT
DTSTART;TZID=America/New_York:20280917T113000
DTEND;TZID=America/New_York:20280917T123000
DTSTAMP:20260425T153744
CREATED:20250313T024110Z
LAST-MODIFIED:20250313T024112Z
UID:10020107-1852803000-1852806600@stnicholasoftolentinebronx.org
SUMMARY:11:30 am English Mass
DESCRIPTION:
URL:https://stnicholasoftolentinebronx.org/event/1130-am-english-mass/2028-09-17/
LOCATION:St Nicholas of Tolentine Church\, 2345 University Avenue\, Bronx\, NY\, 10468\, United States
END:VEVENT
BEGIN:VEVENT
DTSTART;TZID=America/New_York:20280917T133000
DTEND;TZID=America/New_York:20280917T143000
DTSTAMP:20260425T153744
CREATED:20250313T024158Z
LAST-MODIFIED:20250313T024339Z
UID:10020368-1852810200-1852813800@stnicholasoftolentinebronx.org
SUMMARY:1:30 pm Vietnamese Mass
DESCRIPTION:
URL:https://stnicholasoftolentinebronx.org/event/130-pm-vietnamese-mass/2028-09-17/
LOCATION:St Nicholas of Tolentine Church\, 2345 University Avenue\, Bronx\, NY\, 10468\, United States
END:VEVENT
BEGIN:VEVENT
DTSTART;TZID=America/New_York:20280918T083000
DTEND;TZID=America/New_York:20280918T093000
DTSTAMP:20260425T153744
CREATED:20250305T035020Z
LAST-MODIFIED:20250305T035025Z
UID:10016650-1852878600-1852882200@stnicholasoftolentinebronx.org
SUMMARY:8:30 am Spanish Mass
DESCRIPTION:
URL:https://stnicholasoftolentinebronx.org/event/830-am-spanish-mass-3/2028-09-18/
LOCATION:St Nicholas of Tolentine Church\, 2345 University Avenue\, Bronx\, NY\, 10468\, United States
END:VEVENT
BEGIN:VEVENT
DTSTART;TZID=America/New_York:20280918T120000
DTEND;TZID=America/New_York:20280918T123000
DTSTAMP:20260425T153744
CREATED:20250305T040540Z
LAST-MODIFIED:20250305T040545Z
UID:10017954-1852891200-1852893000@stnicholasoftolentinebronx.org
SUMMARY:12:00 Noon English mass
DESCRIPTION:
URL:https://stnicholasoftolentinebronx.org/event/1200-noon-english-mass/2028-09-18/
LOCATION:St Nicholas of Tolentine Church\, 2345 University Avenue\, Bronx\, NY\, 10468\, United States
END:VEVENT
BEGIN:VEVENT
DTSTART;TZID=America/New_York:20280919T083000
DTEND;TZID=America/New_York:20280919T093000
DTSTAMP:20260425T153744
CREATED:20250305T035020Z
LAST-MODIFIED:20250305T035025Z
UID:10016651-1852965000-1852968600@stnicholasoftolentinebronx.org
SUMMARY:8:30 am Spanish Mass
DESCRIPTION:
URL:https://stnicholasoftolentinebronx.org/event/830-am-spanish-mass-3/2028-09-19/
LOCATION:St Nicholas of Tolentine Church\, 2345 University Avenue\, Bronx\, NY\, 10468\, United States
END:VEVENT
BEGIN:VEVENT
DTSTART;TZID=America/New_York:20280919T120000
DTEND;TZID=America/New_York:20280919T123000
DTSTAMP:20260425T153744
CREATED:20250305T040540Z
LAST-MODIFIED:20250305T040545Z
UID:10017955-1852977600-1852979400@stnicholasoftolentinebronx.org
SUMMARY:12:00 Noon English mass
DESCRIPTION:
URL:https://stnicholasoftolentinebronx.org/event/1200-noon-english-mass/2028-09-19/
LOCATION:St Nicholas of Tolentine Church\, 2345 University Avenue\, Bronx\, NY\, 10468\, United States
END:VEVENT
BEGIN:VEVENT
DTSTART;TZID=America/New_York:20280920T083000
DTEND;TZID=America/New_York:20280920T093000
DTSTAMP:20260425T153744
CREATED:20250305T035020Z
LAST-MODIFIED:20250305T035025Z
UID:10016652-1853051400-1853055000@stnicholasoftolentinebronx.org
SUMMARY:8:30 am Spanish Mass
DESCRIPTION:
URL:https://stnicholasoftolentinebronx.org/event/830-am-spanish-mass-3/2028-09-20/
LOCATION:St Nicholas of Tolentine Church\, 2345 University Avenue\, Bronx\, NY\, 10468\, United States
END:VEVENT
BEGIN:VEVENT
DTSTART;TZID=America/New_York:20280920T120000
DTEND;TZID=America/New_York:20280920T123000
DTSTAMP:20260425T153744
CREATED:20250305T040540Z
LAST-MODIFIED:20250305T040545Z
UID:10017956-1853064000-1853065800@stnicholasoftolentinebronx.org
SUMMARY:12:00 Noon English mass
DESCRIPTION:
URL:https://stnicholasoftolentinebronx.org/event/1200-noon-english-mass/2028-09-20/
LOCATION:St Nicholas of Tolentine Church\, 2345 University Avenue\, Bronx\, NY\, 10468\, United States
END:VEVENT
BEGIN:VEVENT
DTSTART;TZID=America/New_York:20280921T083000
DTEND;TZID=America/New_York:20280921T093000
DTSTAMP:20260425T153744
CREATED:20250305T035020Z
LAST-MODIFIED:20250305T035025Z
UID:10016653-1853137800-1853141400@stnicholasoftolentinebronx.org
SUMMARY:8:30 am Spanish Mass
DESCRIPTION:
URL:https://stnicholasoftolentinebronx.org/event/830-am-spanish-mass-3/2028-09-21/
LOCATION:St Nicholas of Tolentine Church\, 2345 University Avenue\, Bronx\, NY\, 10468\, United States
END:VEVENT
BEGIN:VEVENT
DTSTART;TZID=America/New_York:20280921T120000
DTEND;TZID=America/New_York:20280921T123000
DTSTAMP:20260425T153744
CREATED:20250305T040540Z
LAST-MODIFIED:20250305T040545Z
UID:10017957-1853150400-1853152200@stnicholasoftolentinebronx.org
SUMMARY:12:00 Noon English mass
DESCRIPTION:
URL:https://stnicholasoftolentinebronx.org/event/1200-noon-english-mass/2028-09-21/
LOCATION:St Nicholas of Tolentine Church\, 2345 University Avenue\, Bronx\, NY\, 10468\, United States
END:VEVENT
BEGIN:VEVENT
DTSTART;TZID=America/New_York:20280921T190000
DTEND;TZID=America/New_York:20280921T210000
DTSTAMP:20260425T153744
CREATED:20250305T041048Z
LAST-MODIFIED:20250306T225714Z
UID:10018522-1853175600-1853182800@stnicholasoftolentinebronx.org
SUMMARY:7:00 pm Círculo
DESCRIPTION:
URL:https://stnicholasoftolentinebronx.org/event/700-circulo/2028-09-21/
LOCATION:NY
END:VEVENT
BEGIN:VEVENT
DTSTART;TZID=America/New_York:20280922T083000
DTEND;TZID=America/New_York:20280922T093000
DTSTAMP:20260425T153744
CREATED:20250305T035020Z
LAST-MODIFIED:20250305T035025Z
UID:10016654-1853224200-1853227800@stnicholasoftolentinebronx.org
SUMMARY:8:30 am Spanish Mass
DESCRIPTION:
URL:https://stnicholasoftolentinebronx.org/event/830-am-spanish-mass-3/2028-09-22/
LOCATION:St Nicholas of Tolentine Church\, 2345 University Avenue\, Bronx\, NY\, 10468\, United States
END:VEVENT
BEGIN:VEVENT
DTSTART;TZID=America/New_York:20280922T120000
DTEND;TZID=America/New_York:20280922T123000
DTSTAMP:20260425T153744
CREATED:20250305T040540Z
LAST-MODIFIED:20250305T040545Z
UID:10017958-1853236800-1853238600@stnicholasoftolentinebronx.org
SUMMARY:12:00 Noon English mass
DESCRIPTION:
URL:https://stnicholasoftolentinebronx.org/event/1200-noon-english-mass/2028-09-22/
LOCATION:St Nicholas of Tolentine Church\, 2345 University Avenue\, Bronx\, NY\, 10468\, United States
END:VEVENT
BEGIN:VEVENT
DTSTART;TZID=America/New_York:20280923T074500
DTEND;TZID=America/New_York:20280923T083000
DTSTAMP:20260425T153744
CREATED:20250313T023643Z
LAST-MODIFIED:20250313T023646Z
UID:10018803-1853307900-1853310600@stnicholasoftolentinebronx.org
SUMMARY:7:45 am Vietnamese Mass
DESCRIPTION:
URL:https://stnicholasoftolentinebronx.org/event/745-am-vietnamese-mass/2028-09-23/
LOCATION:St Nicholas of Tolentine Church\, 2345 University Avenue\, Bronx\, NY\, 10468\, United States
END:VEVENT
BEGIN:VEVENT
DTSTART;TZID=America/New_York:20280923T173000
DTEND;TZID=America/New_York:20280923T183000
DTSTAMP:20260425T153744
CREATED:20250313T023751Z
LAST-MODIFIED:20250313T023752Z
UID:10019064-1853343000-1853346600@stnicholasoftolentinebronx.org
SUMMARY:5:30 pm Confessions
DESCRIPTION:
URL:https://stnicholasoftolentinebronx.org/event/530-pm-confessions/2028-09-23/
LOCATION:St Nicholas of Tolentine Church\, 2345 University Avenue\, Bronx\, NY\, 10468\, United States
END:VEVENT
BEGIN:VEVENT
DTSTART;TZID=America/New_York:20280923T190000
DTEND;TZID=America/New_York:20280923T200000
DTSTAMP:20260425T153744
CREATED:20250313T023841Z
LAST-MODIFIED:20250313T023842Z
UID:10019325-1853348400-1853352000@stnicholasoftolentinebronx.org
SUMMARY:7:00 pm Spanish Mass
DESCRIPTION:
URL:https://stnicholasoftolentinebronx.org/event/700-pm-spanish-mass/2028-09-23/
LOCATION:St Nicholas of Tolentine Church\, 2345 University Avenue\, Bronx\, NY\, 10468\, United States
END:VEVENT
BEGIN:VEVENT
DTSTART;TZID=America/New_York:20280924T080000
DTEND;TZID=America/New_York:20280924T090000
DTSTAMP:20260425T153744
CREATED:20250313T023930Z
LAST-MODIFIED:20250418T035212Z
UID:10019586-1853395200-1853398800@stnicholasoftolentinebronx.org
SUMMARY:8:00 am English Mass
DESCRIPTION:
URL:https://stnicholasoftolentinebronx.org/event/800-am-english-mass/2028-09-24/
LOCATION:St Nicholas of Tolentine Church\, 2345 University Avenue\, Bronx\, NY\, 10468\, United States
END:VEVENT
BEGIN:VEVENT
DTSTART;TZID=America/New_York:20280924T093000
DTEND;TZID=America/New_York:20280924T110000
DTSTAMP:20260425T153744
CREATED:20250313T024022Z
LAST-MODIFIED:20250313T024024Z
UID:10019847-1853400600-1853406000@stnicholasoftolentinebronx.org
SUMMARY:9:30 am Spanish Mass
DESCRIPTION:
URL:https://stnicholasoftolentinebronx.org/event/930-am-spanish-mass/2028-09-24/
LOCATION:St Nicholas of Tolentine Church\, 2345 University Avenue\, Bronx\, NY\, 10468\, United States
END:VEVENT
BEGIN:VEVENT
DTSTART;TZID=America/New_York:20280924T113000
DTEND;TZID=America/New_York:20280924T123000
DTSTAMP:20260425T153744
CREATED:20250313T024110Z
LAST-MODIFIED:20250313T024112Z
UID:10020108-1853407800-1853411400@stnicholasoftolentinebronx.org
SUMMARY:11:30 am English Mass
DESCRIPTION:
URL:https://stnicholasoftolentinebronx.org/event/1130-am-english-mass/2028-09-24/
LOCATION:St Nicholas of Tolentine Church\, 2345 University Avenue\, Bronx\, NY\, 10468\, United States
END:VEVENT
BEGIN:VEVENT
DTSTART;TZID=America/New_York:20280924T133000
DTEND;TZID=America/New_York:20280924T143000
DTSTAMP:20260425T153744
CREATED:20250313T024158Z
LAST-MODIFIED:20250313T024339Z
UID:10020369-1853415000-1853418600@stnicholasoftolentinebronx.org
SUMMARY:1:30 pm Vietnamese Mass
DESCRIPTION:
URL:https://stnicholasoftolentinebronx.org/event/130-pm-vietnamese-mass/2028-09-24/
LOCATION:St Nicholas of Tolentine Church\, 2345 University Avenue\, Bronx\, NY\, 10468\, United States
END:VEVENT
BEGIN:VEVENT
DTSTART;TZID=America/New_York:20280925T083000
DTEND;TZID=America/New_York:20280925T093000
DTSTAMP:20260425T153744
CREATED:20250305T035020Z
LAST-MODIFIED:20250305T035025Z
UID:10016655-1853483400-1853487000@stnicholasoftolentinebronx.org
SUMMARY:8:30 am Spanish Mass
DESCRIPTION:
URL:https://stnicholasoftolentinebronx.org/event/830-am-spanish-mass-3/2028-09-25/
LOCATION:St Nicholas of Tolentine Church\, 2345 University Avenue\, Bronx\, NY\, 10468\, United States
END:VEVENT
BEGIN:VEVENT
DTSTART;TZID=America/New_York:20280925T120000
DTEND;TZID=America/New_York:20280925T123000
DTSTAMP:20260425T153744
CREATED:20250305T040540Z
LAST-MODIFIED:20250305T040545Z
UID:10017959-1853496000-1853497800@stnicholasoftolentinebronx.org
SUMMARY:12:00 Noon English mass
DESCRIPTION:
URL:https://stnicholasoftolentinebronx.org/event/1200-noon-english-mass/2028-09-25/
LOCATION:St Nicholas of Tolentine Church\, 2345 University Avenue\, Bronx\, NY\, 10468\, United States
END:VEVENT
BEGIN:VEVENT
DTSTART;TZID=America/New_York:20280926T083000
DTEND;TZID=America/New_York:20280926T093000
DTSTAMP:20260425T153744
CREATED:20250305T035020Z
LAST-MODIFIED:20250305T035025Z
UID:10016656-1853569800-1853573400@stnicholasoftolentinebronx.org
SUMMARY:8:30 am Spanish Mass
DESCRIPTION:
URL:https://stnicholasoftolentinebronx.org/event/830-am-spanish-mass-3/2028-09-26/
LOCATION:St Nicholas of Tolentine Church\, 2345 University Avenue\, Bronx\, NY\, 10468\, United States
END:VEVENT
BEGIN:VEVENT
DTSTART;TZID=America/New_York:20280926T120000
DTEND;TZID=America/New_York:20280926T123000
DTSTAMP:20260425T153744
CREATED:20250305T040540Z
LAST-MODIFIED:20250305T040545Z
UID:10017960-1853582400-1853584200@stnicholasoftolentinebronx.org
SUMMARY:12:00 Noon English mass
DESCRIPTION:
URL:https://stnicholasoftolentinebronx.org/event/1200-noon-english-mass/2028-09-26/
LOCATION:St Nicholas of Tolentine Church\, 2345 University Avenue\, Bronx\, NY\, 10468\, United States
END:VEVENT
BEGIN:VEVENT
DTSTART;TZID=America/New_York:20280927T083000
DTEND;TZID=America/New_York:20280927T093000
DTSTAMP:20260425T153744
CREATED:20250305T035020Z
LAST-MODIFIED:20250305T035025Z
UID:10016657-1853656200-1853659800@stnicholasoftolentinebronx.org
SUMMARY:8:30 am Spanish Mass
DESCRIPTION:
URL:https://stnicholasoftolentinebronx.org/event/830-am-spanish-mass-3/2028-09-27/
LOCATION:St Nicholas of Tolentine Church\, 2345 University Avenue\, Bronx\, NY\, 10468\, United States
END:VEVENT
BEGIN:VEVENT
DTSTART;TZID=America/New_York:20280927T120000
DTEND;TZID=America/New_York:20280927T123000
DTSTAMP:20260425T153744
CREATED:20250305T040540Z
LAST-MODIFIED:20250305T040545Z
UID:10017961-1853668800-1853670600@stnicholasoftolentinebronx.org
SUMMARY:12:00 Noon English mass
DESCRIPTION:
URL:https://stnicholasoftolentinebronx.org/event/1200-noon-english-mass/2028-09-27/
LOCATION:St Nicholas of Tolentine Church\, 2345 University Avenue\, Bronx\, NY\, 10468\, United States
END:VEVENT
BEGIN:VEVENT
DTSTART;TZID=America/New_York:20280928T083000
DTEND;TZID=America/New_York:20280928T093000
DTSTAMP:20260425T153744
CREATED:20250305T035020Z
LAST-MODIFIED:20250305T035025Z
UID:10016658-1853742600-1853746200@stnicholasoftolentinebronx.org
SUMMARY:8:30 am Spanish Mass
DESCRIPTION:
URL:https://stnicholasoftolentinebronx.org/event/830-am-spanish-mass-3/2028-09-28/
LOCATION:St Nicholas of Tolentine Church\, 2345 University Avenue\, Bronx\, NY\, 10468\, United States
END:VEVENT
BEGIN:VEVENT
DTSTART;TZID=America/New_York:20280928T120000
DTEND;TZID=America/New_York:20280928T123000
DTSTAMP:20260425T153744
CREATED:20250305T040540Z
LAST-MODIFIED:20250305T040545Z
UID:10017962-1853755200-1853757000@stnicholasoftolentinebronx.org
SUMMARY:12:00 Noon English mass
DESCRIPTION:
URL:https://stnicholasoftolentinebronx.org/event/1200-noon-english-mass/2028-09-28/
LOCATION:St Nicholas of Tolentine Church\, 2345 University Avenue\, Bronx\, NY\, 10468\, United States
END:VEVENT
BEGIN:VEVENT
DTSTART;TZID=America/New_York:20280928T190000
DTEND;TZID=America/New_York:20280928T210000
DTSTAMP:20260425T153744
CREATED:20250305T041048Z
LAST-MODIFIED:20250306T225714Z
UID:10018523-1853780400-1853787600@stnicholasoftolentinebronx.org
SUMMARY:7:00 pm Círculo
DESCRIPTION:
URL:https://stnicholasoftolentinebronx.org/event/700-circulo/2028-09-28/
LOCATION:NY
END:VEVENT
END:VCALENDAR