BEGIN:VCALENDAR
VERSION:2.0
PRODID:-//St. Nicholas of Tolentine Church - ECPv6.15.20//NONSGML v1.0//EN
CALSCALE:GREGORIAN
METHOD:PUBLISH
X-WR-CALNAME:St. Nicholas of Tolentine Church
X-ORIGINAL-URL:https://stnicholasoftolentinebronx.org
X-WR-CALDESC:Events for St. Nicholas of Tolentine Church
REFRESH-INTERVAL;VALUE=DURATION:PT1H
X-Robots-Tag:noindex
X-PUBLISHED-TTL:PT1H
BEGIN:VTIMEZONE
TZID:America/New_York
BEGIN:DAYLIGHT
TZOFFSETFROM:-0500
TZOFFSETTO:-0400
TZNAME:EDT
DTSTART:20270314T070000
END:DAYLIGHT
BEGIN:STANDARD
TZOFFSETFROM:-0400
TZOFFSETTO:-0500
TZNAME:EST
DTSTART:20271107T060000
END:STANDARD
BEGIN:DAYLIGHT
TZOFFSETFROM:-0500
TZOFFSETTO:-0400
TZNAME:EDT
DTSTART:20280312T070000
END:DAYLIGHT
BEGIN:STANDARD
TZOFFSETFROM:-0400
TZOFFSETTO:-0500
TZNAME:EST
DTSTART:20281105T060000
END:STANDARD
BEGIN:DAYLIGHT
TZOFFSETFROM:-0500
TZOFFSETTO:-0400
TZNAME:EDT
DTSTART:20290311T070000
END:DAYLIGHT
BEGIN:STANDARD
TZOFFSETFROM:-0400
TZOFFSETTO:-0500
TZNAME:EST
DTSTART:20291104T060000
END:STANDARD
END:VTIMEZONE
BEGIN:VEVENT
DTSTART;TZID=America/New_York:20281005T083000
DTEND;TZID=America/New_York:20281005T093000
DTSTAMP:20260425T183546
CREATED:20250305T035020Z
LAST-MODIFIED:20250305T035025Z
UID:10016663-1854347400-1854351000@stnicholasoftolentinebronx.org
SUMMARY:8:30 am Spanish Mass
DESCRIPTION:
URL:https://stnicholasoftolentinebronx.org/event/830-am-spanish-mass-3/2028-10-05/
LOCATION:St Nicholas of Tolentine Church\, 2345 University Avenue\, Bronx\, NY\, 10468\, United States
END:VEVENT
BEGIN:VEVENT
DTSTART;TZID=America/New_York:20281005T120000
DTEND;TZID=America/New_York:20281005T123000
DTSTAMP:20260425T183546
CREATED:20250305T040540Z
LAST-MODIFIED:20250305T040545Z
UID:10017967-1854360000-1854361800@stnicholasoftolentinebronx.org
SUMMARY:12:00 Noon English mass
DESCRIPTION:
URL:https://stnicholasoftolentinebronx.org/event/1200-noon-english-mass/2028-10-05/
LOCATION:St Nicholas of Tolentine Church\, 2345 University Avenue\, Bronx\, NY\, 10468\, United States
END:VEVENT
BEGIN:VEVENT
DTSTART;TZID=America/New_York:20281005T190000
DTEND;TZID=America/New_York:20281005T210000
DTSTAMP:20260425T183546
CREATED:20250305T041048Z
LAST-MODIFIED:20250306T225714Z
UID:10018524-1854385200-1854392400@stnicholasoftolentinebronx.org
SUMMARY:7:00 pm Círculo
DESCRIPTION:
URL:https://stnicholasoftolentinebronx.org/event/700-circulo/2028-10-05/
LOCATION:NY
END:VEVENT
BEGIN:VEVENT
DTSTART;TZID=America/New_York:20281006T083000
DTEND;TZID=America/New_York:20281006T093000
DTSTAMP:20260425T183546
CREATED:20250305T035020Z
LAST-MODIFIED:20250305T035025Z
UID:10016664-1854433800-1854437400@stnicholasoftolentinebronx.org
SUMMARY:8:30 am Spanish Mass
DESCRIPTION:
URL:https://stnicholasoftolentinebronx.org/event/830-am-spanish-mass-3/2028-10-06/
LOCATION:St Nicholas of Tolentine Church\, 2345 University Avenue\, Bronx\, NY\, 10468\, United States
END:VEVENT
BEGIN:VEVENT
DTSTART;TZID=America/New_York:20281006T120000
DTEND;TZID=America/New_York:20281006T123000
DTSTAMP:20260425T183546
CREATED:20250305T040540Z
LAST-MODIFIED:20250305T040545Z
UID:10017968-1854446400-1854448200@stnicholasoftolentinebronx.org
SUMMARY:12:00 Noon English mass
DESCRIPTION:
URL:https://stnicholasoftolentinebronx.org/event/1200-noon-english-mass/2028-10-06/
LOCATION:St Nicholas of Tolentine Church\, 2345 University Avenue\, Bronx\, NY\, 10468\, United States
END:VEVENT
BEGIN:VEVENT
DTSTART;TZID=America/New_York:20281007T074500
DTEND;TZID=America/New_York:20281007T083000
DTSTAMP:20260425T183546
CREATED:20250313T023643Z
LAST-MODIFIED:20250313T023646Z
UID:10018805-1854517500-1854520200@stnicholasoftolentinebronx.org
SUMMARY:7:45 am Vietnamese Mass
DESCRIPTION:
URL:https://stnicholasoftolentinebronx.org/event/745-am-vietnamese-mass/2028-10-07/
LOCATION:St Nicholas of Tolentine Church\, 2345 University Avenue\, Bronx\, NY\, 10468\, United States
END:VEVENT
BEGIN:VEVENT
DTSTART;TZID=America/New_York:20281007T173000
DTEND;TZID=America/New_York:20281007T183000
DTSTAMP:20260425T183546
CREATED:20250313T023751Z
LAST-MODIFIED:20250313T023752Z
UID:10019066-1854552600-1854556200@stnicholasoftolentinebronx.org
SUMMARY:5:30 pm Confessions
DESCRIPTION:
URL:https://stnicholasoftolentinebronx.org/event/530-pm-confessions/2028-10-07/
LOCATION:St Nicholas of Tolentine Church\, 2345 University Avenue\, Bronx\, NY\, 10468\, United States
END:VEVENT
BEGIN:VEVENT
DTSTART;TZID=America/New_York:20281007T190000
DTEND;TZID=America/New_York:20281007T200000
DTSTAMP:20260425T183546
CREATED:20250313T023841Z
LAST-MODIFIED:20250313T023842Z
UID:10019327-1854558000-1854561600@stnicholasoftolentinebronx.org
SUMMARY:7:00 pm Spanish Mass
DESCRIPTION:
URL:https://stnicholasoftolentinebronx.org/event/700-pm-spanish-mass/2028-10-07/
LOCATION:St Nicholas of Tolentine Church\, 2345 University Avenue\, Bronx\, NY\, 10468\, United States
END:VEVENT
BEGIN:VEVENT
DTSTART;TZID=America/New_York:20281008T080000
DTEND;TZID=America/New_York:20281008T090000
DTSTAMP:20260425T183546
CREATED:20250313T023930Z
LAST-MODIFIED:20250418T035212Z
UID:10019588-1854604800-1854608400@stnicholasoftolentinebronx.org
SUMMARY:8:00 am English Mass
DESCRIPTION:
URL:https://stnicholasoftolentinebronx.org/event/800-am-english-mass/2028-10-08/
LOCATION:St Nicholas of Tolentine Church\, 2345 University Avenue\, Bronx\, NY\, 10468\, United States
END:VEVENT
BEGIN:VEVENT
DTSTART;TZID=America/New_York:20281008T093000
DTEND;TZID=America/New_York:20281008T110000
DTSTAMP:20260425T183546
CREATED:20250313T024022Z
LAST-MODIFIED:20250313T024024Z
UID:10019849-1854610200-1854615600@stnicholasoftolentinebronx.org
SUMMARY:9:30 am Spanish Mass
DESCRIPTION:
URL:https://stnicholasoftolentinebronx.org/event/930-am-spanish-mass/2028-10-08/
LOCATION:St Nicholas of Tolentine Church\, 2345 University Avenue\, Bronx\, NY\, 10468\, United States
END:VEVENT
BEGIN:VEVENT
DTSTART;TZID=America/New_York:20281008T113000
DTEND;TZID=America/New_York:20281008T123000
DTSTAMP:20260425T183546
CREATED:20250313T024110Z
LAST-MODIFIED:20250313T024112Z
UID:10020110-1854617400-1854621000@stnicholasoftolentinebronx.org
SUMMARY:11:30 am English Mass
DESCRIPTION:
URL:https://stnicholasoftolentinebronx.org/event/1130-am-english-mass/2028-10-08/
LOCATION:St Nicholas of Tolentine Church\, 2345 University Avenue\, Bronx\, NY\, 10468\, United States
END:VEVENT
BEGIN:VEVENT
DTSTART;TZID=America/New_York:20281008T133000
DTEND;TZID=America/New_York:20281008T143000
DTSTAMP:20260425T183546
CREATED:20250313T024158Z
LAST-MODIFIED:20250313T024339Z
UID:10020371-1854624600-1854628200@stnicholasoftolentinebronx.org
SUMMARY:1:30 pm Vietnamese Mass
DESCRIPTION:
URL:https://stnicholasoftolentinebronx.org/event/130-pm-vietnamese-mass/2028-10-08/
LOCATION:St Nicholas of Tolentine Church\, 2345 University Avenue\, Bronx\, NY\, 10468\, United States
END:VEVENT
BEGIN:VEVENT
DTSTART;TZID=America/New_York:20281009T083000
DTEND;TZID=America/New_York:20281009T093000
DTSTAMP:20260425T183546
CREATED:20250305T035020Z
LAST-MODIFIED:20250305T035025Z
UID:10016665-1854693000-1854696600@stnicholasoftolentinebronx.org
SUMMARY:8:30 am Spanish Mass
DESCRIPTION:
URL:https://stnicholasoftolentinebronx.org/event/830-am-spanish-mass-3/2028-10-09/
LOCATION:St Nicholas of Tolentine Church\, 2345 University Avenue\, Bronx\, NY\, 10468\, United States
END:VEVENT
BEGIN:VEVENT
DTSTART;TZID=America/New_York:20281009T120000
DTEND;TZID=America/New_York:20281009T123000
DTSTAMP:20260425T183546
CREATED:20250305T040540Z
LAST-MODIFIED:20250305T040545Z
UID:10017969-1854705600-1854707400@stnicholasoftolentinebronx.org
SUMMARY:12:00 Noon English mass
DESCRIPTION:
URL:https://stnicholasoftolentinebronx.org/event/1200-noon-english-mass/2028-10-09/
LOCATION:St Nicholas of Tolentine Church\, 2345 University Avenue\, Bronx\, NY\, 10468\, United States
END:VEVENT
BEGIN:VEVENT
DTSTART;TZID=America/New_York:20281010T083000
DTEND;TZID=America/New_York:20281010T093000
DTSTAMP:20260425T183546
CREATED:20250305T035020Z
LAST-MODIFIED:20250305T035025Z
UID:10016666-1854779400-1854783000@stnicholasoftolentinebronx.org
SUMMARY:8:30 am Spanish Mass
DESCRIPTION:
URL:https://stnicholasoftolentinebronx.org/event/830-am-spanish-mass-3/2028-10-10/
LOCATION:St Nicholas of Tolentine Church\, 2345 University Avenue\, Bronx\, NY\, 10468\, United States
END:VEVENT
BEGIN:VEVENT
DTSTART;TZID=America/New_York:20281010T120000
DTEND;TZID=America/New_York:20281010T123000
DTSTAMP:20260425T183546
CREATED:20250305T040540Z
LAST-MODIFIED:20250305T040545Z
UID:10017970-1854792000-1854793800@stnicholasoftolentinebronx.org
SUMMARY:12:00 Noon English mass
DESCRIPTION:
URL:https://stnicholasoftolentinebronx.org/event/1200-noon-english-mass/2028-10-10/
LOCATION:St Nicholas of Tolentine Church\, 2345 University Avenue\, Bronx\, NY\, 10468\, United States
END:VEVENT
BEGIN:VEVENT
DTSTART;TZID=America/New_York:20281011T083000
DTEND;TZID=America/New_York:20281011T093000
DTSTAMP:20260425T183546
CREATED:20250305T035020Z
LAST-MODIFIED:20250305T035025Z
UID:10016667-1854865800-1854869400@stnicholasoftolentinebronx.org
SUMMARY:8:30 am Spanish Mass
DESCRIPTION:
URL:https://stnicholasoftolentinebronx.org/event/830-am-spanish-mass-3/2028-10-11/
LOCATION:St Nicholas of Tolentine Church\, 2345 University Avenue\, Bronx\, NY\, 10468\, United States
END:VEVENT
BEGIN:VEVENT
DTSTART;TZID=America/New_York:20281011T120000
DTEND;TZID=America/New_York:20281011T123000
DTSTAMP:20260425T183546
CREATED:20250305T040540Z
LAST-MODIFIED:20250305T040545Z
UID:10017971-1854878400-1854880200@stnicholasoftolentinebronx.org
SUMMARY:12:00 Noon English mass
DESCRIPTION:
URL:https://stnicholasoftolentinebronx.org/event/1200-noon-english-mass/2028-10-11/
LOCATION:St Nicholas of Tolentine Church\, 2345 University Avenue\, Bronx\, NY\, 10468\, United States
END:VEVENT
BEGIN:VEVENT
DTSTART;TZID=America/New_York:20281012T083000
DTEND;TZID=America/New_York:20281012T093000
DTSTAMP:20260425T183546
CREATED:20250305T035020Z
LAST-MODIFIED:20250305T035025Z
UID:10016668-1854952200-1854955800@stnicholasoftolentinebronx.org
SUMMARY:8:30 am Spanish Mass
DESCRIPTION:
URL:https://stnicholasoftolentinebronx.org/event/830-am-spanish-mass-3/2028-10-12/
LOCATION:St Nicholas of Tolentine Church\, 2345 University Avenue\, Bronx\, NY\, 10468\, United States
END:VEVENT
BEGIN:VEVENT
DTSTART;TZID=America/New_York:20281012T120000
DTEND;TZID=America/New_York:20281012T123000
DTSTAMP:20260425T183546
CREATED:20250305T040540Z
LAST-MODIFIED:20250305T040545Z
UID:10017972-1854964800-1854966600@stnicholasoftolentinebronx.org
SUMMARY:12:00 Noon English mass
DESCRIPTION:
URL:https://stnicholasoftolentinebronx.org/event/1200-noon-english-mass/2028-10-12/
LOCATION:St Nicholas of Tolentine Church\, 2345 University Avenue\, Bronx\, NY\, 10468\, United States
END:VEVENT
BEGIN:VEVENT
DTSTART;TZID=America/New_York:20281012T190000
DTEND;TZID=America/New_York:20281012T210000
DTSTAMP:20260425T183546
CREATED:20250305T041048Z
LAST-MODIFIED:20250306T225714Z
UID:10018525-1854990000-1854997200@stnicholasoftolentinebronx.org
SUMMARY:7:00 pm Círculo
DESCRIPTION:
URL:https://stnicholasoftolentinebronx.org/event/700-circulo/2028-10-12/
LOCATION:NY
END:VEVENT
BEGIN:VEVENT
DTSTART;TZID=America/New_York:20281013T083000
DTEND;TZID=America/New_York:20281013T093000
DTSTAMP:20260425T183546
CREATED:20250305T035020Z
LAST-MODIFIED:20250305T035025Z
UID:10016669-1855038600-1855042200@stnicholasoftolentinebronx.org
SUMMARY:8:30 am Spanish Mass
DESCRIPTION:
URL:https://stnicholasoftolentinebronx.org/event/830-am-spanish-mass-3/2028-10-13/
LOCATION:St Nicholas of Tolentine Church\, 2345 University Avenue\, Bronx\, NY\, 10468\, United States
END:VEVENT
BEGIN:VEVENT
DTSTART;TZID=America/New_York:20281013T120000
DTEND;TZID=America/New_York:20281013T123000
DTSTAMP:20260425T183546
CREATED:20250305T040540Z
LAST-MODIFIED:20250305T040545Z
UID:10017973-1855051200-1855053000@stnicholasoftolentinebronx.org
SUMMARY:12:00 Noon English mass
DESCRIPTION:
URL:https://stnicholasoftolentinebronx.org/event/1200-noon-english-mass/2028-10-13/
LOCATION:St Nicholas of Tolentine Church\, 2345 University Avenue\, Bronx\, NY\, 10468\, United States
END:VEVENT
BEGIN:VEVENT
DTSTART;TZID=America/New_York:20281014T074500
DTEND;TZID=America/New_York:20281014T083000
DTSTAMP:20260425T183546
CREATED:20250313T023643Z
LAST-MODIFIED:20250313T023646Z
UID:10018806-1855122300-1855125000@stnicholasoftolentinebronx.org
SUMMARY:7:45 am Vietnamese Mass
DESCRIPTION:
URL:https://stnicholasoftolentinebronx.org/event/745-am-vietnamese-mass/2028-10-14/
LOCATION:St Nicholas of Tolentine Church\, 2345 University Avenue\, Bronx\, NY\, 10468\, United States
END:VEVENT
BEGIN:VEVENT
DTSTART;TZID=America/New_York:20281014T173000
DTEND;TZID=America/New_York:20281014T183000
DTSTAMP:20260425T183546
CREATED:20250313T023751Z
LAST-MODIFIED:20250313T023752Z
UID:10019067-1855157400-1855161000@stnicholasoftolentinebronx.org
SUMMARY:5:30 pm Confessions
DESCRIPTION:
URL:https://stnicholasoftolentinebronx.org/event/530-pm-confessions/2028-10-14/
LOCATION:St Nicholas of Tolentine Church\, 2345 University Avenue\, Bronx\, NY\, 10468\, United States
END:VEVENT
BEGIN:VEVENT
DTSTART;TZID=America/New_York:20281014T190000
DTEND;TZID=America/New_York:20281014T200000
DTSTAMP:20260425T183546
CREATED:20250313T023841Z
LAST-MODIFIED:20250313T023842Z
UID:10019328-1855162800-1855166400@stnicholasoftolentinebronx.org
SUMMARY:7:00 pm Spanish Mass
DESCRIPTION:
URL:https://stnicholasoftolentinebronx.org/event/700-pm-spanish-mass/2028-10-14/
LOCATION:St Nicholas of Tolentine Church\, 2345 University Avenue\, Bronx\, NY\, 10468\, United States
END:VEVENT
BEGIN:VEVENT
DTSTART;TZID=America/New_York:20281015T080000
DTEND;TZID=America/New_York:20281015T090000
DTSTAMP:20260425T183546
CREATED:20250313T023930Z
LAST-MODIFIED:20250418T035212Z
UID:10019589-1855209600-1855213200@stnicholasoftolentinebronx.org
SUMMARY:8:00 am English Mass
DESCRIPTION:
URL:https://stnicholasoftolentinebronx.org/event/800-am-english-mass/2028-10-15/
LOCATION:St Nicholas of Tolentine Church\, 2345 University Avenue\, Bronx\, NY\, 10468\, United States
END:VEVENT
BEGIN:VEVENT
DTSTART;TZID=America/New_York:20281015T093000
DTEND;TZID=America/New_York:20281015T110000
DTSTAMP:20260425T183546
CREATED:20250313T024022Z
LAST-MODIFIED:20250313T024024Z
UID:10019850-1855215000-1855220400@stnicholasoftolentinebronx.org
SUMMARY:9:30 am Spanish Mass
DESCRIPTION:
URL:https://stnicholasoftolentinebronx.org/event/930-am-spanish-mass/2028-10-15/
LOCATION:St Nicholas of Tolentine Church\, 2345 University Avenue\, Bronx\, NY\, 10468\, United States
END:VEVENT
BEGIN:VEVENT
DTSTART;TZID=America/New_York:20281015T113000
DTEND;TZID=America/New_York:20281015T123000
DTSTAMP:20260425T183546
CREATED:20250313T024110Z
LAST-MODIFIED:20250313T024112Z
UID:10020111-1855222200-1855225800@stnicholasoftolentinebronx.org
SUMMARY:11:30 am English Mass
DESCRIPTION:
URL:https://stnicholasoftolentinebronx.org/event/1130-am-english-mass/2028-10-15/
LOCATION:St Nicholas of Tolentine Church\, 2345 University Avenue\, Bronx\, NY\, 10468\, United States
END:VEVENT
BEGIN:VEVENT
DTSTART;TZID=America/New_York:20281015T133000
DTEND;TZID=America/New_York:20281015T143000
DTSTAMP:20260425T183546
CREATED:20250313T024158Z
LAST-MODIFIED:20250313T024339Z
UID:10020372-1855229400-1855233000@stnicholasoftolentinebronx.org
SUMMARY:1:30 pm Vietnamese Mass
DESCRIPTION:
URL:https://stnicholasoftolentinebronx.org/event/130-pm-vietnamese-mass/2028-10-15/
LOCATION:St Nicholas of Tolentine Church\, 2345 University Avenue\, Bronx\, NY\, 10468\, United States
END:VEVENT
END:VCALENDAR