BEGIN:VCALENDAR
VERSION:2.0
PRODID:-//St. Nicholas of Tolentine Church - ECPv6.15.20//NONSGML v1.0//EN
CALSCALE:GREGORIAN
METHOD:PUBLISH
X-WR-CALNAME:St. Nicholas of Tolentine Church
X-ORIGINAL-URL:https://stnicholasoftolentinebronx.org
X-WR-CALDESC:Events for St. Nicholas of Tolentine Church
REFRESH-INTERVAL;VALUE=DURATION:PT1H
X-Robots-Tag:noindex
X-PUBLISHED-TTL:PT1H
BEGIN:VTIMEZONE
TZID:America/New_York
BEGIN:DAYLIGHT
TZOFFSETFROM:-0500
TZOFFSETTO:-0400
TZNAME:EDT
DTSTART:20270314T070000
END:DAYLIGHT
BEGIN:STANDARD
TZOFFSETFROM:-0400
TZOFFSETTO:-0500
TZNAME:EST
DTSTART:20271107T060000
END:STANDARD
BEGIN:DAYLIGHT
TZOFFSETFROM:-0500
TZOFFSETTO:-0400
TZNAME:EDT
DTSTART:20280312T070000
END:DAYLIGHT
BEGIN:STANDARD
TZOFFSETFROM:-0400
TZOFFSETTO:-0500
TZNAME:EST
DTSTART:20281105T060000
END:STANDARD
BEGIN:DAYLIGHT
TZOFFSETFROM:-0500
TZOFFSETTO:-0400
TZNAME:EDT
DTSTART:20290311T070000
END:DAYLIGHT
BEGIN:STANDARD
TZOFFSETFROM:-0400
TZOFFSETTO:-0500
TZNAME:EST
DTSTART:20291104T060000
END:STANDARD
END:VTIMEZONE
BEGIN:VEVENT
DTSTART;TZID=America/New_York:20280622T083000
DTEND;TZID=America/New_York:20280622T093000
DTSTAMP:20260425T103715
CREATED:20250305T035020Z
LAST-MODIFIED:20250305T035025Z
UID:10016588-1845275400-1845279000@stnicholasoftolentinebronx.org
SUMMARY:8:30 am Spanish Mass
DESCRIPTION:
URL:https://stnicholasoftolentinebronx.org/event/830-am-spanish-mass-3/2028-06-22/
LOCATION:St Nicholas of Tolentine Church\, 2345 University Avenue\, Bronx\, NY\, 10468\, United States
END:VEVENT
BEGIN:VEVENT
DTSTART;TZID=America/New_York:20280622T120000
DTEND;TZID=America/New_York:20280622T123000
DTSTAMP:20260425T103715
CREATED:20250305T040540Z
LAST-MODIFIED:20250305T040545Z
UID:10017892-1845288000-1845289800@stnicholasoftolentinebronx.org
SUMMARY:12:00 Noon English mass
DESCRIPTION:
URL:https://stnicholasoftolentinebronx.org/event/1200-noon-english-mass/2028-06-22/
LOCATION:St Nicholas of Tolentine Church\, 2345 University Avenue\, Bronx\, NY\, 10468\, United States
END:VEVENT
BEGIN:VEVENT
DTSTART;TZID=America/New_York:20280622T190000
DTEND;TZID=America/New_York:20280622T210000
DTSTAMP:20260425T103715
CREATED:20250305T041048Z
LAST-MODIFIED:20250306T225714Z
UID:10018509-1845313200-1845320400@stnicholasoftolentinebronx.org
SUMMARY:7:00 pm Círculo
DESCRIPTION:
URL:https://stnicholasoftolentinebronx.org/event/700-circulo/2028-06-22/
LOCATION:NY
END:VEVENT
BEGIN:VEVENT
DTSTART;TZID=America/New_York:20280623T083000
DTEND;TZID=America/New_York:20280623T093000
DTSTAMP:20260425T103715
CREATED:20250305T035020Z
LAST-MODIFIED:20250305T035025Z
UID:10016589-1845361800-1845365400@stnicholasoftolentinebronx.org
SUMMARY:8:30 am Spanish Mass
DESCRIPTION:
URL:https://stnicholasoftolentinebronx.org/event/830-am-spanish-mass-3/2028-06-23/
LOCATION:St Nicholas of Tolentine Church\, 2345 University Avenue\, Bronx\, NY\, 10468\, United States
END:VEVENT
BEGIN:VEVENT
DTSTART;TZID=America/New_York:20280623T120000
DTEND;TZID=America/New_York:20280623T123000
DTSTAMP:20260425T103715
CREATED:20250305T040540Z
LAST-MODIFIED:20250305T040545Z
UID:10017893-1845374400-1845376200@stnicholasoftolentinebronx.org
SUMMARY:12:00 Noon English mass
DESCRIPTION:
URL:https://stnicholasoftolentinebronx.org/event/1200-noon-english-mass/2028-06-23/
LOCATION:St Nicholas of Tolentine Church\, 2345 University Avenue\, Bronx\, NY\, 10468\, United States
END:VEVENT
BEGIN:VEVENT
DTSTART;TZID=America/New_York:20280624T074500
DTEND;TZID=America/New_York:20280624T083000
DTSTAMP:20260425T103715
CREATED:20250313T023643Z
LAST-MODIFIED:20250313T023646Z
UID:10018790-1845445500-1845448200@stnicholasoftolentinebronx.org
SUMMARY:7:45 am Vietnamese Mass
DESCRIPTION:
URL:https://stnicholasoftolentinebronx.org/event/745-am-vietnamese-mass/2028-06-24/
LOCATION:St Nicholas of Tolentine Church\, 2345 University Avenue\, Bronx\, NY\, 10468\, United States
END:VEVENT
BEGIN:VEVENT
DTSTART;TZID=America/New_York:20280624T173000
DTEND;TZID=America/New_York:20280624T183000
DTSTAMP:20260425T103715
CREATED:20250313T023751Z
LAST-MODIFIED:20250313T023752Z
UID:10019051-1845480600-1845484200@stnicholasoftolentinebronx.org
SUMMARY:5:30 pm Confessions
DESCRIPTION:
URL:https://stnicholasoftolentinebronx.org/event/530-pm-confessions/2028-06-24/
LOCATION:St Nicholas of Tolentine Church\, 2345 University Avenue\, Bronx\, NY\, 10468\, United States
END:VEVENT
BEGIN:VEVENT
DTSTART;TZID=America/New_York:20280624T190000
DTEND;TZID=America/New_York:20280624T200000
DTSTAMP:20260425T103715
CREATED:20250313T023841Z
LAST-MODIFIED:20250313T023842Z
UID:10019312-1845486000-1845489600@stnicholasoftolentinebronx.org
SUMMARY:7:00 pm Spanish Mass
DESCRIPTION:
URL:https://stnicholasoftolentinebronx.org/event/700-pm-spanish-mass/2028-06-24/
LOCATION:St Nicholas of Tolentine Church\, 2345 University Avenue\, Bronx\, NY\, 10468\, United States
END:VEVENT
BEGIN:VEVENT
DTSTART;TZID=America/New_York:20280625T080000
DTEND;TZID=America/New_York:20280625T090000
DTSTAMP:20260425T103715
CREATED:20250313T023930Z
LAST-MODIFIED:20250418T035212Z
UID:10019573-1845532800-1845536400@stnicholasoftolentinebronx.org
SUMMARY:8:00 am English Mass
DESCRIPTION:
URL:https://stnicholasoftolentinebronx.org/event/800-am-english-mass/2028-06-25/
LOCATION:St Nicholas of Tolentine Church\, 2345 University Avenue\, Bronx\, NY\, 10468\, United States
END:VEVENT
BEGIN:VEVENT
DTSTART;TZID=America/New_York:20280625T093000
DTEND;TZID=America/New_York:20280625T110000
DTSTAMP:20260425T103715
CREATED:20250313T024022Z
LAST-MODIFIED:20250313T024024Z
UID:10019834-1845538200-1845543600@stnicholasoftolentinebronx.org
SUMMARY:9:30 am Spanish Mass
DESCRIPTION:
URL:https://stnicholasoftolentinebronx.org/event/930-am-spanish-mass/2028-06-25/
LOCATION:St Nicholas of Tolentine Church\, 2345 University Avenue\, Bronx\, NY\, 10468\, United States
END:VEVENT
BEGIN:VEVENT
DTSTART;TZID=America/New_York:20280625T113000
DTEND;TZID=America/New_York:20280625T123000
DTSTAMP:20260425T103715
CREATED:20250313T024110Z
LAST-MODIFIED:20250313T024112Z
UID:10020095-1845545400-1845549000@stnicholasoftolentinebronx.org
SUMMARY:11:30 am English Mass
DESCRIPTION:
URL:https://stnicholasoftolentinebronx.org/event/1130-am-english-mass/2028-06-25/
LOCATION:St Nicholas of Tolentine Church\, 2345 University Avenue\, Bronx\, NY\, 10468\, United States
END:VEVENT
BEGIN:VEVENT
DTSTART;TZID=America/New_York:20280625T133000
DTEND;TZID=America/New_York:20280625T143000
DTSTAMP:20260425T103715
CREATED:20250313T024158Z
LAST-MODIFIED:20250313T024339Z
UID:10020356-1845552600-1845556200@stnicholasoftolentinebronx.org
SUMMARY:1:30 pm Vietnamese Mass
DESCRIPTION:
URL:https://stnicholasoftolentinebronx.org/event/130-pm-vietnamese-mass/2028-06-25/
LOCATION:St Nicholas of Tolentine Church\, 2345 University Avenue\, Bronx\, NY\, 10468\, United States
END:VEVENT
BEGIN:VEVENT
DTSTART;TZID=America/New_York:20280626T083000
DTEND;TZID=America/New_York:20280626T093000
DTSTAMP:20260425T103715
CREATED:20250305T035020Z
LAST-MODIFIED:20250305T035025Z
UID:10016590-1845621000-1845624600@stnicholasoftolentinebronx.org
SUMMARY:8:30 am Spanish Mass
DESCRIPTION:
URL:https://stnicholasoftolentinebronx.org/event/830-am-spanish-mass-3/2028-06-26/
LOCATION:St Nicholas of Tolentine Church\, 2345 University Avenue\, Bronx\, NY\, 10468\, United States
END:VEVENT
BEGIN:VEVENT
DTSTART;TZID=America/New_York:20280626T120000
DTEND;TZID=America/New_York:20280626T123000
DTSTAMP:20260425T103715
CREATED:20250305T040540Z
LAST-MODIFIED:20250305T040545Z
UID:10017894-1845633600-1845635400@stnicholasoftolentinebronx.org
SUMMARY:12:00 Noon English mass
DESCRIPTION:
URL:https://stnicholasoftolentinebronx.org/event/1200-noon-english-mass/2028-06-26/
LOCATION:St Nicholas of Tolentine Church\, 2345 University Avenue\, Bronx\, NY\, 10468\, United States
END:VEVENT
BEGIN:VEVENT
DTSTART;TZID=America/New_York:20280627T083000
DTEND;TZID=America/New_York:20280627T093000
DTSTAMP:20260425T103715
CREATED:20250305T035020Z
LAST-MODIFIED:20250305T035025Z
UID:10016591-1845707400-1845711000@stnicholasoftolentinebronx.org
SUMMARY:8:30 am Spanish Mass
DESCRIPTION:
URL:https://stnicholasoftolentinebronx.org/event/830-am-spanish-mass-3/2028-06-27/
LOCATION:St Nicholas of Tolentine Church\, 2345 University Avenue\, Bronx\, NY\, 10468\, United States
END:VEVENT
BEGIN:VEVENT
DTSTART;TZID=America/New_York:20280627T120000
DTEND;TZID=America/New_York:20280627T123000
DTSTAMP:20260425T103715
CREATED:20250305T040540Z
LAST-MODIFIED:20250305T040545Z
UID:10017895-1845720000-1845721800@stnicholasoftolentinebronx.org
SUMMARY:12:00 Noon English mass
DESCRIPTION:
URL:https://stnicholasoftolentinebronx.org/event/1200-noon-english-mass/2028-06-27/
LOCATION:St Nicholas of Tolentine Church\, 2345 University Avenue\, Bronx\, NY\, 10468\, United States
END:VEVENT
BEGIN:VEVENT
DTSTART;TZID=America/New_York:20280628T083000
DTEND;TZID=America/New_York:20280628T093000
DTSTAMP:20260425T103715
CREATED:20250305T035020Z
LAST-MODIFIED:20250305T035025Z
UID:10016592-1845793800-1845797400@stnicholasoftolentinebronx.org
SUMMARY:8:30 am Spanish Mass
DESCRIPTION:
URL:https://stnicholasoftolentinebronx.org/event/830-am-spanish-mass-3/2028-06-28/
LOCATION:St Nicholas of Tolentine Church\, 2345 University Avenue\, Bronx\, NY\, 10468\, United States
END:VEVENT
BEGIN:VEVENT
DTSTART;TZID=America/New_York:20280628T120000
DTEND;TZID=America/New_York:20280628T123000
DTSTAMP:20260425T103715
CREATED:20250305T040540Z
LAST-MODIFIED:20250305T040545Z
UID:10017896-1845806400-1845808200@stnicholasoftolentinebronx.org
SUMMARY:12:00 Noon English mass
DESCRIPTION:
URL:https://stnicholasoftolentinebronx.org/event/1200-noon-english-mass/2028-06-28/
LOCATION:St Nicholas of Tolentine Church\, 2345 University Avenue\, Bronx\, NY\, 10468\, United States
END:VEVENT
BEGIN:VEVENT
DTSTART;TZID=America/New_York:20280629T083000
DTEND;TZID=America/New_York:20280629T093000
DTSTAMP:20260425T103715
CREATED:20250305T035020Z
LAST-MODIFIED:20250305T035025Z
UID:10016593-1845880200-1845883800@stnicholasoftolentinebronx.org
SUMMARY:8:30 am Spanish Mass
DESCRIPTION:
URL:https://stnicholasoftolentinebronx.org/event/830-am-spanish-mass-3/2028-06-29/
LOCATION:St Nicholas of Tolentine Church\, 2345 University Avenue\, Bronx\, NY\, 10468\, United States
END:VEVENT
BEGIN:VEVENT
DTSTART;TZID=America/New_York:20280629T120000
DTEND;TZID=America/New_York:20280629T123000
DTSTAMP:20260425T103715
CREATED:20250305T040540Z
LAST-MODIFIED:20250305T040545Z
UID:10017897-1845892800-1845894600@stnicholasoftolentinebronx.org
SUMMARY:12:00 Noon English mass
DESCRIPTION:
URL:https://stnicholasoftolentinebronx.org/event/1200-noon-english-mass/2028-06-29/
LOCATION:St Nicholas of Tolentine Church\, 2345 University Avenue\, Bronx\, NY\, 10468\, United States
END:VEVENT
BEGIN:VEVENT
DTSTART;TZID=America/New_York:20280629T190000
DTEND;TZID=America/New_York:20280629T210000
DTSTAMP:20260425T103715
CREATED:20250305T041048Z
LAST-MODIFIED:20250306T225714Z
UID:10018510-1845918000-1845925200@stnicholasoftolentinebronx.org
SUMMARY:7:00 pm Círculo
DESCRIPTION:
URL:https://stnicholasoftolentinebronx.org/event/700-circulo/2028-06-29/
LOCATION:NY
END:VEVENT
BEGIN:VEVENT
DTSTART;TZID=America/New_York:20280630T083000
DTEND;TZID=America/New_York:20280630T093000
DTSTAMP:20260425T103715
CREATED:20250305T035020Z
LAST-MODIFIED:20250305T035025Z
UID:10016594-1845966600-1845970200@stnicholasoftolentinebronx.org
SUMMARY:8:30 am Spanish Mass
DESCRIPTION:
URL:https://stnicholasoftolentinebronx.org/event/830-am-spanish-mass-3/2028-06-30/
LOCATION:St Nicholas of Tolentine Church\, 2345 University Avenue\, Bronx\, NY\, 10468\, United States
END:VEVENT
BEGIN:VEVENT
DTSTART;TZID=America/New_York:20280630T120000
DTEND;TZID=America/New_York:20280630T123000
DTSTAMP:20260425T103715
CREATED:20250305T040540Z
LAST-MODIFIED:20250305T040545Z
UID:10017898-1845979200-1845981000@stnicholasoftolentinebronx.org
SUMMARY:12:00 Noon English mass
DESCRIPTION:
URL:https://stnicholasoftolentinebronx.org/event/1200-noon-english-mass/2028-06-30/
LOCATION:St Nicholas of Tolentine Church\, 2345 University Avenue\, Bronx\, NY\, 10468\, United States
END:VEVENT
BEGIN:VEVENT
DTSTART;TZID=America/New_York:20280701T074500
DTEND;TZID=America/New_York:20280701T083000
DTSTAMP:20260425T103715
CREATED:20250313T023643Z
LAST-MODIFIED:20250313T023646Z
UID:10018791-1846050300-1846053000@stnicholasoftolentinebronx.org
SUMMARY:7:45 am Vietnamese Mass
DESCRIPTION:
URL:https://stnicholasoftolentinebronx.org/event/745-am-vietnamese-mass/2028-07-01/
LOCATION:St Nicholas of Tolentine Church\, 2345 University Avenue\, Bronx\, NY\, 10468\, United States
END:VEVENT
BEGIN:VEVENT
DTSTART;TZID=America/New_York:20280701T173000
DTEND;TZID=America/New_York:20280701T183000
DTSTAMP:20260425T103715
CREATED:20250313T023751Z
LAST-MODIFIED:20250313T023752Z
UID:10019052-1846085400-1846089000@stnicholasoftolentinebronx.org
SUMMARY:5:30 pm Confessions
DESCRIPTION:
URL:https://stnicholasoftolentinebronx.org/event/530-pm-confessions/2028-07-01/
LOCATION:St Nicholas of Tolentine Church\, 2345 University Avenue\, Bronx\, NY\, 10468\, United States
END:VEVENT
BEGIN:VEVENT
DTSTART;TZID=America/New_York:20280701T190000
DTEND;TZID=America/New_York:20280701T200000
DTSTAMP:20260425T103715
CREATED:20250313T023841Z
LAST-MODIFIED:20250313T023842Z
UID:10019313-1846090800-1846094400@stnicholasoftolentinebronx.org
SUMMARY:7:00 pm Spanish Mass
DESCRIPTION:
URL:https://stnicholasoftolentinebronx.org/event/700-pm-spanish-mass/2028-07-01/
LOCATION:St Nicholas of Tolentine Church\, 2345 University Avenue\, Bronx\, NY\, 10468\, United States
END:VEVENT
BEGIN:VEVENT
DTSTART;TZID=America/New_York:20280702T080000
DTEND;TZID=America/New_York:20280702T090000
DTSTAMP:20260425T103715
CREATED:20250313T023930Z
LAST-MODIFIED:20250418T035212Z
UID:10019574-1846137600-1846141200@stnicholasoftolentinebronx.org
SUMMARY:8:00 am English Mass
DESCRIPTION:
URL:https://stnicholasoftolentinebronx.org/event/800-am-english-mass/2028-07-02/
LOCATION:St Nicholas of Tolentine Church\, 2345 University Avenue\, Bronx\, NY\, 10468\, United States
END:VEVENT
BEGIN:VEVENT
DTSTART;TZID=America/New_York:20280702T093000
DTEND;TZID=America/New_York:20280702T110000
DTSTAMP:20260425T103715
CREATED:20250313T024022Z
LAST-MODIFIED:20250313T024024Z
UID:10019835-1846143000-1846148400@stnicholasoftolentinebronx.org
SUMMARY:9:30 am Spanish Mass
DESCRIPTION:
URL:https://stnicholasoftolentinebronx.org/event/930-am-spanish-mass/2028-07-02/
LOCATION:St Nicholas of Tolentine Church\, 2345 University Avenue\, Bronx\, NY\, 10468\, United States
END:VEVENT
BEGIN:VEVENT
DTSTART;TZID=America/New_York:20280702T113000
DTEND;TZID=America/New_York:20280702T123000
DTSTAMP:20260425T103715
CREATED:20250313T024110Z
LAST-MODIFIED:20250313T024112Z
UID:10020096-1846150200-1846153800@stnicholasoftolentinebronx.org
SUMMARY:11:30 am English Mass
DESCRIPTION:
URL:https://stnicholasoftolentinebronx.org/event/1130-am-english-mass/2028-07-02/
LOCATION:St Nicholas of Tolentine Church\, 2345 University Avenue\, Bronx\, NY\, 10468\, United States
END:VEVENT
BEGIN:VEVENT
DTSTART;TZID=America/New_York:20280702T133000
DTEND;TZID=America/New_York:20280702T143000
DTSTAMP:20260425T103715
CREATED:20250313T024158Z
LAST-MODIFIED:20250313T024339Z
UID:10020357-1846157400-1846161000@stnicholasoftolentinebronx.org
SUMMARY:1:30 pm Vietnamese Mass
DESCRIPTION:
URL:https://stnicholasoftolentinebronx.org/event/130-pm-vietnamese-mass/2028-07-02/
LOCATION:St Nicholas of Tolentine Church\, 2345 University Avenue\, Bronx\, NY\, 10468\, United States
END:VEVENT
END:VCALENDAR