BEGIN:VCALENDAR
VERSION:2.0
PRODID:-//St. Nicholas of Tolentine Church - ECPv6.15.20//NONSGML v1.0//EN
CALSCALE:GREGORIAN
METHOD:PUBLISH
X-WR-CALNAME:St. Nicholas of Tolentine Church
X-ORIGINAL-URL:https://stnicholasoftolentinebronx.org
X-WR-CALDESC:Events for St. Nicholas of Tolentine Church
REFRESH-INTERVAL;VALUE=DURATION:PT1H
X-Robots-Tag:noindex
X-PUBLISHED-TTL:PT1H
BEGIN:VTIMEZONE
TZID:America/New_York
BEGIN:DAYLIGHT
TZOFFSETFROM:-0500
TZOFFSETTO:-0400
TZNAME:EDT
DTSTART:20270314T070000
END:DAYLIGHT
BEGIN:STANDARD
TZOFFSETFROM:-0400
TZOFFSETTO:-0500
TZNAME:EST
DTSTART:20271107T060000
END:STANDARD
BEGIN:DAYLIGHT
TZOFFSETFROM:-0500
TZOFFSETTO:-0400
TZNAME:EDT
DTSTART:20280312T070000
END:DAYLIGHT
BEGIN:STANDARD
TZOFFSETFROM:-0400
TZOFFSETTO:-0500
TZNAME:EST
DTSTART:20281105T060000
END:STANDARD
BEGIN:DAYLIGHT
TZOFFSETFROM:-0500
TZOFFSETTO:-0400
TZNAME:EDT
DTSTART:20290311T070000
END:DAYLIGHT
BEGIN:STANDARD
TZOFFSETFROM:-0400
TZOFFSETTO:-0500
TZNAME:EST
DTSTART:20291104T060000
END:STANDARD
END:VTIMEZONE
BEGIN:VEVENT
DTSTART;TZID=America/New_York:20280710T083000
DTEND;TZID=America/New_York:20280710T093000
DTSTAMP:20260425T162643
CREATED:20250305T035020Z
LAST-MODIFIED:20250305T035025Z
UID:10016600-1846830600-1846834200@stnicholasoftolentinebronx.org
SUMMARY:8:30 am Spanish Mass
DESCRIPTION:
URL:https://stnicholasoftolentinebronx.org/event/830-am-spanish-mass-3/2028-07-10/
LOCATION:St Nicholas of Tolentine Church\, 2345 University Avenue\, Bronx\, NY\, 10468\, United States
END:VEVENT
BEGIN:VEVENT
DTSTART;TZID=America/New_York:20280710T120000
DTEND;TZID=America/New_York:20280710T123000
DTSTAMP:20260425T162644
CREATED:20250305T040540Z
LAST-MODIFIED:20250305T040545Z
UID:10017904-1846843200-1846845000@stnicholasoftolentinebronx.org
SUMMARY:12:00 Noon English mass
DESCRIPTION:
URL:https://stnicholasoftolentinebronx.org/event/1200-noon-english-mass/2028-07-10/
LOCATION:St Nicholas of Tolentine Church\, 2345 University Avenue\, Bronx\, NY\, 10468\, United States
END:VEVENT
BEGIN:VEVENT
DTSTART;TZID=America/New_York:20280711T083000
DTEND;TZID=America/New_York:20280711T093000
DTSTAMP:20260425T162644
CREATED:20250305T035020Z
LAST-MODIFIED:20250305T035025Z
UID:10016601-1846917000-1846920600@stnicholasoftolentinebronx.org
SUMMARY:8:30 am Spanish Mass
DESCRIPTION:
URL:https://stnicholasoftolentinebronx.org/event/830-am-spanish-mass-3/2028-07-11/
LOCATION:St Nicholas of Tolentine Church\, 2345 University Avenue\, Bronx\, NY\, 10468\, United States
END:VEVENT
BEGIN:VEVENT
DTSTART;TZID=America/New_York:20280711T120000
DTEND;TZID=America/New_York:20280711T123000
DTSTAMP:20260425T162644
CREATED:20250305T040540Z
LAST-MODIFIED:20250305T040545Z
UID:10017905-1846929600-1846931400@stnicholasoftolentinebronx.org
SUMMARY:12:00 Noon English mass
DESCRIPTION:
URL:https://stnicholasoftolentinebronx.org/event/1200-noon-english-mass/2028-07-11/
LOCATION:St Nicholas of Tolentine Church\, 2345 University Avenue\, Bronx\, NY\, 10468\, United States
END:VEVENT
BEGIN:VEVENT
DTSTART;TZID=America/New_York:20280712T083000
DTEND;TZID=America/New_York:20280712T093000
DTSTAMP:20260425T162644
CREATED:20250305T035020Z
LAST-MODIFIED:20250305T035025Z
UID:10016602-1847003400-1847007000@stnicholasoftolentinebronx.org
SUMMARY:8:30 am Spanish Mass
DESCRIPTION:
URL:https://stnicholasoftolentinebronx.org/event/830-am-spanish-mass-3/2028-07-12/
LOCATION:St Nicholas of Tolentine Church\, 2345 University Avenue\, Bronx\, NY\, 10468\, United States
END:VEVENT
BEGIN:VEVENT
DTSTART;TZID=America/New_York:20280712T120000
DTEND;TZID=America/New_York:20280712T123000
DTSTAMP:20260425T162644
CREATED:20250305T040540Z
LAST-MODIFIED:20250305T040545Z
UID:10017906-1847016000-1847017800@stnicholasoftolentinebronx.org
SUMMARY:12:00 Noon English mass
DESCRIPTION:
URL:https://stnicholasoftolentinebronx.org/event/1200-noon-english-mass/2028-07-12/
LOCATION:St Nicholas of Tolentine Church\, 2345 University Avenue\, Bronx\, NY\, 10468\, United States
END:VEVENT
BEGIN:VEVENT
DTSTART;TZID=America/New_York:20280713T083000
DTEND;TZID=America/New_York:20280713T093000
DTSTAMP:20260425T162644
CREATED:20250305T035020Z
LAST-MODIFIED:20250305T035025Z
UID:10016603-1847089800-1847093400@stnicholasoftolentinebronx.org
SUMMARY:8:30 am Spanish Mass
DESCRIPTION:
URL:https://stnicholasoftolentinebronx.org/event/830-am-spanish-mass-3/2028-07-13/
LOCATION:St Nicholas of Tolentine Church\, 2345 University Avenue\, Bronx\, NY\, 10468\, United States
END:VEVENT
BEGIN:VEVENT
DTSTART;TZID=America/New_York:20280713T120000
DTEND;TZID=America/New_York:20280713T123000
DTSTAMP:20260425T162644
CREATED:20250305T040540Z
LAST-MODIFIED:20250305T040545Z
UID:10017907-1847102400-1847104200@stnicholasoftolentinebronx.org
SUMMARY:12:00 Noon English mass
DESCRIPTION:
URL:https://stnicholasoftolentinebronx.org/event/1200-noon-english-mass/2028-07-13/
LOCATION:St Nicholas of Tolentine Church\, 2345 University Avenue\, Bronx\, NY\, 10468\, United States
END:VEVENT
BEGIN:VEVENT
DTSTART;TZID=America/New_York:20280713T190000
DTEND;TZID=America/New_York:20280713T210000
DTSTAMP:20260425T162644
CREATED:20250305T041048Z
LAST-MODIFIED:20250306T225714Z
UID:10018512-1847127600-1847134800@stnicholasoftolentinebronx.org
SUMMARY:7:00 pm Círculo
DESCRIPTION:
URL:https://stnicholasoftolentinebronx.org/event/700-circulo/2028-07-13/
LOCATION:NY
END:VEVENT
BEGIN:VEVENT
DTSTART;TZID=America/New_York:20280714T083000
DTEND;TZID=America/New_York:20280714T093000
DTSTAMP:20260425T162644
CREATED:20250305T035020Z
LAST-MODIFIED:20250305T035025Z
UID:10016604-1847176200-1847179800@stnicholasoftolentinebronx.org
SUMMARY:8:30 am Spanish Mass
DESCRIPTION:
URL:https://stnicholasoftolentinebronx.org/event/830-am-spanish-mass-3/2028-07-14/
LOCATION:St Nicholas of Tolentine Church\, 2345 University Avenue\, Bronx\, NY\, 10468\, United States
END:VEVENT
BEGIN:VEVENT
DTSTART;TZID=America/New_York:20280714T120000
DTEND;TZID=America/New_York:20280714T123000
DTSTAMP:20260425T162644
CREATED:20250305T040540Z
LAST-MODIFIED:20250305T040545Z
UID:10017908-1847188800-1847190600@stnicholasoftolentinebronx.org
SUMMARY:12:00 Noon English mass
DESCRIPTION:
URL:https://stnicholasoftolentinebronx.org/event/1200-noon-english-mass/2028-07-14/
LOCATION:St Nicholas of Tolentine Church\, 2345 University Avenue\, Bronx\, NY\, 10468\, United States
END:VEVENT
BEGIN:VEVENT
DTSTART;TZID=America/New_York:20280715T074500
DTEND;TZID=America/New_York:20280715T083000
DTSTAMP:20260425T162644
CREATED:20250313T023643Z
LAST-MODIFIED:20250313T023646Z
UID:10018793-1847259900-1847262600@stnicholasoftolentinebronx.org
SUMMARY:7:45 am Vietnamese Mass
DESCRIPTION:
URL:https://stnicholasoftolentinebronx.org/event/745-am-vietnamese-mass/2028-07-15/
LOCATION:St Nicholas of Tolentine Church\, 2345 University Avenue\, Bronx\, NY\, 10468\, United States
END:VEVENT
BEGIN:VEVENT
DTSTART;TZID=America/New_York:20280715T173000
DTEND;TZID=America/New_York:20280715T183000
DTSTAMP:20260425T162644
CREATED:20250313T023751Z
LAST-MODIFIED:20250313T023752Z
UID:10019054-1847295000-1847298600@stnicholasoftolentinebronx.org
SUMMARY:5:30 pm Confessions
DESCRIPTION:
URL:https://stnicholasoftolentinebronx.org/event/530-pm-confessions/2028-07-15/
LOCATION:St Nicholas of Tolentine Church\, 2345 University Avenue\, Bronx\, NY\, 10468\, United States
END:VEVENT
BEGIN:VEVENT
DTSTART;TZID=America/New_York:20280715T190000
DTEND;TZID=America/New_York:20280715T200000
DTSTAMP:20260425T162644
CREATED:20250313T023841Z
LAST-MODIFIED:20250313T023842Z
UID:10019315-1847300400-1847304000@stnicholasoftolentinebronx.org
SUMMARY:7:00 pm Spanish Mass
DESCRIPTION:
URL:https://stnicholasoftolentinebronx.org/event/700-pm-spanish-mass/2028-07-15/
LOCATION:St Nicholas of Tolentine Church\, 2345 University Avenue\, Bronx\, NY\, 10468\, United States
END:VEVENT
BEGIN:VEVENT
DTSTART;TZID=America/New_York:20280716T080000
DTEND;TZID=America/New_York:20280716T090000
DTSTAMP:20260425T162644
CREATED:20250313T023930Z
LAST-MODIFIED:20250418T035212Z
UID:10019576-1847347200-1847350800@stnicholasoftolentinebronx.org
SUMMARY:8:00 am English Mass
DESCRIPTION:
URL:https://stnicholasoftolentinebronx.org/event/800-am-english-mass/2028-07-16/
LOCATION:St Nicholas of Tolentine Church\, 2345 University Avenue\, Bronx\, NY\, 10468\, United States
END:VEVENT
BEGIN:VEVENT
DTSTART;TZID=America/New_York:20280716T093000
DTEND;TZID=America/New_York:20280716T110000
DTSTAMP:20260425T162644
CREATED:20250313T024022Z
LAST-MODIFIED:20250313T024024Z
UID:10019837-1847352600-1847358000@stnicholasoftolentinebronx.org
SUMMARY:9:30 am Spanish Mass
DESCRIPTION:
URL:https://stnicholasoftolentinebronx.org/event/930-am-spanish-mass/2028-07-16/
LOCATION:St Nicholas of Tolentine Church\, 2345 University Avenue\, Bronx\, NY\, 10468\, United States
END:VEVENT
BEGIN:VEVENT
DTSTART;TZID=America/New_York:20280716T113000
DTEND;TZID=America/New_York:20280716T123000
DTSTAMP:20260425T162644
CREATED:20250313T024110Z
LAST-MODIFIED:20250313T024112Z
UID:10020098-1847359800-1847363400@stnicholasoftolentinebronx.org
SUMMARY:11:30 am English Mass
DESCRIPTION:
URL:https://stnicholasoftolentinebronx.org/event/1130-am-english-mass/2028-07-16/
LOCATION:St Nicholas of Tolentine Church\, 2345 University Avenue\, Bronx\, NY\, 10468\, United States
END:VEVENT
BEGIN:VEVENT
DTSTART;TZID=America/New_York:20280716T133000
DTEND;TZID=America/New_York:20280716T143000
DTSTAMP:20260425T162644
CREATED:20250313T024158Z
LAST-MODIFIED:20250313T024339Z
UID:10020359-1847367000-1847370600@stnicholasoftolentinebronx.org
SUMMARY:1:30 pm Vietnamese Mass
DESCRIPTION:
URL:https://stnicholasoftolentinebronx.org/event/130-pm-vietnamese-mass/2028-07-16/
LOCATION:St Nicholas of Tolentine Church\, 2345 University Avenue\, Bronx\, NY\, 10468\, United States
END:VEVENT
BEGIN:VEVENT
DTSTART;TZID=America/New_York:20280717T083000
DTEND;TZID=America/New_York:20280717T093000
DTSTAMP:20260425T162644
CREATED:20250305T035020Z
LAST-MODIFIED:20250305T035025Z
UID:10016605-1847435400-1847439000@stnicholasoftolentinebronx.org
SUMMARY:8:30 am Spanish Mass
DESCRIPTION:
URL:https://stnicholasoftolentinebronx.org/event/830-am-spanish-mass-3/2028-07-17/
LOCATION:St Nicholas of Tolentine Church\, 2345 University Avenue\, Bronx\, NY\, 10468\, United States
END:VEVENT
BEGIN:VEVENT
DTSTART;TZID=America/New_York:20280717T120000
DTEND;TZID=America/New_York:20280717T123000
DTSTAMP:20260425T162644
CREATED:20250305T040540Z
LAST-MODIFIED:20250305T040545Z
UID:10017909-1847448000-1847449800@stnicholasoftolentinebronx.org
SUMMARY:12:00 Noon English mass
DESCRIPTION:
URL:https://stnicholasoftolentinebronx.org/event/1200-noon-english-mass/2028-07-17/
LOCATION:St Nicholas of Tolentine Church\, 2345 University Avenue\, Bronx\, NY\, 10468\, United States
END:VEVENT
BEGIN:VEVENT
DTSTART;TZID=America/New_York:20280718T083000
DTEND;TZID=America/New_York:20280718T093000
DTSTAMP:20260425T162644
CREATED:20250305T035020Z
LAST-MODIFIED:20250305T035025Z
UID:10016606-1847521800-1847525400@stnicholasoftolentinebronx.org
SUMMARY:8:30 am Spanish Mass
DESCRIPTION:
URL:https://stnicholasoftolentinebronx.org/event/830-am-spanish-mass-3/2028-07-18/
LOCATION:St Nicholas of Tolentine Church\, 2345 University Avenue\, Bronx\, NY\, 10468\, United States
END:VEVENT
BEGIN:VEVENT
DTSTART;TZID=America/New_York:20280718T120000
DTEND;TZID=America/New_York:20280718T123000
DTSTAMP:20260425T162644
CREATED:20250305T040540Z
LAST-MODIFIED:20250305T040545Z
UID:10017910-1847534400-1847536200@stnicholasoftolentinebronx.org
SUMMARY:12:00 Noon English mass
DESCRIPTION:
URL:https://stnicholasoftolentinebronx.org/event/1200-noon-english-mass/2028-07-18/
LOCATION:St Nicholas of Tolentine Church\, 2345 University Avenue\, Bronx\, NY\, 10468\, United States
END:VEVENT
BEGIN:VEVENT
DTSTART;TZID=America/New_York:20280719T083000
DTEND;TZID=America/New_York:20280719T093000
DTSTAMP:20260425T162644
CREATED:20250305T035020Z
LAST-MODIFIED:20250305T035025Z
UID:10016607-1847608200-1847611800@stnicholasoftolentinebronx.org
SUMMARY:8:30 am Spanish Mass
DESCRIPTION:
URL:https://stnicholasoftolentinebronx.org/event/830-am-spanish-mass-3/2028-07-19/
LOCATION:St Nicholas of Tolentine Church\, 2345 University Avenue\, Bronx\, NY\, 10468\, United States
END:VEVENT
BEGIN:VEVENT
DTSTART;TZID=America/New_York:20280719T120000
DTEND;TZID=America/New_York:20280719T123000
DTSTAMP:20260425T162644
CREATED:20250305T040540Z
LAST-MODIFIED:20250305T040545Z
UID:10017911-1847620800-1847622600@stnicholasoftolentinebronx.org
SUMMARY:12:00 Noon English mass
DESCRIPTION:
URL:https://stnicholasoftolentinebronx.org/event/1200-noon-english-mass/2028-07-19/
LOCATION:St Nicholas of Tolentine Church\, 2345 University Avenue\, Bronx\, NY\, 10468\, United States
END:VEVENT
BEGIN:VEVENT
DTSTART;TZID=America/New_York:20280720T083000
DTEND;TZID=America/New_York:20280720T093000
DTSTAMP:20260425T162644
CREATED:20250305T035020Z
LAST-MODIFIED:20250305T035025Z
UID:10016608-1847694600-1847698200@stnicholasoftolentinebronx.org
SUMMARY:8:30 am Spanish Mass
DESCRIPTION:
URL:https://stnicholasoftolentinebronx.org/event/830-am-spanish-mass-3/2028-07-20/
LOCATION:St Nicholas of Tolentine Church\, 2345 University Avenue\, Bronx\, NY\, 10468\, United States
END:VEVENT
BEGIN:VEVENT
DTSTART;TZID=America/New_York:20280720T120000
DTEND;TZID=America/New_York:20280720T123000
DTSTAMP:20260425T162644
CREATED:20250305T040540Z
LAST-MODIFIED:20250305T040545Z
UID:10017912-1847707200-1847709000@stnicholasoftolentinebronx.org
SUMMARY:12:00 Noon English mass
DESCRIPTION:
URL:https://stnicholasoftolentinebronx.org/event/1200-noon-english-mass/2028-07-20/
LOCATION:St Nicholas of Tolentine Church\, 2345 University Avenue\, Bronx\, NY\, 10468\, United States
END:VEVENT
BEGIN:VEVENT
DTSTART;TZID=America/New_York:20280720T190000
DTEND;TZID=America/New_York:20280720T210000
DTSTAMP:20260425T162644
CREATED:20250305T041048Z
LAST-MODIFIED:20250306T225714Z
UID:10018513-1847732400-1847739600@stnicholasoftolentinebronx.org
SUMMARY:7:00 pm Círculo
DESCRIPTION:
URL:https://stnicholasoftolentinebronx.org/event/700-circulo/2028-07-20/
LOCATION:NY
END:VEVENT
BEGIN:VEVENT
DTSTART;TZID=America/New_York:20280721T083000
DTEND;TZID=America/New_York:20280721T093000
DTSTAMP:20260425T162644
CREATED:20250305T035020Z
LAST-MODIFIED:20250305T035025Z
UID:10016609-1847781000-1847784600@stnicholasoftolentinebronx.org
SUMMARY:8:30 am Spanish Mass
DESCRIPTION:
URL:https://stnicholasoftolentinebronx.org/event/830-am-spanish-mass-3/2028-07-21/
LOCATION:St Nicholas of Tolentine Church\, 2345 University Avenue\, Bronx\, NY\, 10468\, United States
END:VEVENT
BEGIN:VEVENT
DTSTART;TZID=America/New_York:20280721T120000
DTEND;TZID=America/New_York:20280721T123000
DTSTAMP:20260425T162644
CREATED:20250305T040540Z
LAST-MODIFIED:20250305T040545Z
UID:10017913-1847793600-1847795400@stnicholasoftolentinebronx.org
SUMMARY:12:00 Noon English mass
DESCRIPTION:
URL:https://stnicholasoftolentinebronx.org/event/1200-noon-english-mass/2028-07-21/
LOCATION:St Nicholas of Tolentine Church\, 2345 University Avenue\, Bronx\, NY\, 10468\, United States
END:VEVENT
BEGIN:VEVENT
DTSTART;TZID=America/New_York:20280722T074500
DTEND;TZID=America/New_York:20280722T083000
DTSTAMP:20260425T162644
CREATED:20250313T023643Z
LAST-MODIFIED:20250313T023646Z
UID:10018794-1847864700-1847867400@stnicholasoftolentinebronx.org
SUMMARY:7:45 am Vietnamese Mass
DESCRIPTION:
URL:https://stnicholasoftolentinebronx.org/event/745-am-vietnamese-mass/2028-07-22/
LOCATION:St Nicholas of Tolentine Church\, 2345 University Avenue\, Bronx\, NY\, 10468\, United States
END:VEVENT
END:VCALENDAR