BEGIN:VCALENDAR
VERSION:2.0
PRODID:-//St. Nicholas of Tolentine Church - ECPv6.15.20//NONSGML v1.0//EN
CALSCALE:GREGORIAN
METHOD:PUBLISH
X-WR-CALNAME:St. Nicholas of Tolentine Church
X-ORIGINAL-URL:https://stnicholasoftolentinebronx.org
X-WR-CALDESC:Events for St. Nicholas of Tolentine Church
REFRESH-INTERVAL;VALUE=DURATION:PT1H
X-Robots-Tag:noindex
X-PUBLISHED-TTL:PT1H
BEGIN:VTIMEZONE
TZID:America/New_York
BEGIN:DAYLIGHT
TZOFFSETFROM:-0500
TZOFFSETTO:-0400
TZNAME:EDT
DTSTART:20280312T070000
END:DAYLIGHT
BEGIN:STANDARD
TZOFFSETFROM:-0400
TZOFFSETTO:-0500
TZNAME:EST
DTSTART:20281105T060000
END:STANDARD
BEGIN:DAYLIGHT
TZOFFSETFROM:-0500
TZOFFSETTO:-0400
TZNAME:EDT
DTSTART:20290311T070000
END:DAYLIGHT
BEGIN:STANDARD
TZOFFSETFROM:-0400
TZOFFSETTO:-0500
TZNAME:EST
DTSTART:20291104T060000
END:STANDARD
BEGIN:DAYLIGHT
TZOFFSETFROM:-0500
TZOFFSETTO:-0400
TZNAME:EDT
DTSTART:20300310T070000
END:DAYLIGHT
BEGIN:STANDARD
TZOFFSETFROM:-0400
TZOFFSETTO:-0500
TZNAME:EST
DTSTART:20301103T060000
END:STANDARD
END:VTIMEZONE
BEGIN:VEVENT
DTSTART;TZID=America/New_York:20290128T093000
DTEND;TZID=America/New_York:20290128T110000
DTSTAMP:20260426T003026
CREATED:20250313T024022Z
LAST-MODIFIED:20250313T024024Z
UID:10019865-1864287000-1864292400@stnicholasoftolentinebronx.org
SUMMARY:9:30 am Spanish Mass
DESCRIPTION:
URL:https://stnicholasoftolentinebronx.org/event/930-am-spanish-mass/2029-01-28/
LOCATION:St Nicholas of Tolentine Church\, 2345 University Avenue\, Bronx\, NY\, 10468\, United States
END:VEVENT
BEGIN:VEVENT
DTSTART;TZID=America/New_York:20290128T113000
DTEND;TZID=America/New_York:20290128T123000
DTSTAMP:20260426T003026
CREATED:20250313T024110Z
LAST-MODIFIED:20250313T024112Z
UID:10020126-1864294200-1864297800@stnicholasoftolentinebronx.org
SUMMARY:11:30 am English Mass
DESCRIPTION:
URL:https://stnicholasoftolentinebronx.org/event/1130-am-english-mass/2029-01-28/
LOCATION:St Nicholas of Tolentine Church\, 2345 University Avenue\, Bronx\, NY\, 10468\, United States
END:VEVENT
BEGIN:VEVENT
DTSTART;TZID=America/New_York:20290128T133000
DTEND;TZID=America/New_York:20290128T143000
DTSTAMP:20260426T003026
CREATED:20250313T024158Z
LAST-MODIFIED:20250313T024339Z
UID:10020387-1864301400-1864305000@stnicholasoftolentinebronx.org
SUMMARY:1:30 pm Vietnamese Mass
DESCRIPTION:
URL:https://stnicholasoftolentinebronx.org/event/130-pm-vietnamese-mass/2029-01-28/
LOCATION:St Nicholas of Tolentine Church\, 2345 University Avenue\, Bronx\, NY\, 10468\, United States
END:VEVENT
BEGIN:VEVENT
DTSTART;TZID=America/New_York:20290129T083000
DTEND;TZID=America/New_York:20290129T093000
DTSTAMP:20260426T003026
CREATED:20250305T035020Z
LAST-MODIFIED:20250305T035025Z
UID:10016745-1864369800-1864373400@stnicholasoftolentinebronx.org
SUMMARY:8:30 am Spanish Mass
DESCRIPTION:
URL:https://stnicholasoftolentinebronx.org/event/830-am-spanish-mass-3/2029-01-29/
LOCATION:St Nicholas of Tolentine Church\, 2345 University Avenue\, Bronx\, NY\, 10468\, United States
END:VEVENT
BEGIN:VEVENT
DTSTART;TZID=America/New_York:20290129T120000
DTEND;TZID=America/New_York:20290129T123000
DTSTAMP:20260426T003026
CREATED:20250305T040540Z
LAST-MODIFIED:20250305T040545Z
UID:10018049-1864382400-1864384200@stnicholasoftolentinebronx.org
SUMMARY:12:00 Noon English mass
DESCRIPTION:
URL:https://stnicholasoftolentinebronx.org/event/1200-noon-english-mass/2029-01-29/
LOCATION:St Nicholas of Tolentine Church\, 2345 University Avenue\, Bronx\, NY\, 10468\, United States
END:VEVENT
BEGIN:VEVENT
DTSTART;TZID=America/New_York:20290130T083000
DTEND;TZID=America/New_York:20290130T093000
DTSTAMP:20260426T003026
CREATED:20250305T035020Z
LAST-MODIFIED:20250305T035025Z
UID:10016746-1864456200-1864459800@stnicholasoftolentinebronx.org
SUMMARY:8:30 am Spanish Mass
DESCRIPTION:
URL:https://stnicholasoftolentinebronx.org/event/830-am-spanish-mass-3/2029-01-30/
LOCATION:St Nicholas of Tolentine Church\, 2345 University Avenue\, Bronx\, NY\, 10468\, United States
END:VEVENT
BEGIN:VEVENT
DTSTART;TZID=America/New_York:20290130T120000
DTEND;TZID=America/New_York:20290130T123000
DTSTAMP:20260426T003026
CREATED:20250305T040540Z
LAST-MODIFIED:20250305T040545Z
UID:10018050-1864468800-1864470600@stnicholasoftolentinebronx.org
SUMMARY:12:00 Noon English mass
DESCRIPTION:
URL:https://stnicholasoftolentinebronx.org/event/1200-noon-english-mass/2029-01-30/
LOCATION:St Nicholas of Tolentine Church\, 2345 University Avenue\, Bronx\, NY\, 10468\, United States
END:VEVENT
BEGIN:VEVENT
DTSTART;TZID=America/New_York:20290131T083000
DTEND;TZID=America/New_York:20290131T093000
DTSTAMP:20260426T003026
CREATED:20250305T035020Z
LAST-MODIFIED:20250305T035025Z
UID:10016747-1864542600-1864546200@stnicholasoftolentinebronx.org
SUMMARY:8:30 am Spanish Mass
DESCRIPTION:
URL:https://stnicholasoftolentinebronx.org/event/830-am-spanish-mass-3/2029-01-31/
LOCATION:St Nicholas of Tolentine Church\, 2345 University Avenue\, Bronx\, NY\, 10468\, United States
END:VEVENT
BEGIN:VEVENT
DTSTART;TZID=America/New_York:20290131T120000
DTEND;TZID=America/New_York:20290131T123000
DTSTAMP:20260426T003026
CREATED:20250305T040540Z
LAST-MODIFIED:20250305T040545Z
UID:10018051-1864555200-1864557000@stnicholasoftolentinebronx.org
SUMMARY:12:00 Noon English mass
DESCRIPTION:
URL:https://stnicholasoftolentinebronx.org/event/1200-noon-english-mass/2029-01-31/
LOCATION:St Nicholas of Tolentine Church\, 2345 University Avenue\, Bronx\, NY\, 10468\, United States
END:VEVENT
BEGIN:VEVENT
DTSTART;TZID=America/New_York:20290201T083000
DTEND;TZID=America/New_York:20290201T093000
DTSTAMP:20260426T003026
CREATED:20250305T035020Z
LAST-MODIFIED:20250305T035025Z
UID:10016748-1864629000-1864632600@stnicholasoftolentinebronx.org
SUMMARY:8:30 am Spanish Mass
DESCRIPTION:
URL:https://stnicholasoftolentinebronx.org/event/830-am-spanish-mass-3/2029-02-01/
LOCATION:St Nicholas of Tolentine Church\, 2345 University Avenue\, Bronx\, NY\, 10468\, United States
END:VEVENT
BEGIN:VEVENT
DTSTART;TZID=America/New_York:20290201T120000
DTEND;TZID=America/New_York:20290201T123000
DTSTAMP:20260426T003026
CREATED:20250305T040540Z
LAST-MODIFIED:20250305T040545Z
UID:10018052-1864641600-1864643400@stnicholasoftolentinebronx.org
SUMMARY:12:00 Noon English mass
DESCRIPTION:
URL:https://stnicholasoftolentinebronx.org/event/1200-noon-english-mass/2029-02-01/
LOCATION:St Nicholas of Tolentine Church\, 2345 University Avenue\, Bronx\, NY\, 10468\, United States
END:VEVENT
BEGIN:VEVENT
DTSTART;TZID=America/New_York:20290201T190000
DTEND;TZID=America/New_York:20290201T210000
DTSTAMP:20260426T003026
CREATED:20250305T041048Z
LAST-MODIFIED:20250306T225714Z
UID:10018541-1864666800-1864674000@stnicholasoftolentinebronx.org
SUMMARY:7:00 pm Círculo
DESCRIPTION:
URL:https://stnicholasoftolentinebronx.org/event/700-circulo/2029-02-01/
LOCATION:NY
END:VEVENT
BEGIN:VEVENT
DTSTART;TZID=America/New_York:20290202T083000
DTEND;TZID=America/New_York:20290202T093000
DTSTAMP:20260426T003026
CREATED:20250305T035020Z
LAST-MODIFIED:20250305T035025Z
UID:10016749-1864715400-1864719000@stnicholasoftolentinebronx.org
SUMMARY:8:30 am Spanish Mass
DESCRIPTION:
URL:https://stnicholasoftolentinebronx.org/event/830-am-spanish-mass-3/2029-02-02/
LOCATION:St Nicholas of Tolentine Church\, 2345 University Avenue\, Bronx\, NY\, 10468\, United States
END:VEVENT
BEGIN:VEVENT
DTSTART;TZID=America/New_York:20290202T120000
DTEND;TZID=America/New_York:20290202T123000
DTSTAMP:20260426T003026
CREATED:20250305T040540Z
LAST-MODIFIED:20250305T040545Z
UID:10018053-1864728000-1864729800@stnicholasoftolentinebronx.org
SUMMARY:12:00 Noon English mass
DESCRIPTION:
URL:https://stnicholasoftolentinebronx.org/event/1200-noon-english-mass/2029-02-02/
LOCATION:St Nicholas of Tolentine Church\, 2345 University Avenue\, Bronx\, NY\, 10468\, United States
END:VEVENT
BEGIN:VEVENT
DTSTART;TZID=America/New_York:20290203T074500
DTEND;TZID=America/New_York:20290203T083000
DTSTAMP:20260426T003026
CREATED:20250313T023643Z
LAST-MODIFIED:20250313T023646Z
UID:10018822-1864799100-1864801800@stnicholasoftolentinebronx.org
SUMMARY:7:45 am Vietnamese Mass
DESCRIPTION:
URL:https://stnicholasoftolentinebronx.org/event/745-am-vietnamese-mass/2029-02-03/
LOCATION:St Nicholas of Tolentine Church\, 2345 University Avenue\, Bronx\, NY\, 10468\, United States
END:VEVENT
BEGIN:VEVENT
DTSTART;TZID=America/New_York:20290203T173000
DTEND;TZID=America/New_York:20290203T183000
DTSTAMP:20260426T003026
CREATED:20250313T023751Z
LAST-MODIFIED:20250313T023752Z
UID:10019083-1864834200-1864837800@stnicholasoftolentinebronx.org
SUMMARY:5:30 pm Confessions
DESCRIPTION:
URL:https://stnicholasoftolentinebronx.org/event/530-pm-confessions/2029-02-03/
LOCATION:St Nicholas of Tolentine Church\, 2345 University Avenue\, Bronx\, NY\, 10468\, United States
END:VEVENT
BEGIN:VEVENT
DTSTART;TZID=America/New_York:20290203T190000
DTEND;TZID=America/New_York:20290203T200000
DTSTAMP:20260426T003026
CREATED:20250313T023841Z
LAST-MODIFIED:20250313T023842Z
UID:10019344-1864839600-1864843200@stnicholasoftolentinebronx.org
SUMMARY:7:00 pm Spanish Mass
DESCRIPTION:
URL:https://stnicholasoftolentinebronx.org/event/700-pm-spanish-mass/2029-02-03/
LOCATION:St Nicholas of Tolentine Church\, 2345 University Avenue\, Bronx\, NY\, 10468\, United States
END:VEVENT
BEGIN:VEVENT
DTSTART;TZID=America/New_York:20290204T080000
DTEND;TZID=America/New_York:20290204T090000
DTSTAMP:20260426T003026
CREATED:20250313T023930Z
LAST-MODIFIED:20250418T035212Z
UID:10019605-1864886400-1864890000@stnicholasoftolentinebronx.org
SUMMARY:8:00 am English Mass
DESCRIPTION:
URL:https://stnicholasoftolentinebronx.org/event/800-am-english-mass/2029-02-04/
LOCATION:St Nicholas of Tolentine Church\, 2345 University Avenue\, Bronx\, NY\, 10468\, United States
END:VEVENT
BEGIN:VEVENT
DTSTART;TZID=America/New_York:20290204T093000
DTEND;TZID=America/New_York:20290204T110000
DTSTAMP:20260426T003026
CREATED:20250313T024022Z
LAST-MODIFIED:20250313T024024Z
UID:10019866-1864891800-1864897200@stnicholasoftolentinebronx.org
SUMMARY:9:30 am Spanish Mass
DESCRIPTION:
URL:https://stnicholasoftolentinebronx.org/event/930-am-spanish-mass/2029-02-04/
LOCATION:St Nicholas of Tolentine Church\, 2345 University Avenue\, Bronx\, NY\, 10468\, United States
END:VEVENT
BEGIN:VEVENT
DTSTART;TZID=America/New_York:20290204T113000
DTEND;TZID=America/New_York:20290204T123000
DTSTAMP:20260426T003026
CREATED:20250313T024110Z
LAST-MODIFIED:20250313T024112Z
UID:10020127-1864899000-1864902600@stnicholasoftolentinebronx.org
SUMMARY:11:30 am English Mass
DESCRIPTION:
URL:https://stnicholasoftolentinebronx.org/event/1130-am-english-mass/2029-02-04/
LOCATION:St Nicholas of Tolentine Church\, 2345 University Avenue\, Bronx\, NY\, 10468\, United States
END:VEVENT
BEGIN:VEVENT
DTSTART;TZID=America/New_York:20290204T133000
DTEND;TZID=America/New_York:20290204T143000
DTSTAMP:20260426T003026
CREATED:20250313T024158Z
LAST-MODIFIED:20250313T024339Z
UID:10020388-1864906200-1864909800@stnicholasoftolentinebronx.org
SUMMARY:1:30 pm Vietnamese Mass
DESCRIPTION:
URL:https://stnicholasoftolentinebronx.org/event/130-pm-vietnamese-mass/2029-02-04/
LOCATION:St Nicholas of Tolentine Church\, 2345 University Avenue\, Bronx\, NY\, 10468\, United States
END:VEVENT
BEGIN:VEVENT
DTSTART;TZID=America/New_York:20290205T083000
DTEND;TZID=America/New_York:20290205T093000
DTSTAMP:20260426T003026
CREATED:20250305T035020Z
LAST-MODIFIED:20250305T035025Z
UID:10016750-1864974600-1864978200@stnicholasoftolentinebronx.org
SUMMARY:8:30 am Spanish Mass
DESCRIPTION:
URL:https://stnicholasoftolentinebronx.org/event/830-am-spanish-mass-3/2029-02-05/
LOCATION:St Nicholas of Tolentine Church\, 2345 University Avenue\, Bronx\, NY\, 10468\, United States
END:VEVENT
BEGIN:VEVENT
DTSTART;TZID=America/New_York:20290205T120000
DTEND;TZID=America/New_York:20290205T123000
DTSTAMP:20260426T003026
CREATED:20250305T040540Z
LAST-MODIFIED:20250305T040545Z
UID:10018054-1864987200-1864989000@stnicholasoftolentinebronx.org
SUMMARY:12:00 Noon English mass
DESCRIPTION:
URL:https://stnicholasoftolentinebronx.org/event/1200-noon-english-mass/2029-02-05/
LOCATION:St Nicholas of Tolentine Church\, 2345 University Avenue\, Bronx\, NY\, 10468\, United States
END:VEVENT
BEGIN:VEVENT
DTSTART;TZID=America/New_York:20290206T083000
DTEND;TZID=America/New_York:20290206T093000
DTSTAMP:20260426T003026
CREATED:20250305T035020Z
LAST-MODIFIED:20250305T035025Z
UID:10016751-1865061000-1865064600@stnicholasoftolentinebronx.org
SUMMARY:8:30 am Spanish Mass
DESCRIPTION:
URL:https://stnicholasoftolentinebronx.org/event/830-am-spanish-mass-3/2029-02-06/
LOCATION:St Nicholas of Tolentine Church\, 2345 University Avenue\, Bronx\, NY\, 10468\, United States
END:VEVENT
BEGIN:VEVENT
DTSTART;TZID=America/New_York:20290206T120000
DTEND;TZID=America/New_York:20290206T123000
DTSTAMP:20260426T003026
CREATED:20250305T040540Z
LAST-MODIFIED:20250305T040545Z
UID:10018055-1865073600-1865075400@stnicholasoftolentinebronx.org
SUMMARY:12:00 Noon English mass
DESCRIPTION:
URL:https://stnicholasoftolentinebronx.org/event/1200-noon-english-mass/2029-02-06/
LOCATION:St Nicholas of Tolentine Church\, 2345 University Avenue\, Bronx\, NY\, 10468\, United States
END:VEVENT
BEGIN:VEVENT
DTSTART;TZID=America/New_York:20290207T083000
DTEND;TZID=America/New_York:20290207T093000
DTSTAMP:20260426T003026
CREATED:20250305T035020Z
LAST-MODIFIED:20250305T035025Z
UID:10016752-1865147400-1865151000@stnicholasoftolentinebronx.org
SUMMARY:8:30 am Spanish Mass
DESCRIPTION:
URL:https://stnicholasoftolentinebronx.org/event/830-am-spanish-mass-3/2029-02-07/
LOCATION:St Nicholas of Tolentine Church\, 2345 University Avenue\, Bronx\, NY\, 10468\, United States
END:VEVENT
BEGIN:VEVENT
DTSTART;TZID=America/New_York:20290207T120000
DTEND;TZID=America/New_York:20290207T123000
DTSTAMP:20260426T003026
CREATED:20250305T040540Z
LAST-MODIFIED:20250305T040545Z
UID:10018056-1865160000-1865161800@stnicholasoftolentinebronx.org
SUMMARY:12:00 Noon English mass
DESCRIPTION:
URL:https://stnicholasoftolentinebronx.org/event/1200-noon-english-mass/2029-02-07/
LOCATION:St Nicholas of Tolentine Church\, 2345 University Avenue\, Bronx\, NY\, 10468\, United States
END:VEVENT
BEGIN:VEVENT
DTSTART;TZID=America/New_York:20290208T083000
DTEND;TZID=America/New_York:20290208T093000
DTSTAMP:20260426T003026
CREATED:20250305T035020Z
LAST-MODIFIED:20250305T035025Z
UID:10016753-1865233800-1865237400@stnicholasoftolentinebronx.org
SUMMARY:8:30 am Spanish Mass
DESCRIPTION:
URL:https://stnicholasoftolentinebronx.org/event/830-am-spanish-mass-3/2029-02-08/
LOCATION:St Nicholas of Tolentine Church\, 2345 University Avenue\, Bronx\, NY\, 10468\, United States
END:VEVENT
BEGIN:VEVENT
DTSTART;TZID=America/New_York:20290208T120000
DTEND;TZID=America/New_York:20290208T123000
DTSTAMP:20260426T003026
CREATED:20250305T040540Z
LAST-MODIFIED:20250305T040545Z
UID:10018057-1865246400-1865248200@stnicholasoftolentinebronx.org
SUMMARY:12:00 Noon English mass
DESCRIPTION:
URL:https://stnicholasoftolentinebronx.org/event/1200-noon-english-mass/2029-02-08/
LOCATION:St Nicholas of Tolentine Church\, 2345 University Avenue\, Bronx\, NY\, 10468\, United States
END:VEVENT
BEGIN:VEVENT
DTSTART;TZID=America/New_York:20290208T190000
DTEND;TZID=America/New_York:20290208T210000
DTSTAMP:20260426T003026
CREATED:20250305T041048Z
LAST-MODIFIED:20250306T225714Z
UID:10018542-1865271600-1865278800@stnicholasoftolentinebronx.org
SUMMARY:7:00 pm Círculo
DESCRIPTION:
URL:https://stnicholasoftolentinebronx.org/event/700-circulo/2029-02-08/
LOCATION:NY
END:VEVENT
END:VCALENDAR