BEGIN:VCALENDAR
VERSION:2.0
PRODID:-//St. Nicholas of Tolentine Church - ECPv6.15.20//NONSGML v1.0//EN
CALSCALE:GREGORIAN
METHOD:PUBLISH
X-ORIGINAL-URL:https://stnicholasoftolentinebronx.org
X-WR-CALDESC:Events for St. Nicholas of Tolentine Church
REFRESH-INTERVAL;VALUE=DURATION:PT1H
X-Robots-Tag:noindex
X-PUBLISHED-TTL:PT1H
BEGIN:VTIMEZONE
TZID:America/New_York
BEGIN:DAYLIGHT
TZOFFSETFROM:-0500
TZOFFSETTO:-0400
TZNAME:EDT
DTSTART:20270314T070000
END:DAYLIGHT
BEGIN:STANDARD
TZOFFSETFROM:-0400
TZOFFSETTO:-0500
TZNAME:EST
DTSTART:20271107T060000
END:STANDARD
BEGIN:DAYLIGHT
TZOFFSETFROM:-0500
TZOFFSETTO:-0400
TZNAME:EDT
DTSTART:20280312T070000
END:DAYLIGHT
BEGIN:STANDARD
TZOFFSETFROM:-0400
TZOFFSETTO:-0500
TZNAME:EST
DTSTART:20281105T060000
END:STANDARD
BEGIN:DAYLIGHT
TZOFFSETFROM:-0500
TZOFFSETTO:-0400
TZNAME:EDT
DTSTART:20290311T070000
END:DAYLIGHT
BEGIN:STANDARD
TZOFFSETFROM:-0400
TZOFFSETTO:-0500
TZNAME:EST
DTSTART:20291104T060000
END:STANDARD
END:VTIMEZONE
BEGIN:VEVENT
DTSTART;TZID=America/New_York:20280610T074500
DTEND;TZID=America/New_York:20280610T083000
DTSTAMP:20260425T073604
CREATED:20250313T023643Z
LAST-MODIFIED:20250313T023646Z
UID:10018788-1844235900-1844238600@stnicholasoftolentinebronx.org
SUMMARY:7:45 am Vietnamese Mass
DESCRIPTION:
URL:https://stnicholasoftolentinebronx.org/event/745-am-vietnamese-mass/2028-06-10/
LOCATION:St Nicholas of Tolentine Church\, 2345 University Avenue\, Bronx\, NY\, 10468\, United States
END:VEVENT
BEGIN:VEVENT
DTSTART;TZID=America/New_York:20280610T173000
DTEND;TZID=America/New_York:20280610T183000
DTSTAMP:20260425T073604
CREATED:20250313T023751Z
LAST-MODIFIED:20250313T023752Z
UID:10019049-1844271000-1844274600@stnicholasoftolentinebronx.org
SUMMARY:5:30 pm Confessions
DESCRIPTION:
URL:https://stnicholasoftolentinebronx.org/event/530-pm-confessions/2028-06-10/
LOCATION:St Nicholas of Tolentine Church\, 2345 University Avenue\, Bronx\, NY\, 10468\, United States
END:VEVENT
BEGIN:VEVENT
DTSTART;TZID=America/New_York:20280610T190000
DTEND;TZID=America/New_York:20280610T200000
DTSTAMP:20260425T073604
CREATED:20250313T023841Z
LAST-MODIFIED:20250313T023842Z
UID:10019310-1844276400-1844280000@stnicholasoftolentinebronx.org
SUMMARY:7:00 pm Spanish Mass
DESCRIPTION:
URL:https://stnicholasoftolentinebronx.org/event/700-pm-spanish-mass/2028-06-10/
LOCATION:St Nicholas of Tolentine Church\, 2345 University Avenue\, Bronx\, NY\, 10468\, United States
END:VEVENT
BEGIN:VEVENT
DTSTART;TZID=America/New_York:20280611T080000
DTEND;TZID=America/New_York:20280611T090000
DTSTAMP:20260425T073604
CREATED:20250313T023930Z
LAST-MODIFIED:20250418T035212Z
UID:10019571-1844323200-1844326800@stnicholasoftolentinebronx.org
SUMMARY:8:00 am English Mass
DESCRIPTION:
URL:https://stnicholasoftolentinebronx.org/event/800-am-english-mass/2028-06-11/
LOCATION:St Nicholas of Tolentine Church\, 2345 University Avenue\, Bronx\, NY\, 10468\, United States
END:VEVENT
BEGIN:VEVENT
DTSTART;TZID=America/New_York:20280611T093000
DTEND;TZID=America/New_York:20280611T110000
DTSTAMP:20260425T073604
CREATED:20250313T024022Z
LAST-MODIFIED:20250313T024024Z
UID:10019832-1844328600-1844334000@stnicholasoftolentinebronx.org
SUMMARY:9:30 am Spanish Mass
DESCRIPTION:
URL:https://stnicholasoftolentinebronx.org/event/930-am-spanish-mass/2028-06-11/
LOCATION:St Nicholas of Tolentine Church\, 2345 University Avenue\, Bronx\, NY\, 10468\, United States
END:VEVENT
BEGIN:VEVENT
DTSTART;TZID=America/New_York:20280611T113000
DTEND;TZID=America/New_York:20280611T123000
DTSTAMP:20260425T073604
CREATED:20250313T024110Z
LAST-MODIFIED:20250313T024112Z
UID:10020093-1844335800-1844339400@stnicholasoftolentinebronx.org
SUMMARY:11:30 am English Mass
DESCRIPTION:
URL:https://stnicholasoftolentinebronx.org/event/1130-am-english-mass/2028-06-11/
LOCATION:St Nicholas of Tolentine Church\, 2345 University Avenue\, Bronx\, NY\, 10468\, United States
END:VEVENT
BEGIN:VEVENT
DTSTART;TZID=America/New_York:20280611T133000
DTEND;TZID=America/New_York:20280611T143000
DTSTAMP:20260425T073604
CREATED:20250313T024158Z
LAST-MODIFIED:20250313T024339Z
UID:10020354-1844343000-1844346600@stnicholasoftolentinebronx.org
SUMMARY:1:30 pm Vietnamese Mass
DESCRIPTION:
URL:https://stnicholasoftolentinebronx.org/event/130-pm-vietnamese-mass/2028-06-11/
LOCATION:St Nicholas of Tolentine Church\, 2345 University Avenue\, Bronx\, NY\, 10468\, United States
END:VEVENT
BEGIN:VEVENT
DTSTART;TZID=America/New_York:20280612T083000
DTEND;TZID=America/New_York:20280612T093000
DTSTAMP:20260425T073604
CREATED:20250305T035020Z
LAST-MODIFIED:20250305T035025Z
UID:10016580-1844411400-1844415000@stnicholasoftolentinebronx.org
SUMMARY:8:30 am Spanish Mass
DESCRIPTION:
URL:https://stnicholasoftolentinebronx.org/event/830-am-spanish-mass-3/2028-06-12/
LOCATION:St Nicholas of Tolentine Church\, 2345 University Avenue\, Bronx\, NY\, 10468\, United States
END:VEVENT
BEGIN:VEVENT
DTSTART;TZID=America/New_York:20280612T120000
DTEND;TZID=America/New_York:20280612T123000
DTSTAMP:20260425T073604
CREATED:20250305T040540Z
LAST-MODIFIED:20250305T040545Z
UID:10017884-1844424000-1844425800@stnicholasoftolentinebronx.org
SUMMARY:12:00 Noon English mass
DESCRIPTION:
URL:https://stnicholasoftolentinebronx.org/event/1200-noon-english-mass/2028-06-12/
LOCATION:St Nicholas of Tolentine Church\, 2345 University Avenue\, Bronx\, NY\, 10468\, United States
END:VEVENT
BEGIN:VEVENT
DTSTART;TZID=America/New_York:20280613T083000
DTEND;TZID=America/New_York:20280613T093000
DTSTAMP:20260425T073604
CREATED:20250305T035020Z
LAST-MODIFIED:20250305T035025Z
UID:10016581-1844497800-1844501400@stnicholasoftolentinebronx.org
SUMMARY:8:30 am Spanish Mass
DESCRIPTION:
URL:https://stnicholasoftolentinebronx.org/event/830-am-spanish-mass-3/2028-06-13/
LOCATION:St Nicholas of Tolentine Church\, 2345 University Avenue\, Bronx\, NY\, 10468\, United States
END:VEVENT
BEGIN:VEVENT
DTSTART;TZID=America/New_York:20280613T120000
DTEND;TZID=America/New_York:20280613T123000
DTSTAMP:20260425T073604
CREATED:20250305T040540Z
LAST-MODIFIED:20250305T040545Z
UID:10017885-1844510400-1844512200@stnicholasoftolentinebronx.org
SUMMARY:12:00 Noon English mass
DESCRIPTION:
URL:https://stnicholasoftolentinebronx.org/event/1200-noon-english-mass/2028-06-13/
LOCATION:St Nicholas of Tolentine Church\, 2345 University Avenue\, Bronx\, NY\, 10468\, United States
END:VEVENT
BEGIN:VEVENT
DTSTART;TZID=America/New_York:20280614T083000
DTEND;TZID=America/New_York:20280614T093000
DTSTAMP:20260425T073604
CREATED:20250305T035020Z
LAST-MODIFIED:20250305T035025Z
UID:10016582-1844584200-1844587800@stnicholasoftolentinebronx.org
SUMMARY:8:30 am Spanish Mass
DESCRIPTION:
URL:https://stnicholasoftolentinebronx.org/event/830-am-spanish-mass-3/2028-06-14/
LOCATION:St Nicholas of Tolentine Church\, 2345 University Avenue\, Bronx\, NY\, 10468\, United States
END:VEVENT
BEGIN:VEVENT
DTSTART;TZID=America/New_York:20280614T120000
DTEND;TZID=America/New_York:20280614T123000
DTSTAMP:20260425T073604
CREATED:20250305T040540Z
LAST-MODIFIED:20250305T040545Z
UID:10017886-1844596800-1844598600@stnicholasoftolentinebronx.org
SUMMARY:12:00 Noon English mass
DESCRIPTION:
URL:https://stnicholasoftolentinebronx.org/event/1200-noon-english-mass/2028-06-14/
LOCATION:St Nicholas of Tolentine Church\, 2345 University Avenue\, Bronx\, NY\, 10468\, United States
END:VEVENT
BEGIN:VEVENT
DTSTART;TZID=America/New_York:20280615T083000
DTEND;TZID=America/New_York:20280615T093000
DTSTAMP:20260425T073604
CREATED:20250305T035020Z
LAST-MODIFIED:20250305T035025Z
UID:10016583-1844670600-1844674200@stnicholasoftolentinebronx.org
SUMMARY:8:30 am Spanish Mass
DESCRIPTION:
URL:https://stnicholasoftolentinebronx.org/event/830-am-spanish-mass-3/2028-06-15/
LOCATION:St Nicholas of Tolentine Church\, 2345 University Avenue\, Bronx\, NY\, 10468\, United States
END:VEVENT
BEGIN:VEVENT
DTSTART;TZID=America/New_York:20280615T120000
DTEND;TZID=America/New_York:20280615T123000
DTSTAMP:20260425T073604
CREATED:20250305T040540Z
LAST-MODIFIED:20250305T040545Z
UID:10017887-1844683200-1844685000@stnicholasoftolentinebronx.org
SUMMARY:12:00 Noon English mass
DESCRIPTION:
URL:https://stnicholasoftolentinebronx.org/event/1200-noon-english-mass/2028-06-15/
LOCATION:St Nicholas of Tolentine Church\, 2345 University Avenue\, Bronx\, NY\, 10468\, United States
END:VEVENT
BEGIN:VEVENT
DTSTART;TZID=America/New_York:20280615T190000
DTEND;TZID=America/New_York:20280615T210000
DTSTAMP:20260425T073604
CREATED:20250305T041048Z
LAST-MODIFIED:20250306T225714Z
UID:10018508-1844708400-1844715600@stnicholasoftolentinebronx.org
SUMMARY:7:00 pm Círculo
DESCRIPTION:
URL:https://stnicholasoftolentinebronx.org/event/700-circulo/2028-06-15/
LOCATION:NY
END:VEVENT
BEGIN:VEVENT
DTSTART;TZID=America/New_York:20280616T083000
DTEND;TZID=America/New_York:20280616T093000
DTSTAMP:20260425T073604
CREATED:20250305T035020Z
LAST-MODIFIED:20250305T035025Z
UID:10016584-1844757000-1844760600@stnicholasoftolentinebronx.org
SUMMARY:8:30 am Spanish Mass
DESCRIPTION:
URL:https://stnicholasoftolentinebronx.org/event/830-am-spanish-mass-3/2028-06-16/
LOCATION:St Nicholas of Tolentine Church\, 2345 University Avenue\, Bronx\, NY\, 10468\, United States
END:VEVENT
BEGIN:VEVENT
DTSTART;TZID=America/New_York:20280616T120000
DTEND;TZID=America/New_York:20280616T123000
DTSTAMP:20260425T073604
CREATED:20250305T040540Z
LAST-MODIFIED:20250305T040545Z
UID:10017888-1844769600-1844771400@stnicholasoftolentinebronx.org
SUMMARY:12:00 Noon English mass
DESCRIPTION:
URL:https://stnicholasoftolentinebronx.org/event/1200-noon-english-mass/2028-06-16/
LOCATION:St Nicholas of Tolentine Church\, 2345 University Avenue\, Bronx\, NY\, 10468\, United States
END:VEVENT
BEGIN:VEVENT
DTSTART;TZID=America/New_York:20280617T074500
DTEND;TZID=America/New_York:20280617T083000
DTSTAMP:20260425T073604
CREATED:20250313T023643Z
LAST-MODIFIED:20250313T023646Z
UID:10018789-1844840700-1844843400@stnicholasoftolentinebronx.org
SUMMARY:7:45 am Vietnamese Mass
DESCRIPTION:
URL:https://stnicholasoftolentinebronx.org/event/745-am-vietnamese-mass/2028-06-17/
LOCATION:St Nicholas of Tolentine Church\, 2345 University Avenue\, Bronx\, NY\, 10468\, United States
END:VEVENT
BEGIN:VEVENT
DTSTART;TZID=America/New_York:20280617T173000
DTEND;TZID=America/New_York:20280617T183000
DTSTAMP:20260425T073604
CREATED:20250313T023751Z
LAST-MODIFIED:20250313T023752Z
UID:10019050-1844875800-1844879400@stnicholasoftolentinebronx.org
SUMMARY:5:30 pm Confessions
DESCRIPTION:
URL:https://stnicholasoftolentinebronx.org/event/530-pm-confessions/2028-06-17/
LOCATION:St Nicholas of Tolentine Church\, 2345 University Avenue\, Bronx\, NY\, 10468\, United States
END:VEVENT
BEGIN:VEVENT
DTSTART;TZID=America/New_York:20280617T190000
DTEND;TZID=America/New_York:20280617T200000
DTSTAMP:20260425T073604
CREATED:20250313T023841Z
LAST-MODIFIED:20250313T023842Z
UID:10019311-1844881200-1844884800@stnicholasoftolentinebronx.org
SUMMARY:7:00 pm Spanish Mass
DESCRIPTION:
URL:https://stnicholasoftolentinebronx.org/event/700-pm-spanish-mass/2028-06-17/
LOCATION:St Nicholas of Tolentine Church\, 2345 University Avenue\, Bronx\, NY\, 10468\, United States
END:VEVENT
BEGIN:VEVENT
DTSTART;TZID=America/New_York:20280618T080000
DTEND;TZID=America/New_York:20280618T090000
DTSTAMP:20260425T073604
CREATED:20250313T023930Z
LAST-MODIFIED:20250418T035212Z
UID:10019572-1844928000-1844931600@stnicholasoftolentinebronx.org
SUMMARY:8:00 am English Mass
DESCRIPTION:
URL:https://stnicholasoftolentinebronx.org/event/800-am-english-mass/2028-06-18/
LOCATION:St Nicholas of Tolentine Church\, 2345 University Avenue\, Bronx\, NY\, 10468\, United States
END:VEVENT
BEGIN:VEVENT
DTSTART;TZID=America/New_York:20280618T093000
DTEND;TZID=America/New_York:20280618T110000
DTSTAMP:20260425T073604
CREATED:20250313T024022Z
LAST-MODIFIED:20250313T024024Z
UID:10019833-1844933400-1844938800@stnicholasoftolentinebronx.org
SUMMARY:9:30 am Spanish Mass
DESCRIPTION:
URL:https://stnicholasoftolentinebronx.org/event/930-am-spanish-mass/2028-06-18/
LOCATION:St Nicholas of Tolentine Church\, 2345 University Avenue\, Bronx\, NY\, 10468\, United States
END:VEVENT
BEGIN:VEVENT
DTSTART;TZID=America/New_York:20280618T113000
DTEND;TZID=America/New_York:20280618T123000
DTSTAMP:20260425T073604
CREATED:20250313T024110Z
LAST-MODIFIED:20250313T024112Z
UID:10020094-1844940600-1844944200@stnicholasoftolentinebronx.org
SUMMARY:11:30 am English Mass
DESCRIPTION:
URL:https://stnicholasoftolentinebronx.org/event/1130-am-english-mass/2028-06-18/
LOCATION:St Nicholas of Tolentine Church\, 2345 University Avenue\, Bronx\, NY\, 10468\, United States
END:VEVENT
BEGIN:VEVENT
DTSTART;TZID=America/New_York:20280618T133000
DTEND;TZID=America/New_York:20280618T143000
DTSTAMP:20260425T073604
CREATED:20250313T024158Z
LAST-MODIFIED:20250313T024339Z
UID:10020355-1844947800-1844951400@stnicholasoftolentinebronx.org
SUMMARY:1:30 pm Vietnamese Mass
DESCRIPTION:
URL:https://stnicholasoftolentinebronx.org/event/130-pm-vietnamese-mass/2028-06-18/
LOCATION:St Nicholas of Tolentine Church\, 2345 University Avenue\, Bronx\, NY\, 10468\, United States
END:VEVENT
BEGIN:VEVENT
DTSTART;TZID=America/New_York:20280619T083000
DTEND;TZID=America/New_York:20280619T093000
DTSTAMP:20260425T073604
CREATED:20250305T035020Z
LAST-MODIFIED:20250305T035025Z
UID:10016585-1845016200-1845019800@stnicholasoftolentinebronx.org
SUMMARY:8:30 am Spanish Mass
DESCRIPTION:
URL:https://stnicholasoftolentinebronx.org/event/830-am-spanish-mass-3/2028-06-19/
LOCATION:St Nicholas of Tolentine Church\, 2345 University Avenue\, Bronx\, NY\, 10468\, United States
END:VEVENT
BEGIN:VEVENT
DTSTART;TZID=America/New_York:20280619T120000
DTEND;TZID=America/New_York:20280619T123000
DTSTAMP:20260425T073604
CREATED:20250305T040540Z
LAST-MODIFIED:20250305T040545Z
UID:10017889-1845028800-1845030600@stnicholasoftolentinebronx.org
SUMMARY:12:00 Noon English mass
DESCRIPTION:
URL:https://stnicholasoftolentinebronx.org/event/1200-noon-english-mass/2028-06-19/
LOCATION:St Nicholas of Tolentine Church\, 2345 University Avenue\, Bronx\, NY\, 10468\, United States
END:VEVENT
BEGIN:VEVENT
DTSTART;TZID=America/New_York:20280620T083000
DTEND;TZID=America/New_York:20280620T093000
DTSTAMP:20260425T073604
CREATED:20250305T035020Z
LAST-MODIFIED:20250305T035025Z
UID:10016586-1845102600-1845106200@stnicholasoftolentinebronx.org
SUMMARY:8:30 am Spanish Mass
DESCRIPTION:
URL:https://stnicholasoftolentinebronx.org/event/830-am-spanish-mass-3/2028-06-20/
LOCATION:St Nicholas of Tolentine Church\, 2345 University Avenue\, Bronx\, NY\, 10468\, United States
END:VEVENT
BEGIN:VEVENT
DTSTART;TZID=America/New_York:20280620T120000
DTEND;TZID=America/New_York:20280620T123000
DTSTAMP:20260425T073604
CREATED:20250305T040540Z
LAST-MODIFIED:20250305T040545Z
UID:10017890-1845115200-1845117000@stnicholasoftolentinebronx.org
SUMMARY:12:00 Noon English mass
DESCRIPTION:
URL:https://stnicholasoftolentinebronx.org/event/1200-noon-english-mass/2028-06-20/
LOCATION:St Nicholas of Tolentine Church\, 2345 University Avenue\, Bronx\, NY\, 10468\, United States
END:VEVENT
BEGIN:VEVENT
DTSTART;TZID=America/New_York:20280621T083000
DTEND;TZID=America/New_York:20280621T093000
DTSTAMP:20260425T073604
CREATED:20250305T035020Z
LAST-MODIFIED:20250305T035025Z
UID:10016587-1845189000-1845192600@stnicholasoftolentinebronx.org
SUMMARY:8:30 am Spanish Mass
DESCRIPTION:
URL:https://stnicholasoftolentinebronx.org/event/830-am-spanish-mass-3/2028-06-21/
LOCATION:St Nicholas of Tolentine Church\, 2345 University Avenue\, Bronx\, NY\, 10468\, United States
END:VEVENT
END:VCALENDAR