BEGIN:VCALENDAR
VERSION:2.0
PRODID:-//St. Nicholas of Tolentine Church - ECPv6.15.20//NONSGML v1.0//EN
CALSCALE:GREGORIAN
METHOD:PUBLISH
X-WR-CALNAME:St. Nicholas of Tolentine Church
X-ORIGINAL-URL:https://stnicholasoftolentinebronx.org
X-WR-CALDESC:Events for St. Nicholas of Tolentine Church
REFRESH-INTERVAL;VALUE=DURATION:PT1H
X-Robots-Tag:noindex
X-PUBLISHED-TTL:PT1H
BEGIN:VTIMEZONE
TZID:America/New_York
BEGIN:DAYLIGHT
TZOFFSETFROM:-0500
TZOFFSETTO:-0400
TZNAME:EDT
DTSTART:20250309T070000
END:DAYLIGHT
BEGIN:STANDARD
TZOFFSETFROM:-0400
TZOFFSETTO:-0500
TZNAME:EST
DTSTART:20251102T060000
END:STANDARD
BEGIN:DAYLIGHT
TZOFFSETFROM:-0500
TZOFFSETTO:-0400
TZNAME:EDT
DTSTART:20260308T070000
END:DAYLIGHT
BEGIN:STANDARD
TZOFFSETFROM:-0400
TZOFFSETTO:-0500
TZNAME:EST
DTSTART:20261101T060000
END:STANDARD
BEGIN:DAYLIGHT
TZOFFSETFROM:-0500
TZOFFSETTO:-0400
TZNAME:EDT
DTSTART:20270314T070000
END:DAYLIGHT
BEGIN:STANDARD
TZOFFSETFROM:-0400
TZOFFSETTO:-0500
TZNAME:EST
DTSTART:20271107T060000
END:STANDARD
END:VTIMEZONE
BEGIN:VEVENT
DTSTART;TZID=America/New_York:20260116T083000
DTEND;TZID=America/New_York:20260116T093000
DTSTAMP:20260423T124456
CREATED:20250305T035020Z
LAST-MODIFIED:20250305T035025Z
UID:10015954-1768552200-1768555800@stnicholasoftolentinebronx.org
SUMMARY:8:30 am Spanish Mass
DESCRIPTION:
URL:https://stnicholasoftolentinebronx.org/event/830-am-spanish-mass-3/2026-01-16/
LOCATION:St Nicholas of Tolentine Church\, 2345 University Avenue\, Bronx\, NY\, 10468\, United States
END:VEVENT
BEGIN:VEVENT
DTSTART;TZID=America/New_York:20260115T190000
DTEND;TZID=America/New_York:20260115T210000
DTSTAMP:20260423T124456
CREATED:20250305T041048Z
LAST-MODIFIED:20250306T225714Z
UID:10018382-1768503600-1768510800@stnicholasoftolentinebronx.org
SUMMARY:7:00 pm Círculo
DESCRIPTION:
URL:https://stnicholasoftolentinebronx.org/event/700-circulo/2026-01-15/
LOCATION:NY
END:VEVENT
BEGIN:VEVENT
DTSTART;TZID=America/New_York:20260115T190000
DTEND;TZID=America/New_York:20260115T200000
DTSTAMP:20260423T124456
CREATED:20260114T151215Z
LAST-MODIFIED:20260114T151437Z
UID:10021290-1768503600-1768507200@stnicholasoftolentinebronx.org
SUMMARY:7:00 pm Altagracia Novena
DESCRIPTION:
URL:https://stnicholasoftolentinebronx.org/event/700-pm-altagracia-novena-3/2026-01-15/
LOCATION:NY
END:VEVENT
BEGIN:VEVENT
DTSTART;TZID=America/New_York:20260115T120000
DTEND;TZID=America/New_York:20260115T123000
DTSTAMP:20260423T124456
CREATED:20250305T040540Z
LAST-MODIFIED:20250305T040545Z
UID:10017257-1768478400-1768480200@stnicholasoftolentinebronx.org
SUMMARY:12:00 Noon English mass
DESCRIPTION:
URL:https://stnicholasoftolentinebronx.org/event/1200-noon-english-mass/2026-01-15/
LOCATION:St Nicholas of Tolentine Church\, 2345 University Avenue\, Bronx\, NY\, 10468\, United States
END:VEVENT
BEGIN:VEVENT
DTSTART;TZID=America/New_York:20260115T083000
DTEND;TZID=America/New_York:20260115T093000
DTSTAMP:20260423T124456
CREATED:20250305T035020Z
LAST-MODIFIED:20250305T035025Z
UID:10015953-1768465800-1768469400@stnicholasoftolentinebronx.org
SUMMARY:8:30 am Spanish Mass
DESCRIPTION:
URL:https://stnicholasoftolentinebronx.org/event/830-am-spanish-mass-3/2026-01-15/
LOCATION:St Nicholas of Tolentine Church\, 2345 University Avenue\, Bronx\, NY\, 10468\, United States
END:VEVENT
BEGIN:VEVENT
DTSTART;TZID=America/New_York:20260114T190000
DTEND;TZID=America/New_York:20260114T200000
DTSTAMP:20260423T124456
CREATED:20260114T151215Z
LAST-MODIFIED:20260114T151437Z
UID:10021289-1768417200-1768420800@stnicholasoftolentinebronx.org
SUMMARY:7:00 pm Altagracia Novena
DESCRIPTION:
URL:https://stnicholasoftolentinebronx.org/event/700-pm-altagracia-novena-3/2026-01-14/
LOCATION:NY
END:VEVENT
BEGIN:VEVENT
DTSTART;TZID=America/New_York:20260114T120000
DTEND;TZID=America/New_York:20260114T123000
DTSTAMP:20260423T124456
CREATED:20250305T040540Z
LAST-MODIFIED:20250305T040545Z
UID:10017256-1768392000-1768393800@stnicholasoftolentinebronx.org
SUMMARY:12:00 Noon English mass
DESCRIPTION:
URL:https://stnicholasoftolentinebronx.org/event/1200-noon-english-mass/2026-01-14/
LOCATION:St Nicholas of Tolentine Church\, 2345 University Avenue\, Bronx\, NY\, 10468\, United States
END:VEVENT
BEGIN:VEVENT
DTSTART;TZID=America/New_York:20260114T083000
DTEND;TZID=America/New_York:20260114T093000
DTSTAMP:20260423T124456
CREATED:20250305T035020Z
LAST-MODIFIED:20250305T035025Z
UID:10015952-1768379400-1768383000@stnicholasoftolentinebronx.org
SUMMARY:8:30 am Spanish Mass
DESCRIPTION:
URL:https://stnicholasoftolentinebronx.org/event/830-am-spanish-mass-3/2026-01-14/
LOCATION:St Nicholas of Tolentine Church\, 2345 University Avenue\, Bronx\, NY\, 10468\, United States
END:VEVENT
BEGIN:VEVENT
DTSTART;TZID=America/New_York:20260113T190000
DTEND;TZID=America/New_York:20260116T200000
DTSTAMP:20260423T124456
CREATED:20260113T160656Z
LAST-MODIFIED:20260113T160659Z
UID:10021281-1768330800-1768593600@stnicholasoftolentinebronx.org
SUMMARY:7:00 pm Altagracia Novena
DESCRIPTION:
URL:https://stnicholasoftolentinebronx.org/event/700-pm-altagracia-novena-2/
LOCATION:St Nicholas of Tolentine Church\, 2345 University Avenue\, Bronx\, NY\, 10468\, United States
END:VEVENT
BEGIN:VEVENT
DTSTART;TZID=America/New_York:20260113T190000
DTEND;TZID=America/New_York:20260113T200000
DTSTAMP:20260423T124456
CREATED:20260113T160143Z
LAST-MODIFIED:20260113T160146Z
UID:10021282-1768330800-1768334400@stnicholasoftolentinebronx.org
SUMMARY:7:00 pm Altagracia Novena
DESCRIPTION:
URL:https://stnicholasoftolentinebronx.org/event/700-pm-altagracia-novena/
LOCATION:St Nicholas of Tolentine Church\, 2345 University Avenue\, Bronx\, NY\, 10468\, United States
END:VEVENT
BEGIN:VEVENT
DTSTART;TZID=America/New_York:20260113T120000
DTEND;TZID=America/New_York:20260113T123000
DTSTAMP:20260423T124456
CREATED:20250305T040540Z
LAST-MODIFIED:20250305T040545Z
UID:10017255-1768305600-1768307400@stnicholasoftolentinebronx.org
SUMMARY:12:00 Noon English mass
DESCRIPTION:
URL:https://stnicholasoftolentinebronx.org/event/1200-noon-english-mass/2026-01-13/
LOCATION:St Nicholas of Tolentine Church\, 2345 University Avenue\, Bronx\, NY\, 10468\, United States
END:VEVENT
BEGIN:VEVENT
DTSTART;TZID=America/New_York:20260113T083000
DTEND;TZID=America/New_York:20260113T093000
DTSTAMP:20260423T124456
CREATED:20250305T035020Z
LAST-MODIFIED:20250305T035025Z
UID:10015951-1768293000-1768296600@stnicholasoftolentinebronx.org
SUMMARY:8:30 am Spanish Mass
DESCRIPTION:
URL:https://stnicholasoftolentinebronx.org/event/830-am-spanish-mass-3/2026-01-13/
LOCATION:St Nicholas of Tolentine Church\, 2345 University Avenue\, Bronx\, NY\, 10468\, United States
END:VEVENT
BEGIN:VEVENT
DTSTART;TZID=America/New_York:20260112T120000
DTEND;TZID=America/New_York:20260112T123000
DTSTAMP:20260423T124456
CREATED:20250305T040540Z
LAST-MODIFIED:20250305T040545Z
UID:10017254-1768219200-1768221000@stnicholasoftolentinebronx.org
SUMMARY:12:00 Noon English mass
DESCRIPTION:
URL:https://stnicholasoftolentinebronx.org/event/1200-noon-english-mass/2026-01-12/
LOCATION:St Nicholas of Tolentine Church\, 2345 University Avenue\, Bronx\, NY\, 10468\, United States
END:VEVENT
BEGIN:VEVENT
DTSTART;TZID=America/New_York:20260112T083000
DTEND;TZID=America/New_York:20260112T093000
DTSTAMP:20260423T124456
CREATED:20250305T035020Z
LAST-MODIFIED:20250305T035025Z
UID:10015950-1768206600-1768210200@stnicholasoftolentinebronx.org
SUMMARY:8:30 am Spanish Mass
DESCRIPTION:
URL:https://stnicholasoftolentinebronx.org/event/830-am-spanish-mass-3/2026-01-12/
LOCATION:St Nicholas of Tolentine Church\, 2345 University Avenue\, Bronx\, NY\, 10468\, United States
END:VEVENT
BEGIN:VEVENT
DTSTART;TZID=America/New_York:20260111T133000
DTEND;TZID=America/New_York:20260111T143000
DTSTAMP:20260423T124456
CREATED:20250313T024158Z
LAST-MODIFIED:20250313T024339Z
UID:10020228-1768138200-1768141800@stnicholasoftolentinebronx.org
SUMMARY:1:30 pm Vietnamese Mass
DESCRIPTION:
URL:https://stnicholasoftolentinebronx.org/event/130-pm-vietnamese-mass/2026-01-11/
LOCATION:St Nicholas of Tolentine Church\, 2345 University Avenue\, Bronx\, NY\, 10468\, United States
END:VEVENT
BEGIN:VEVENT
DTSTART;TZID=America/New_York:20260111T113000
DTEND;TZID=America/New_York:20260111T123000
DTSTAMP:20260423T124456
CREATED:20250313T024110Z
LAST-MODIFIED:20250313T024112Z
UID:10019967-1768131000-1768134600@stnicholasoftolentinebronx.org
SUMMARY:11:30 am English Mass
DESCRIPTION:
URL:https://stnicholasoftolentinebronx.org/event/1130-am-english-mass/2026-01-11/
LOCATION:St Nicholas of Tolentine Church\, 2345 University Avenue\, Bronx\, NY\, 10468\, United States
END:VEVENT
BEGIN:VEVENT
DTSTART;TZID=America/New_York:20260111T093000
DTEND;TZID=America/New_York:20260111T110000
DTSTAMP:20260423T124456
CREATED:20250313T024022Z
LAST-MODIFIED:20250313T024024Z
UID:10019706-1768123800-1768129200@stnicholasoftolentinebronx.org
SUMMARY:9:30 am Spanish Mass
DESCRIPTION:
URL:https://stnicholasoftolentinebronx.org/event/930-am-spanish-mass/2026-01-11/
LOCATION:St Nicholas of Tolentine Church\, 2345 University Avenue\, Bronx\, NY\, 10468\, United States
END:VEVENT
BEGIN:VEVENT
DTSTART;TZID=America/New_York:20260111T080000
DTEND;TZID=America/New_York:20260111T090000
DTSTAMP:20260423T124456
CREATED:20250313T023930Z
LAST-MODIFIED:20250418T035212Z
UID:10019445-1768118400-1768122000@stnicholasoftolentinebronx.org
SUMMARY:8:00 am English Mass
DESCRIPTION:
URL:https://stnicholasoftolentinebronx.org/event/800-am-english-mass/2026-01-11/
LOCATION:St Nicholas of Tolentine Church\, 2345 University Avenue\, Bronx\, NY\, 10468\, United States
END:VEVENT
BEGIN:VEVENT
DTSTART;TZID=America/New_York:20260110T190000
DTEND;TZID=America/New_York:20260110T200000
DTSTAMP:20260423T124456
CREATED:20250313T023841Z
LAST-MODIFIED:20250313T023842Z
UID:10019184-1768071600-1768075200@stnicholasoftolentinebronx.org
SUMMARY:7:00 pm Spanish Mass
DESCRIPTION:
URL:https://stnicholasoftolentinebronx.org/event/700-pm-spanish-mass/2026-01-10/
LOCATION:St Nicholas of Tolentine Church\, 2345 University Avenue\, Bronx\, NY\, 10468\, United States
END:VEVENT
BEGIN:VEVENT
DTSTART;TZID=America/New_York:20260110T173000
DTEND;TZID=America/New_York:20260110T183000
DTSTAMP:20260423T124456
CREATED:20250313T023751Z
LAST-MODIFIED:20250313T023752Z
UID:10018923-1768066200-1768069800@stnicholasoftolentinebronx.org
SUMMARY:5:30 pm Confessions
DESCRIPTION:
URL:https://stnicholasoftolentinebronx.org/event/530-pm-confessions/2026-01-10/
LOCATION:St Nicholas of Tolentine Church\, 2345 University Avenue\, Bronx\, NY\, 10468\, United States
END:VEVENT
BEGIN:VEVENT
DTSTART;TZID=America/New_York:20260110T074500
DTEND;TZID=America/New_York:20260110T083000
DTSTAMP:20260423T124456
CREATED:20250313T023643Z
LAST-MODIFIED:20250313T023646Z
UID:10018662-1768031100-1768033800@stnicholasoftolentinebronx.org
SUMMARY:7:45 am Vietnamese Mass
DESCRIPTION:
URL:https://stnicholasoftolentinebronx.org/event/745-am-vietnamese-mass/2026-01-10/
LOCATION:St Nicholas of Tolentine Church\, 2345 University Avenue\, Bronx\, NY\, 10468\, United States
END:VEVENT
BEGIN:VEVENT
DTSTART;TZID=America/New_York:20260109T120000
DTEND;TZID=America/New_York:20260109T123000
DTSTAMP:20260423T124456
CREATED:20250305T040540Z
LAST-MODIFIED:20250305T040545Z
UID:10017253-1767960000-1767961800@stnicholasoftolentinebronx.org
SUMMARY:12:00 Noon English mass
DESCRIPTION:
URL:https://stnicholasoftolentinebronx.org/event/1200-noon-english-mass/2026-01-09/
LOCATION:St Nicholas of Tolentine Church\, 2345 University Avenue\, Bronx\, NY\, 10468\, United States
END:VEVENT
BEGIN:VEVENT
DTSTART;TZID=America/New_York:20260109T083000
DTEND;TZID=America/New_York:20260109T093000
DTSTAMP:20260423T124456
CREATED:20250305T035020Z
LAST-MODIFIED:20250305T035025Z
UID:10015949-1767947400-1767951000@stnicholasoftolentinebronx.org
SUMMARY:8:30 am Spanish Mass
DESCRIPTION:
URL:https://stnicholasoftolentinebronx.org/event/830-am-spanish-mass-3/2026-01-09/
LOCATION:St Nicholas of Tolentine Church\, 2345 University Avenue\, Bronx\, NY\, 10468\, United States
END:VEVENT
BEGIN:VEVENT
DTSTART;TZID=America/New_York:20260108T190000
DTEND;TZID=America/New_York:20260108T210000
DTSTAMP:20260423T124456
CREATED:20250305T041048Z
LAST-MODIFIED:20250306T225714Z
UID:10018381-1767898800-1767906000@stnicholasoftolentinebronx.org
SUMMARY:7:00 pm Círculo
DESCRIPTION:
URL:https://stnicholasoftolentinebronx.org/event/700-circulo/2026-01-08/
LOCATION:NY
END:VEVENT
BEGIN:VEVENT
DTSTART;TZID=America/New_York:20260108T120000
DTEND;TZID=America/New_York:20260108T123000
DTSTAMP:20260423T124456
CREATED:20250305T040540Z
LAST-MODIFIED:20250305T040545Z
UID:10017252-1767873600-1767875400@stnicholasoftolentinebronx.org
SUMMARY:12:00 Noon English mass
DESCRIPTION:
URL:https://stnicholasoftolentinebronx.org/event/1200-noon-english-mass/2026-01-08/
LOCATION:St Nicholas of Tolentine Church\, 2345 University Avenue\, Bronx\, NY\, 10468\, United States
END:VEVENT
BEGIN:VEVENT
DTSTART;TZID=America/New_York:20260108T083000
DTEND;TZID=America/New_York:20260108T093000
DTSTAMP:20260423T124456
CREATED:20250305T035020Z
LAST-MODIFIED:20250305T035025Z
UID:10015948-1767861000-1767864600@stnicholasoftolentinebronx.org
SUMMARY:8:30 am Spanish Mass
DESCRIPTION:
URL:https://stnicholasoftolentinebronx.org/event/830-am-spanish-mass-3/2026-01-08/
LOCATION:St Nicholas of Tolentine Church\, 2345 University Avenue\, Bronx\, NY\, 10468\, United States
END:VEVENT
BEGIN:VEVENT
DTSTART;TZID=America/New_York:20260107T120000
DTEND;TZID=America/New_York:20260107T123000
DTSTAMP:20260423T124456
CREATED:20250305T040540Z
LAST-MODIFIED:20250305T040545Z
UID:10017251-1767787200-1767789000@stnicholasoftolentinebronx.org
SUMMARY:12:00 Noon English mass
DESCRIPTION:
URL:https://stnicholasoftolentinebronx.org/event/1200-noon-english-mass/2026-01-07/
LOCATION:St Nicholas of Tolentine Church\, 2345 University Avenue\, Bronx\, NY\, 10468\, United States
END:VEVENT
BEGIN:VEVENT
DTSTART;TZID=America/New_York:20260107T083000
DTEND;TZID=America/New_York:20260107T093000
DTSTAMP:20260423T124456
CREATED:20250305T035020Z
LAST-MODIFIED:20250305T035025Z
UID:10015947-1767774600-1767778200@stnicholasoftolentinebronx.org
SUMMARY:8:30 am Spanish Mass
DESCRIPTION:
URL:https://stnicholasoftolentinebronx.org/event/830-am-spanish-mass-3/2026-01-07/
LOCATION:St Nicholas of Tolentine Church\, 2345 University Avenue\, Bronx\, NY\, 10468\, United States
END:VEVENT
BEGIN:VEVENT
DTSTART;TZID=America/New_York:20260106T120000
DTEND;TZID=America/New_York:20260106T123000
DTSTAMP:20260423T124456
CREATED:20250305T040540Z
LAST-MODIFIED:20250305T040545Z
UID:10017250-1767700800-1767702600@stnicholasoftolentinebronx.org
SUMMARY:12:00 Noon English mass
DESCRIPTION:
URL:https://stnicholasoftolentinebronx.org/event/1200-noon-english-mass/2026-01-06/
LOCATION:St Nicholas of Tolentine Church\, 2345 University Avenue\, Bronx\, NY\, 10468\, United States
END:VEVENT
BEGIN:VEVENT
DTSTART;TZID=America/New_York:20260106T083000
DTEND;TZID=America/New_York:20260106T093000
DTSTAMP:20260423T124456
CREATED:20250305T035020Z
LAST-MODIFIED:20250305T035025Z
UID:10015946-1767688200-1767691800@stnicholasoftolentinebronx.org
SUMMARY:8:30 am Spanish Mass
DESCRIPTION:
URL:https://stnicholasoftolentinebronx.org/event/830-am-spanish-mass-3/2026-01-06/
LOCATION:St Nicholas of Tolentine Church\, 2345 University Avenue\, Bronx\, NY\, 10468\, United States
END:VEVENT
END:VCALENDAR