BEGIN:VCALENDAR
VERSION:2.0
PRODID:-//St. Nicholas of Tolentine Church - ECPv6.15.20//NONSGML v1.0//EN
CALSCALE:GREGORIAN
METHOD:PUBLISH
X-WR-CALNAME:St. Nicholas of Tolentine Church
X-ORIGINAL-URL:https://stnicholasoftolentinebronx.org
X-WR-CALDESC:Events for St. Nicholas of Tolentine Church
REFRESH-INTERVAL;VALUE=DURATION:PT1H
X-Robots-Tag:noindex
X-PUBLISHED-TTL:PT1H
BEGIN:VTIMEZONE
TZID:America/New_York
BEGIN:DAYLIGHT
TZOFFSETFROM:-0500
TZOFFSETTO:-0400
TZNAME:EDT
DTSTART:20250309T070000
END:DAYLIGHT
BEGIN:STANDARD
TZOFFSETFROM:-0400
TZOFFSETTO:-0500
TZNAME:EST
DTSTART:20251102T060000
END:STANDARD
BEGIN:DAYLIGHT
TZOFFSETFROM:-0500
TZOFFSETTO:-0400
TZNAME:EDT
DTSTART:20260308T070000
END:DAYLIGHT
BEGIN:STANDARD
TZOFFSETFROM:-0400
TZOFFSETTO:-0500
TZNAME:EST
DTSTART:20261101T060000
END:STANDARD
BEGIN:DAYLIGHT
TZOFFSETFROM:-0500
TZOFFSETTO:-0400
TZNAME:EDT
DTSTART:20270314T070000
END:DAYLIGHT
BEGIN:STANDARD
TZOFFSETFROM:-0400
TZOFFSETTO:-0500
TZNAME:EST
DTSTART:20271107T060000
END:STANDARD
END:VTIMEZONE
BEGIN:VEVENT
DTSTART;TZID=America/New_York:20260121T120000
DTEND;TZID=America/New_York:20260121T123000
DTSTAMP:20260423T075624
CREATED:20250305T040540Z
LAST-MODIFIED:20250305T040545Z
UID:10017261-1768996800-1768998600@stnicholasoftolentinebronx.org
SUMMARY:12:00 Noon English mass
DESCRIPTION:
URL:https://stnicholasoftolentinebronx.org/event/1200-noon-english-mass/2026-01-21/
LOCATION:St Nicholas of Tolentine Church\, 2345 University Avenue\, Bronx\, NY\, 10468\, United States
END:VEVENT
BEGIN:VEVENT
DTSTART;TZID=America/New_York:20260121T083000
DTEND;TZID=America/New_York:20260121T093000
DTSTAMP:20260423T075624
CREATED:20250305T035020Z
LAST-MODIFIED:20250305T035025Z
UID:10015957-1768984200-1768987800@stnicholasoftolentinebronx.org
SUMMARY:8:30 am Spanish Mass
DESCRIPTION:
URL:https://stnicholasoftolentinebronx.org/event/830-am-spanish-mass-3/2026-01-21/
LOCATION:St Nicholas of Tolentine Church\, 2345 University Avenue\, Bronx\, NY\, 10468\, United States
END:VEVENT
BEGIN:VEVENT
DTSTART;TZID=America/New_York:20260120T190000
DTEND;TZID=America/New_York:20260120T200000
DTSTAMP:20260423T075624
CREATED:20260114T151856Z
LAST-MODIFIED:20260114T151859Z
UID:10021295-1768935600-1768939200@stnicholasoftolentinebronx.org
SUMMARY:7:00 pm Altagracia Novena
DESCRIPTION:
URL:https://stnicholasoftolentinebronx.org/event/700-pm-altagracia-novena-4/2026-01-20/
LOCATION:St Nicholas of Tolentine Church\, 2345 University Avenue\, Bronx\, NY\, 10468\, United States
END:VEVENT
BEGIN:VEVENT
DTSTART;TZID=America/New_York:20260120T120000
DTEND;TZID=America/New_York:20260120T123000
DTSTAMP:20260423T075624
CREATED:20250305T040540Z
LAST-MODIFIED:20250305T040545Z
UID:10017260-1768910400-1768912200@stnicholasoftolentinebronx.org
SUMMARY:12:00 Noon English mass
DESCRIPTION:
URL:https://stnicholasoftolentinebronx.org/event/1200-noon-english-mass/2026-01-20/
LOCATION:St Nicholas of Tolentine Church\, 2345 University Avenue\, Bronx\, NY\, 10468\, United States
END:VEVENT
BEGIN:VEVENT
DTSTART;TZID=America/New_York:20260120T083000
DTEND;TZID=America/New_York:20260120T093000
DTSTAMP:20260423T075624
CREATED:20250305T035020Z
LAST-MODIFIED:20250305T035025Z
UID:10015956-1768897800-1768901400@stnicholasoftolentinebronx.org
SUMMARY:8:30 am Spanish Mass
DESCRIPTION:
URL:https://stnicholasoftolentinebronx.org/event/830-am-spanish-mass-3/2026-01-20/
LOCATION:St Nicholas of Tolentine Church\, 2345 University Avenue\, Bronx\, NY\, 10468\, United States
END:VEVENT
BEGIN:VEVENT
DTSTART;TZID=America/New_York:20260119T190000
DTEND;TZID=America/New_York:20260119T200000
DTSTAMP:20260423T075624
CREATED:20260114T151856Z
LAST-MODIFIED:20260114T151859Z
UID:10021294-1768849200-1768852800@stnicholasoftolentinebronx.org
SUMMARY:7:00 pm Altagracia Novena
DESCRIPTION:
URL:https://stnicholasoftolentinebronx.org/event/700-pm-altagracia-novena-4/2026-01-19/
LOCATION:St Nicholas of Tolentine Church\, 2345 University Avenue\, Bronx\, NY\, 10468\, United States
END:VEVENT
BEGIN:VEVENT
DTSTART;TZID=America/New_York:20260119T090000
DTEND;TZID=America/New_York:20260119T100000
DTSTAMP:20260423T075624
CREATED:20260118T232504Z
LAST-MODIFIED:20260118T232510Z
UID:10021308-1768813200-1768816800@stnicholasoftolentinebronx.org
SUMMARY:9:00 am Bilingual Mass (only mass today)
DESCRIPTION:
URL:https://stnicholasoftolentinebronx.org/event/900-am-bilingual-mass-only-mass-today-2/
LOCATION:St Nicholas of Tolentine Church\, 2345 University Avenue\, Bronx\, NY\, 10468\, United States
END:VEVENT
BEGIN:VEVENT
DTSTART;TZID=America/New_York:20260118T190000
DTEND;TZID=America/New_York:20260118T200000
DTSTAMP:20260423T075624
CREATED:20260114T151856Z
LAST-MODIFIED:20260114T151859Z
UID:10021293-1768762800-1768766400@stnicholasoftolentinebronx.org
SUMMARY:7:00 pm Altagracia Novena
DESCRIPTION:
URL:https://stnicholasoftolentinebronx.org/event/700-pm-altagracia-novena-4/2026-01-18/
LOCATION:St Nicholas of Tolentine Church\, 2345 University Avenue\, Bronx\, NY\, 10468\, United States
END:VEVENT
BEGIN:VEVENT
DTSTART;TZID=America/New_York:20260118T133000
DTEND;TZID=America/New_York:20260118T143000
DTSTAMP:20260423T075624
CREATED:20250313T024158Z
LAST-MODIFIED:20250313T024339Z
UID:10020229-1768743000-1768746600@stnicholasoftolentinebronx.org
SUMMARY:1:30 pm Vietnamese Mass
DESCRIPTION:
URL:https://stnicholasoftolentinebronx.org/event/130-pm-vietnamese-mass/2026-01-18/
LOCATION:St Nicholas of Tolentine Church\, 2345 University Avenue\, Bronx\, NY\, 10468\, United States
END:VEVENT
BEGIN:VEVENT
DTSTART;TZID=America/New_York:20260118T113000
DTEND;TZID=America/New_York:20260118T123000
DTSTAMP:20260423T075624
CREATED:20250313T024110Z
LAST-MODIFIED:20250313T024112Z
UID:10019968-1768735800-1768739400@stnicholasoftolentinebronx.org
SUMMARY:11:30 am English Mass
DESCRIPTION:
URL:https://stnicholasoftolentinebronx.org/event/1130-am-english-mass/2026-01-18/
LOCATION:St Nicholas of Tolentine Church\, 2345 University Avenue\, Bronx\, NY\, 10468\, United States
END:VEVENT
BEGIN:VEVENT
DTSTART;TZID=America/New_York:20260118T093000
DTEND;TZID=America/New_York:20260118T110000
DTSTAMP:20260423T075624
CREATED:20250313T024022Z
LAST-MODIFIED:20250313T024024Z
UID:10019707-1768728600-1768734000@stnicholasoftolentinebronx.org
SUMMARY:9:30 am Spanish Mass
DESCRIPTION:
URL:https://stnicholasoftolentinebronx.org/event/930-am-spanish-mass/2026-01-18/
LOCATION:St Nicholas of Tolentine Church\, 2345 University Avenue\, Bronx\, NY\, 10468\, United States
END:VEVENT
BEGIN:VEVENT
DTSTART;TZID=America/New_York:20260118T080000
DTEND;TZID=America/New_York:20260118T090000
DTSTAMP:20260423T075624
CREATED:20250313T023930Z
LAST-MODIFIED:20250418T035212Z
UID:10019446-1768723200-1768726800@stnicholasoftolentinebronx.org
SUMMARY:8:00 am English Mass
DESCRIPTION:
URL:https://stnicholasoftolentinebronx.org/event/800-am-english-mass/2026-01-18/
LOCATION:St Nicholas of Tolentine Church\, 2345 University Avenue\, Bronx\, NY\, 10468\, United States
END:VEVENT
BEGIN:VEVENT
DTSTART;TZID=America/New_York:20260117T190000
DTEND;TZID=America/New_York:20260117T200000
DTSTAMP:20260423T075624
CREATED:20250313T023841Z
LAST-MODIFIED:20250313T023842Z
UID:10019185-1768676400-1768680000@stnicholasoftolentinebronx.org
SUMMARY:7:00 pm Spanish Mass
DESCRIPTION:
URL:https://stnicholasoftolentinebronx.org/event/700-pm-spanish-mass/2026-01-17/
LOCATION:St Nicholas of Tolentine Church\, 2345 University Avenue\, Bronx\, NY\, 10468\, United States
END:VEVENT
BEGIN:VEVENT
DTSTART;TZID=America/New_York:20260117T180000
DTEND;TZID=America/New_York:20260117T190000
DTSTAMP:20260423T075624
CREATED:20260114T151635Z
LAST-MODIFIED:20260114T151638Z
UID:10021292-1768672800-1768676400@stnicholasoftolentinebronx.org
SUMMARY:6:00 pm Altagracia Novena
DESCRIPTION:
URL:https://stnicholasoftolentinebronx.org/event/600-pm-altagracia-novena/
LOCATION:St Nicholas of Tolentine Church\, 2345 University Avenue\, Bronx\, NY\, 10468\, United States
END:VEVENT
BEGIN:VEVENT
DTSTART;TZID=America/New_York:20260117T173000
DTEND;TZID=America/New_York:20260117T183000
DTSTAMP:20260423T075624
CREATED:20250313T023751Z
LAST-MODIFIED:20250313T023752Z
UID:10018924-1768671000-1768674600@stnicholasoftolentinebronx.org
SUMMARY:5:30 pm Confessions
DESCRIPTION:
URL:https://stnicholasoftolentinebronx.org/event/530-pm-confessions/2026-01-17/
LOCATION:St Nicholas of Tolentine Church\, 2345 University Avenue\, Bronx\, NY\, 10468\, United States
END:VEVENT
BEGIN:VEVENT
DTSTART;TZID=America/New_York:20260117T074500
DTEND;TZID=America/New_York:20260117T083000
DTSTAMP:20260423T075624
CREATED:20250313T023643Z
LAST-MODIFIED:20250313T023646Z
UID:10018663-1768635900-1768638600@stnicholasoftolentinebronx.org
SUMMARY:7:45 am Vietnamese Mass
DESCRIPTION:
URL:https://stnicholasoftolentinebronx.org/event/745-am-vietnamese-mass/2026-01-17/
LOCATION:St Nicholas of Tolentine Church\, 2345 University Avenue\, Bronx\, NY\, 10468\, United States
END:VEVENT
BEGIN:VEVENT
DTSTART;TZID=America/New_York:20260116T190000
DTEND;TZID=America/New_York:20260116T200000
DTSTAMP:20260423T075624
CREATED:20260114T151215Z
LAST-MODIFIED:20260114T151437Z
UID:10021291-1768590000-1768593600@stnicholasoftolentinebronx.org
SUMMARY:7:00 pm Altagracia Novena
DESCRIPTION:
URL:https://stnicholasoftolentinebronx.org/event/700-pm-altagracia-novena-3/2026-01-16/
LOCATION:NY
END:VEVENT
BEGIN:VEVENT
DTSTART;TZID=America/New_York:20260116T120000
DTEND;TZID=America/New_York:20260116T123000
DTSTAMP:20260423T075624
CREATED:20250305T040540Z
LAST-MODIFIED:20250305T040545Z
UID:10017258-1768564800-1768566600@stnicholasoftolentinebronx.org
SUMMARY:12:00 Noon English mass
DESCRIPTION:
URL:https://stnicholasoftolentinebronx.org/event/1200-noon-english-mass/2026-01-16/
LOCATION:St Nicholas of Tolentine Church\, 2345 University Avenue\, Bronx\, NY\, 10468\, United States
END:VEVENT
BEGIN:VEVENT
DTSTART;TZID=America/New_York:20260116T083000
DTEND;TZID=America/New_York:20260116T093000
DTSTAMP:20260423T075624
CREATED:20250305T035020Z
LAST-MODIFIED:20250305T035025Z
UID:10015954-1768552200-1768555800@stnicholasoftolentinebronx.org
SUMMARY:8:30 am Spanish Mass
DESCRIPTION:
URL:https://stnicholasoftolentinebronx.org/event/830-am-spanish-mass-3/2026-01-16/
LOCATION:St Nicholas of Tolentine Church\, 2345 University Avenue\, Bronx\, NY\, 10468\, United States
END:VEVENT
BEGIN:VEVENT
DTSTART;TZID=America/New_York:20260115T190000
DTEND;TZID=America/New_York:20260115T210000
DTSTAMP:20260423T075624
CREATED:20250305T041048Z
LAST-MODIFIED:20250306T225714Z
UID:10018382-1768503600-1768510800@stnicholasoftolentinebronx.org
SUMMARY:7:00 pm Círculo
DESCRIPTION:
URL:https://stnicholasoftolentinebronx.org/event/700-circulo/2026-01-15/
LOCATION:NY
END:VEVENT
BEGIN:VEVENT
DTSTART;TZID=America/New_York:20260115T190000
DTEND;TZID=America/New_York:20260115T200000
DTSTAMP:20260423T075624
CREATED:20260114T151215Z
LAST-MODIFIED:20260114T151437Z
UID:10021290-1768503600-1768507200@stnicholasoftolentinebronx.org
SUMMARY:7:00 pm Altagracia Novena
DESCRIPTION:
URL:https://stnicholasoftolentinebronx.org/event/700-pm-altagracia-novena-3/2026-01-15/
LOCATION:NY
END:VEVENT
BEGIN:VEVENT
DTSTART;TZID=America/New_York:20260115T120000
DTEND;TZID=America/New_York:20260115T123000
DTSTAMP:20260423T075624
CREATED:20250305T040540Z
LAST-MODIFIED:20250305T040545Z
UID:10017257-1768478400-1768480200@stnicholasoftolentinebronx.org
SUMMARY:12:00 Noon English mass
DESCRIPTION:
URL:https://stnicholasoftolentinebronx.org/event/1200-noon-english-mass/2026-01-15/
LOCATION:St Nicholas of Tolentine Church\, 2345 University Avenue\, Bronx\, NY\, 10468\, United States
END:VEVENT
BEGIN:VEVENT
DTSTART;TZID=America/New_York:20260115T083000
DTEND;TZID=America/New_York:20260115T093000
DTSTAMP:20260423T075624
CREATED:20250305T035020Z
LAST-MODIFIED:20250305T035025Z
UID:10015953-1768465800-1768469400@stnicholasoftolentinebronx.org
SUMMARY:8:30 am Spanish Mass
DESCRIPTION:
URL:https://stnicholasoftolentinebronx.org/event/830-am-spanish-mass-3/2026-01-15/
LOCATION:St Nicholas of Tolentine Church\, 2345 University Avenue\, Bronx\, NY\, 10468\, United States
END:VEVENT
BEGIN:VEVENT
DTSTART;TZID=America/New_York:20260114T190000
DTEND;TZID=America/New_York:20260114T200000
DTSTAMP:20260423T075624
CREATED:20260114T151215Z
LAST-MODIFIED:20260114T151437Z
UID:10021289-1768417200-1768420800@stnicholasoftolentinebronx.org
SUMMARY:7:00 pm Altagracia Novena
DESCRIPTION:
URL:https://stnicholasoftolentinebronx.org/event/700-pm-altagracia-novena-3/2026-01-14/
LOCATION:NY
END:VEVENT
BEGIN:VEVENT
DTSTART;TZID=America/New_York:20260114T120000
DTEND;TZID=America/New_York:20260114T123000
DTSTAMP:20260423T075624
CREATED:20250305T040540Z
LAST-MODIFIED:20250305T040545Z
UID:10017256-1768392000-1768393800@stnicholasoftolentinebronx.org
SUMMARY:12:00 Noon English mass
DESCRIPTION:
URL:https://stnicholasoftolentinebronx.org/event/1200-noon-english-mass/2026-01-14/
LOCATION:St Nicholas of Tolentine Church\, 2345 University Avenue\, Bronx\, NY\, 10468\, United States
END:VEVENT
BEGIN:VEVENT
DTSTART;TZID=America/New_York:20260114T083000
DTEND;TZID=America/New_York:20260114T093000
DTSTAMP:20260423T075624
CREATED:20250305T035020Z
LAST-MODIFIED:20250305T035025Z
UID:10015952-1768379400-1768383000@stnicholasoftolentinebronx.org
SUMMARY:8:30 am Spanish Mass
DESCRIPTION:
URL:https://stnicholasoftolentinebronx.org/event/830-am-spanish-mass-3/2026-01-14/
LOCATION:St Nicholas of Tolentine Church\, 2345 University Avenue\, Bronx\, NY\, 10468\, United States
END:VEVENT
BEGIN:VEVENT
DTSTART;TZID=America/New_York:20260113T190000
DTEND;TZID=America/New_York:20260116T200000
DTSTAMP:20260423T075624
CREATED:20260113T160656Z
LAST-MODIFIED:20260113T160659Z
UID:10021281-1768330800-1768593600@stnicholasoftolentinebronx.org
SUMMARY:7:00 pm Altagracia Novena
DESCRIPTION:
URL:https://stnicholasoftolentinebronx.org/event/700-pm-altagracia-novena-2/
LOCATION:St Nicholas of Tolentine Church\, 2345 University Avenue\, Bronx\, NY\, 10468\, United States
END:VEVENT
BEGIN:VEVENT
DTSTART;TZID=America/New_York:20260113T190000
DTEND;TZID=America/New_York:20260113T200000
DTSTAMP:20260423T075624
CREATED:20260113T160143Z
LAST-MODIFIED:20260113T160146Z
UID:10021282-1768330800-1768334400@stnicholasoftolentinebronx.org
SUMMARY:7:00 pm Altagracia Novena
DESCRIPTION:
URL:https://stnicholasoftolentinebronx.org/event/700-pm-altagracia-novena/
LOCATION:St Nicholas of Tolentine Church\, 2345 University Avenue\, Bronx\, NY\, 10468\, United States
END:VEVENT
BEGIN:VEVENT
DTSTART;TZID=America/New_York:20260113T120000
DTEND;TZID=America/New_York:20260113T123000
DTSTAMP:20260423T075624
CREATED:20250305T040540Z
LAST-MODIFIED:20250305T040545Z
UID:10017255-1768305600-1768307400@stnicholasoftolentinebronx.org
SUMMARY:12:00 Noon English mass
DESCRIPTION:
URL:https://stnicholasoftolentinebronx.org/event/1200-noon-english-mass/2026-01-13/
LOCATION:St Nicholas of Tolentine Church\, 2345 University Avenue\, Bronx\, NY\, 10468\, United States
END:VEVENT
BEGIN:VEVENT
DTSTART;TZID=America/New_York:20260113T083000
DTEND;TZID=America/New_York:20260113T093000
DTSTAMP:20260423T075624
CREATED:20250305T035020Z
LAST-MODIFIED:20250305T035025Z
UID:10015951-1768293000-1768296600@stnicholasoftolentinebronx.org
SUMMARY:8:30 am Spanish Mass
DESCRIPTION:
URL:https://stnicholasoftolentinebronx.org/event/830-am-spanish-mass-3/2026-01-13/
LOCATION:St Nicholas of Tolentine Church\, 2345 University Avenue\, Bronx\, NY\, 10468\, United States
END:VEVENT
END:VCALENDAR