BEGIN:VCALENDAR
VERSION:2.0
PRODID:-//St. Nicholas of Tolentine Church - ECPv6.15.20//NONSGML v1.0//EN
CALSCALE:GREGORIAN
METHOD:PUBLISH
X-WR-CALNAME:St. Nicholas of Tolentine Church
X-ORIGINAL-URL:https://stnicholasoftolentinebronx.org
X-WR-CALDESC:Events for St. Nicholas of Tolentine Church
REFRESH-INTERVAL;VALUE=DURATION:PT1H
X-Robots-Tag:noindex
X-PUBLISHED-TTL:PT1H
BEGIN:VTIMEZONE
TZID:America/New_York
BEGIN:DAYLIGHT
TZOFFSETFROM:-0500
TZOFFSETTO:-0400
TZNAME:EDT
DTSTART:20240310T070000
END:DAYLIGHT
BEGIN:STANDARD
TZOFFSETFROM:-0400
TZOFFSETTO:-0500
TZNAME:EST
DTSTART:20241103T060000
END:STANDARD
BEGIN:DAYLIGHT
TZOFFSETFROM:-0500
TZOFFSETTO:-0400
TZNAME:EDT
DTSTART:20250309T070000
END:DAYLIGHT
BEGIN:STANDARD
TZOFFSETFROM:-0400
TZOFFSETTO:-0500
TZNAME:EST
DTSTART:20251102T060000
END:STANDARD
BEGIN:DAYLIGHT
TZOFFSETFROM:-0500
TZOFFSETTO:-0400
TZNAME:EDT
DTSTART:20260308T070000
END:DAYLIGHT
BEGIN:STANDARD
TZOFFSETFROM:-0400
TZOFFSETTO:-0500
TZNAME:EST
DTSTART:20261101T060000
END:STANDARD
END:VTIMEZONE
BEGIN:VEVENT
DTSTART;TZID=America/New_York:20251208T083000
DTEND;TZID=America/New_York:20251208T093000
DTSTAMP:20260423T171151
CREATED:20250305T035020Z
LAST-MODIFIED:20250305T035025Z
UID:10015925-1765182600-1765186200@stnicholasoftolentinebronx.org
SUMMARY:8:30 am Spanish Mass
DESCRIPTION:
URL:https://stnicholasoftolentinebronx.org/event/830-am-spanish-mass-3/2025-12-08/
LOCATION:St Nicholas of Tolentine Church\, 2345 University Avenue\, Bronx\, NY\, 10468\, United States
END:VEVENT
BEGIN:VEVENT
DTSTART;TZID=America/New_York:20251207T133000
DTEND;TZID=America/New_York:20251207T143000
DTSTAMP:20260423T171151
CREATED:20250313T024158Z
LAST-MODIFIED:20250313T024339Z
UID:10020223-1765114200-1765117800@stnicholasoftolentinebronx.org
SUMMARY:1:30 pm Vietnamese Mass
DESCRIPTION:
URL:https://stnicholasoftolentinebronx.org/event/130-pm-vietnamese-mass/2025-12-07/
LOCATION:St Nicholas of Tolentine Church\, 2345 University Avenue\, Bronx\, NY\, 10468\, United States
END:VEVENT
BEGIN:VEVENT
DTSTART;TZID=America/New_York:20251207T113000
DTEND;TZID=America/New_York:20251207T123000
DTSTAMP:20260423T171151
CREATED:20250313T024110Z
LAST-MODIFIED:20250313T024112Z
UID:10019962-1765107000-1765110600@stnicholasoftolentinebronx.org
SUMMARY:11:30 am English Mass
DESCRIPTION:
URL:https://stnicholasoftolentinebronx.org/event/1130-am-english-mass/2025-12-07/
LOCATION:St Nicholas of Tolentine Church\, 2345 University Avenue\, Bronx\, NY\, 10468\, United States
END:VEVENT
BEGIN:VEVENT
DTSTART;TZID=America/New_York:20251207T093000
DTEND;TZID=America/New_York:20251207T110000
DTSTAMP:20260423T171151
CREATED:20250313T024022Z
LAST-MODIFIED:20250313T024024Z
UID:10019701-1765099800-1765105200@stnicholasoftolentinebronx.org
SUMMARY:9:30 am Spanish Mass
DESCRIPTION:
URL:https://stnicholasoftolentinebronx.org/event/930-am-spanish-mass/2025-12-07/
LOCATION:St Nicholas of Tolentine Church\, 2345 University Avenue\, Bronx\, NY\, 10468\, United States
END:VEVENT
BEGIN:VEVENT
DTSTART;TZID=America/New_York:20251207T080000
DTEND;TZID=America/New_York:20251207T090000
DTSTAMP:20260423T171151
CREATED:20250313T023930Z
LAST-MODIFIED:20250418T035212Z
UID:10019440-1765094400-1765098000@stnicholasoftolentinebronx.org
SUMMARY:8:00 am English Mass
DESCRIPTION:
URL:https://stnicholasoftolentinebronx.org/event/800-am-english-mass/2025-12-07/
LOCATION:St Nicholas of Tolentine Church\, 2345 University Avenue\, Bronx\, NY\, 10468\, United States
END:VEVENT
BEGIN:VEVENT
DTSTART;TZID=America/New_York:20251206T190000
DTEND;TZID=America/New_York:20251206T200000
DTSTAMP:20260423T171151
CREATED:20250313T023841Z
LAST-MODIFIED:20250313T023842Z
UID:10019179-1765047600-1765051200@stnicholasoftolentinebronx.org
SUMMARY:7:00 pm Spanish Mass
DESCRIPTION:
URL:https://stnicholasoftolentinebronx.org/event/700-pm-spanish-mass/2025-12-06/
LOCATION:St Nicholas of Tolentine Church\, 2345 University Avenue\, Bronx\, NY\, 10468\, United States
END:VEVENT
BEGIN:VEVENT
DTSTART;TZID=America/New_York:20251206T173000
DTEND;TZID=America/New_York:20251206T183000
DTSTAMP:20260423T171151
CREATED:20250313T023751Z
LAST-MODIFIED:20250313T023752Z
UID:10018918-1765042200-1765045800@stnicholasoftolentinebronx.org
SUMMARY:5:30 pm Confessions
DESCRIPTION:
URL:https://stnicholasoftolentinebronx.org/event/530-pm-confessions/2025-12-06/
LOCATION:St Nicholas of Tolentine Church\, 2345 University Avenue\, Bronx\, NY\, 10468\, United States
END:VEVENT
BEGIN:VEVENT
DTSTART;TZID=America/New_York:20251206T074500
DTEND;TZID=America/New_York:20251206T083000
DTSTAMP:20260423T171151
CREATED:20250313T023643Z
LAST-MODIFIED:20250313T023646Z
UID:10018657-1765007100-1765009800@stnicholasoftolentinebronx.org
SUMMARY:7:45 am Vietnamese Mass
DESCRIPTION:
URL:https://stnicholasoftolentinebronx.org/event/745-am-vietnamese-mass/2025-12-06/
LOCATION:St Nicholas of Tolentine Church\, 2345 University Avenue\, Bronx\, NY\, 10468\, United States
END:VEVENT
BEGIN:VEVENT
DTSTART;TZID=America/New_York:20251205T120000
DTEND;TZID=America/New_York:20251205T123000
DTSTAMP:20260423T171151
CREATED:20250305T040540Z
LAST-MODIFIED:20250305T040545Z
UID:10017228-1764936000-1764937800@stnicholasoftolentinebronx.org
SUMMARY:12:00 Noon English mass
DESCRIPTION:
URL:https://stnicholasoftolentinebronx.org/event/1200-noon-english-mass/2025-12-05/
LOCATION:St Nicholas of Tolentine Church\, 2345 University Avenue\, Bronx\, NY\, 10468\, United States
END:VEVENT
BEGIN:VEVENT
DTSTART;TZID=America/New_York:20251205T083000
DTEND;TZID=America/New_York:20251205T093000
DTSTAMP:20260423T171151
CREATED:20250305T035020Z
LAST-MODIFIED:20250305T035025Z
UID:10015924-1764923400-1764927000@stnicholasoftolentinebronx.org
SUMMARY:8:30 am Spanish Mass
DESCRIPTION:
URL:https://stnicholasoftolentinebronx.org/event/830-am-spanish-mass-3/2025-12-05/
LOCATION:St Nicholas of Tolentine Church\, 2345 University Avenue\, Bronx\, NY\, 10468\, United States
END:VEVENT
BEGIN:VEVENT
DTSTART;TZID=America/New_York:20251204T190000
DTEND;TZID=America/New_York:20251204T210000
DTSTAMP:20260423T171151
CREATED:20250305T041048Z
LAST-MODIFIED:20250306T225714Z
UID:10018376-1764874800-1764882000@stnicholasoftolentinebronx.org
SUMMARY:7:00 pm Círculo
DESCRIPTION:
URL:https://stnicholasoftolentinebronx.org/event/700-circulo/2025-12-04/
LOCATION:NY
END:VEVENT
BEGIN:VEVENT
DTSTART;TZID=America/New_York:20251204T120000
DTEND;TZID=America/New_York:20251204T123000
DTSTAMP:20260423T171151
CREATED:20250305T040540Z
LAST-MODIFIED:20250305T040545Z
UID:10017227-1764849600-1764851400@stnicholasoftolentinebronx.org
SUMMARY:12:00 Noon English mass
DESCRIPTION:
URL:https://stnicholasoftolentinebronx.org/event/1200-noon-english-mass/2025-12-04/
LOCATION:St Nicholas of Tolentine Church\, 2345 University Avenue\, Bronx\, NY\, 10468\, United States
END:VEVENT
BEGIN:VEVENT
DTSTART;TZID=America/New_York:20251204T083000
DTEND;TZID=America/New_York:20251204T093000
DTSTAMP:20260423T171151
CREATED:20250305T035020Z
LAST-MODIFIED:20250305T035025Z
UID:10015923-1764837000-1764840600@stnicholasoftolentinebronx.org
SUMMARY:8:30 am Spanish Mass
DESCRIPTION:
URL:https://stnicholasoftolentinebronx.org/event/830-am-spanish-mass-3/2025-12-04/
LOCATION:St Nicholas of Tolentine Church\, 2345 University Avenue\, Bronx\, NY\, 10468\, United States
END:VEVENT
BEGIN:VEVENT
DTSTART;TZID=America/New_York:20251203T120000
DTEND;TZID=America/New_York:20251203T123000
DTSTAMP:20260423T171151
CREATED:20250305T040540Z
LAST-MODIFIED:20250305T040545Z
UID:10017226-1764763200-1764765000@stnicholasoftolentinebronx.org
SUMMARY:12:00 Noon English mass
DESCRIPTION:
URL:https://stnicholasoftolentinebronx.org/event/1200-noon-english-mass/2025-12-03/
LOCATION:St Nicholas of Tolentine Church\, 2345 University Avenue\, Bronx\, NY\, 10468\, United States
END:VEVENT
BEGIN:VEVENT
DTSTART;TZID=America/New_York:20251203T083000
DTEND;TZID=America/New_York:20251203T093000
DTSTAMP:20260423T171151
CREATED:20250305T035020Z
LAST-MODIFIED:20250305T035025Z
UID:10015922-1764750600-1764754200@stnicholasoftolentinebronx.org
SUMMARY:8:30 am Spanish Mass
DESCRIPTION:
URL:https://stnicholasoftolentinebronx.org/event/830-am-spanish-mass-3/2025-12-03/
LOCATION:St Nicholas of Tolentine Church\, 2345 University Avenue\, Bronx\, NY\, 10468\, United States
END:VEVENT
BEGIN:VEVENT
DTSTART;TZID=America/New_York:20251202T120000
DTEND;TZID=America/New_York:20251202T123000
DTSTAMP:20260423T171151
CREATED:20250305T040540Z
LAST-MODIFIED:20250305T040545Z
UID:10017225-1764676800-1764678600@stnicholasoftolentinebronx.org
SUMMARY:12:00 Noon English mass
DESCRIPTION:
URL:https://stnicholasoftolentinebronx.org/event/1200-noon-english-mass/2025-12-02/
LOCATION:St Nicholas of Tolentine Church\, 2345 University Avenue\, Bronx\, NY\, 10468\, United States
END:VEVENT
BEGIN:VEVENT
DTSTART;TZID=America/New_York:20251202T083000
DTEND;TZID=America/New_York:20251202T093000
DTSTAMP:20260423T171151
CREATED:20250305T035020Z
LAST-MODIFIED:20250305T035025Z
UID:10015921-1764664200-1764667800@stnicholasoftolentinebronx.org
SUMMARY:8:30 am Spanish Mass
DESCRIPTION:
URL:https://stnicholasoftolentinebronx.org/event/830-am-spanish-mass-3/2025-12-02/
LOCATION:St Nicholas of Tolentine Church\, 2345 University Avenue\, Bronx\, NY\, 10468\, United States
END:VEVENT
BEGIN:VEVENT
DTSTART;TZID=America/New_York:20251201T120000
DTEND;TZID=America/New_York:20251201T123000
DTSTAMP:20260423T171151
CREATED:20250305T040540Z
LAST-MODIFIED:20250305T040545Z
UID:10017224-1764590400-1764592200@stnicholasoftolentinebronx.org
SUMMARY:12:00 Noon English mass
DESCRIPTION:
URL:https://stnicholasoftolentinebronx.org/event/1200-noon-english-mass/2025-12-01/
LOCATION:St Nicholas of Tolentine Church\, 2345 University Avenue\, Bronx\, NY\, 10468\, United States
END:VEVENT
BEGIN:VEVENT
DTSTART;TZID=America/New_York:20251201T083000
DTEND;TZID=America/New_York:20251201T093000
DTSTAMP:20260423T171151
CREATED:20250305T035020Z
LAST-MODIFIED:20250305T035025Z
UID:10015920-1764577800-1764581400@stnicholasoftolentinebronx.org
SUMMARY:8:30 am Spanish Mass
DESCRIPTION:
URL:https://stnicholasoftolentinebronx.org/event/830-am-spanish-mass-3/2025-12-01/
LOCATION:St Nicholas of Tolentine Church\, 2345 University Avenue\, Bronx\, NY\, 10468\, United States
END:VEVENT
BEGIN:VEVENT
DTSTART;TZID=America/New_York:20251130T133000
DTEND;TZID=America/New_York:20251130T143000
DTSTAMP:20260423T171151
CREATED:20250313T024158Z
LAST-MODIFIED:20250313T024339Z
UID:10020222-1764509400-1764513000@stnicholasoftolentinebronx.org
SUMMARY:1:30 pm Vietnamese Mass
DESCRIPTION:
URL:https://stnicholasoftolentinebronx.org/event/130-pm-vietnamese-mass/2025-11-30/
LOCATION:St Nicholas of Tolentine Church\, 2345 University Avenue\, Bronx\, NY\, 10468\, United States
END:VEVENT
BEGIN:VEVENT
DTSTART;TZID=America/New_York:20251130T113000
DTEND;TZID=America/New_York:20251130T123000
DTSTAMP:20260423T171151
CREATED:20250313T024110Z
LAST-MODIFIED:20250313T024112Z
UID:10019961-1764502200-1764505800@stnicholasoftolentinebronx.org
SUMMARY:11:30 am English Mass
DESCRIPTION:
URL:https://stnicholasoftolentinebronx.org/event/1130-am-english-mass/2025-11-30/
LOCATION:St Nicholas of Tolentine Church\, 2345 University Avenue\, Bronx\, NY\, 10468\, United States
END:VEVENT
BEGIN:VEVENT
DTSTART;TZID=America/New_York:20251130T093000
DTEND;TZID=America/New_York:20251130T110000
DTSTAMP:20260423T171151
CREATED:20250313T024022Z
LAST-MODIFIED:20250313T024024Z
UID:10019700-1764495000-1764500400@stnicholasoftolentinebronx.org
SUMMARY:9:30 am Spanish Mass
DESCRIPTION:
URL:https://stnicholasoftolentinebronx.org/event/930-am-spanish-mass/2025-11-30/
LOCATION:St Nicholas of Tolentine Church\, 2345 University Avenue\, Bronx\, NY\, 10468\, United States
END:VEVENT
BEGIN:VEVENT
DTSTART;TZID=America/New_York:20251130T080000
DTEND;TZID=America/New_York:20251130T090000
DTSTAMP:20260423T171151
CREATED:20250313T023930Z
LAST-MODIFIED:20250418T035212Z
UID:10019439-1764489600-1764493200@stnicholasoftolentinebronx.org
SUMMARY:8:00 am English Mass
DESCRIPTION:
URL:https://stnicholasoftolentinebronx.org/event/800-am-english-mass/2025-11-30/
LOCATION:St Nicholas of Tolentine Church\, 2345 University Avenue\, Bronx\, NY\, 10468\, United States
END:VEVENT
BEGIN:VEVENT
DTSTART;TZID=America/New_York:20251129T190000
DTEND;TZID=America/New_York:20251129T200000
DTSTAMP:20260423T171151
CREATED:20250313T023841Z
LAST-MODIFIED:20250313T023842Z
UID:10019178-1764442800-1764446400@stnicholasoftolentinebronx.org
SUMMARY:7:00 pm Spanish Mass
DESCRIPTION:
URL:https://stnicholasoftolentinebronx.org/event/700-pm-spanish-mass/2025-11-29/
LOCATION:St Nicholas of Tolentine Church\, 2345 University Avenue\, Bronx\, NY\, 10468\, United States
END:VEVENT
BEGIN:VEVENT
DTSTART;TZID=America/New_York:20251129T173000
DTEND;TZID=America/New_York:20251129T183000
DTSTAMP:20260423T171151
CREATED:20250313T023751Z
LAST-MODIFIED:20250313T023752Z
UID:10018917-1764437400-1764441000@stnicholasoftolentinebronx.org
SUMMARY:5:30 pm Confessions
DESCRIPTION:
URL:https://stnicholasoftolentinebronx.org/event/530-pm-confessions/2025-11-29/
LOCATION:St Nicholas of Tolentine Church\, 2345 University Avenue\, Bronx\, NY\, 10468\, United States
END:VEVENT
BEGIN:VEVENT
DTSTART;TZID=America/New_York:20251129T074500
DTEND;TZID=America/New_York:20251129T083000
DTSTAMP:20260423T171151
CREATED:20250313T023643Z
LAST-MODIFIED:20250313T023646Z
UID:10018656-1764402300-1764405000@stnicholasoftolentinebronx.org
SUMMARY:7:45 am Vietnamese Mass
DESCRIPTION:
URL:https://stnicholasoftolentinebronx.org/event/745-am-vietnamese-mass/2025-11-29/
LOCATION:St Nicholas of Tolentine Church\, 2345 University Avenue\, Bronx\, NY\, 10468\, United States
END:VEVENT
BEGIN:VEVENT
DTSTART;TZID=America/New_York:20251128T090000
DTEND;TZID=America/New_York:20251128T100000
DTSTAMP:20260423T171151
CREATED:20251126T223736Z
LAST-MODIFIED:20251126T223739Z
UID:10020900-1764320400-1764324000@stnicholasoftolentinebronx.org
SUMMARY:9:00 am Bilingual Mass (only mass today)
DESCRIPTION:
URL:https://stnicholasoftolentinebronx.org/event/900-am-bilingual-mass-only-mass-today/
LOCATION:St Nicholas of Tolentine Church\, 2345 University Avenue\, Bronx\, NY\, 10468\, United States
END:VEVENT
BEGIN:VEVENT
DTSTART;TZID=America/New_York:20251127T190000
DTEND;TZID=America/New_York:20251127T210000
DTSTAMP:20260423T171151
CREATED:20250305T041048Z
LAST-MODIFIED:20250306T225714Z
UID:10020917-1764270000-1764277200@stnicholasoftolentinebronx.org
SUMMARY:7:00 pm Círculo
DESCRIPTION:
URL:https://stnicholasoftolentinebronx.org/event/700-circulo/2025-11-27/
LOCATION:NY
END:VEVENT
BEGIN:VEVENT
DTSTART;TZID=America/New_York:20251127T090000
DTEND;TZID=America/New_York:20251127T100000
DTSTAMP:20260423T171151
CREATED:20251126T223642Z
LAST-MODIFIED:20251126T223648Z
UID:10020899-1764234000-1764237600@stnicholasoftolentinebronx.org
SUMMARY:9:00 am Thanksgiving Mass (only mass today)
DESCRIPTION:
URL:https://stnicholasoftolentinebronx.org/event/900-am-thanksgiving-mass-only-mass-today/
LOCATION:St Nicholas of Tolentine Church\, 2345 University Avenue\, Bronx\, NY\, 10468\, United States
END:VEVENT
BEGIN:VEVENT
DTSTART;TZID=America/New_York:20251126T120000
DTEND;TZID=America/New_York:20251126T123000
DTSTAMP:20260423T171151
CREATED:20250305T040540Z
LAST-MODIFIED:20250305T040545Z
UID:10017221-1764158400-1764160200@stnicholasoftolentinebronx.org
SUMMARY:12:00 Noon English mass
DESCRIPTION:
URL:https://stnicholasoftolentinebronx.org/event/1200-noon-english-mass/2025-11-26/
LOCATION:St Nicholas of Tolentine Church\, 2345 University Avenue\, Bronx\, NY\, 10468\, United States
END:VEVENT
END:VCALENDAR