BEGIN:VCALENDAR
VERSION:2.0
PRODID:-//St. Nicholas of Tolentine Church - ECPv6.15.20//NONSGML v1.0//EN
CALSCALE:GREGORIAN
METHOD:PUBLISH
X-WR-CALNAME:St. Nicholas of Tolentine Church
X-ORIGINAL-URL:https://stnicholasoftolentinebronx.org
X-WR-CALDESC:Events for St. Nicholas of Tolentine Church
REFRESH-INTERVAL;VALUE=DURATION:PT1H
X-Robots-Tag:noindex
X-PUBLISHED-TTL:PT1H
BEGIN:VTIMEZONE
TZID:America/New_York
BEGIN:DAYLIGHT
TZOFFSETFROM:-0500
TZOFFSETTO:-0400
TZNAME:EDT
DTSTART:20250309T070000
END:DAYLIGHT
BEGIN:STANDARD
TZOFFSETFROM:-0400
TZOFFSETTO:-0500
TZNAME:EST
DTSTART:20251102T060000
END:STANDARD
BEGIN:DAYLIGHT
TZOFFSETFROM:-0500
TZOFFSETTO:-0400
TZNAME:EDT
DTSTART:20260308T070000
END:DAYLIGHT
BEGIN:STANDARD
TZOFFSETFROM:-0400
TZOFFSETTO:-0500
TZNAME:EST
DTSTART:20261101T060000
END:STANDARD
BEGIN:DAYLIGHT
TZOFFSETFROM:-0500
TZOFFSETTO:-0400
TZNAME:EDT
DTSTART:20270314T070000
END:DAYLIGHT
BEGIN:STANDARD
TZOFFSETFROM:-0400
TZOFFSETTO:-0500
TZNAME:EST
DTSTART:20271107T060000
END:STANDARD
END:VTIMEZONE
BEGIN:VEVENT
DTSTART;TZID=America/New_York:20260831T083000
DTEND;TZID=America/New_York:20260831T093000
DTSTAMP:20260423T080510
CREATED:20250305T035020Z
LAST-MODIFIED:20250305T035025Z
UID:10016115-1788165000-1788168600@stnicholasoftolentinebronx.org
SUMMARY:8:30 am Spanish Mass
DESCRIPTION:
URL:https://stnicholasoftolentinebronx.org/event/830-am-spanish-mass-3/2026-08-31/
LOCATION:St Nicholas of Tolentine Church\, 2345 University Avenue\, Bronx\, NY\, 10468\, United States
END:VEVENT
BEGIN:VEVENT
DTSTART;TZID=America/New_York:20260831T120000
DTEND;TZID=America/New_York:20260831T123000
DTSTAMP:20260423T080510
CREATED:20250305T040540Z
LAST-MODIFIED:20250305T040545Z
UID:10017419-1788177600-1788179400@stnicholasoftolentinebronx.org
SUMMARY:12:00 Noon English mass
DESCRIPTION:
URL:https://stnicholasoftolentinebronx.org/event/1200-noon-english-mass/2026-08-31/
LOCATION:St Nicholas of Tolentine Church\, 2345 University Avenue\, Bronx\, NY\, 10468\, United States
END:VEVENT
BEGIN:VEVENT
DTSTART;TZID=America/New_York:20260901T083000
DTEND;TZID=America/New_York:20260901T093000
DTSTAMP:20260423T080510
CREATED:20250305T035020Z
LAST-MODIFIED:20250305T035025Z
UID:10016116-1788251400-1788255000@stnicholasoftolentinebronx.org
SUMMARY:8:30 am Spanish Mass
DESCRIPTION:
URL:https://stnicholasoftolentinebronx.org/event/830-am-spanish-mass-3/2026-09-01/
LOCATION:St Nicholas of Tolentine Church\, 2345 University Avenue\, Bronx\, NY\, 10468\, United States
END:VEVENT
BEGIN:VEVENT
DTSTART;TZID=America/New_York:20260901T120000
DTEND;TZID=America/New_York:20260901T123000
DTSTAMP:20260423T080510
CREATED:20250305T040540Z
LAST-MODIFIED:20250305T040545Z
UID:10017420-1788264000-1788265800@stnicholasoftolentinebronx.org
SUMMARY:12:00 Noon English mass
DESCRIPTION:
URL:https://stnicholasoftolentinebronx.org/event/1200-noon-english-mass/2026-09-01/
LOCATION:St Nicholas of Tolentine Church\, 2345 University Avenue\, Bronx\, NY\, 10468\, United States
END:VEVENT
BEGIN:VEVENT
DTSTART;TZID=America/New_York:20260902T083000
DTEND;TZID=America/New_York:20260902T093000
DTSTAMP:20260423T080510
CREATED:20250305T035020Z
LAST-MODIFIED:20250305T035025Z
UID:10016117-1788337800-1788341400@stnicholasoftolentinebronx.org
SUMMARY:8:30 am Spanish Mass
DESCRIPTION:
URL:https://stnicholasoftolentinebronx.org/event/830-am-spanish-mass-3/2026-09-02/
LOCATION:St Nicholas of Tolentine Church\, 2345 University Avenue\, Bronx\, NY\, 10468\, United States
END:VEVENT
BEGIN:VEVENT
DTSTART;TZID=America/New_York:20260902T120000
DTEND;TZID=America/New_York:20260902T123000
DTSTAMP:20260423T080510
CREATED:20250305T040540Z
LAST-MODIFIED:20250305T040545Z
UID:10017421-1788350400-1788352200@stnicholasoftolentinebronx.org
SUMMARY:12:00 Noon English mass
DESCRIPTION:
URL:https://stnicholasoftolentinebronx.org/event/1200-noon-english-mass/2026-09-02/
LOCATION:St Nicholas of Tolentine Church\, 2345 University Avenue\, Bronx\, NY\, 10468\, United States
END:VEVENT
BEGIN:VEVENT
DTSTART;TZID=America/New_York:20260903T083000
DTEND;TZID=America/New_York:20260903T093000
DTSTAMP:20260423T080510
CREATED:20250305T035020Z
LAST-MODIFIED:20250305T035025Z
UID:10016118-1788424200-1788427800@stnicholasoftolentinebronx.org
SUMMARY:8:30 am Spanish Mass
DESCRIPTION:
URL:https://stnicholasoftolentinebronx.org/event/830-am-spanish-mass-3/2026-09-03/
LOCATION:St Nicholas of Tolentine Church\, 2345 University Avenue\, Bronx\, NY\, 10468\, United States
END:VEVENT
BEGIN:VEVENT
DTSTART;TZID=America/New_York:20260903T120000
DTEND;TZID=America/New_York:20260903T123000
DTSTAMP:20260423T080510
CREATED:20250305T040540Z
LAST-MODIFIED:20250305T040545Z
UID:10017422-1788436800-1788438600@stnicholasoftolentinebronx.org
SUMMARY:12:00 Noon English mass
DESCRIPTION:
URL:https://stnicholasoftolentinebronx.org/event/1200-noon-english-mass/2026-09-03/
LOCATION:St Nicholas of Tolentine Church\, 2345 University Avenue\, Bronx\, NY\, 10468\, United States
END:VEVENT
BEGIN:VEVENT
DTSTART;TZID=America/New_York:20260903T190000
DTEND;TZID=America/New_York:20260903T210000
DTSTAMP:20260423T080510
CREATED:20250305T041048Z
LAST-MODIFIED:20250306T225714Z
UID:10018415-1788462000-1788469200@stnicholasoftolentinebronx.org
SUMMARY:7:00 pm Círculo
DESCRIPTION:
URL:https://stnicholasoftolentinebronx.org/event/700-circulo/2026-09-03/
LOCATION:NY
END:VEVENT
BEGIN:VEVENT
DTSTART;TZID=America/New_York:20260904T083000
DTEND;TZID=America/New_York:20260904T093000
DTSTAMP:20260423T080510
CREATED:20250305T035020Z
LAST-MODIFIED:20250305T035025Z
UID:10016119-1788510600-1788514200@stnicholasoftolentinebronx.org
SUMMARY:8:30 am Spanish Mass
DESCRIPTION:
URL:https://stnicholasoftolentinebronx.org/event/830-am-spanish-mass-3/2026-09-04/
LOCATION:St Nicholas of Tolentine Church\, 2345 University Avenue\, Bronx\, NY\, 10468\, United States
END:VEVENT
BEGIN:VEVENT
DTSTART;TZID=America/New_York:20260904T120000
DTEND;TZID=America/New_York:20260904T123000
DTSTAMP:20260423T080510
CREATED:20250305T040540Z
LAST-MODIFIED:20250305T040545Z
UID:10017423-1788523200-1788525000@stnicholasoftolentinebronx.org
SUMMARY:12:00 Noon English mass
DESCRIPTION:
URL:https://stnicholasoftolentinebronx.org/event/1200-noon-english-mass/2026-09-04/
LOCATION:St Nicholas of Tolentine Church\, 2345 University Avenue\, Bronx\, NY\, 10468\, United States
END:VEVENT
BEGIN:VEVENT
DTSTART;TZID=America/New_York:20260905T074500
DTEND;TZID=America/New_York:20260905T083000
DTSTAMP:20260423T080510
CREATED:20250313T023643Z
LAST-MODIFIED:20250313T023646Z
UID:10018696-1788594300-1788597000@stnicholasoftolentinebronx.org
SUMMARY:7:45 am Vietnamese Mass
DESCRIPTION:
URL:https://stnicholasoftolentinebronx.org/event/745-am-vietnamese-mass/2026-09-05/
LOCATION:St Nicholas of Tolentine Church\, 2345 University Avenue\, Bronx\, NY\, 10468\, United States
END:VEVENT
BEGIN:VEVENT
DTSTART;TZID=America/New_York:20260905T173000
DTEND;TZID=America/New_York:20260905T183000
DTSTAMP:20260423T080510
CREATED:20250313T023751Z
LAST-MODIFIED:20250313T023752Z
UID:10018957-1788629400-1788633000@stnicholasoftolentinebronx.org
SUMMARY:5:30 pm Confessions
DESCRIPTION:
URL:https://stnicholasoftolentinebronx.org/event/530-pm-confessions/2026-09-05/
LOCATION:St Nicholas of Tolentine Church\, 2345 University Avenue\, Bronx\, NY\, 10468\, United States
END:VEVENT
BEGIN:VEVENT
DTSTART;TZID=America/New_York:20260905T190000
DTEND;TZID=America/New_York:20260905T200000
DTSTAMP:20260423T080510
CREATED:20250313T023841Z
LAST-MODIFIED:20250313T023842Z
UID:10019218-1788634800-1788638400@stnicholasoftolentinebronx.org
SUMMARY:7:00 pm Spanish Mass
DESCRIPTION:
URL:https://stnicholasoftolentinebronx.org/event/700-pm-spanish-mass/2026-09-05/
LOCATION:St Nicholas of Tolentine Church\, 2345 University Avenue\, Bronx\, NY\, 10468\, United States
END:VEVENT
BEGIN:VEVENT
DTSTART;TZID=America/New_York:20260906T080000
DTEND;TZID=America/New_York:20260906T090000
DTSTAMP:20260423T080510
CREATED:20250313T023930Z
LAST-MODIFIED:20250418T035212Z
UID:10019479-1788681600-1788685200@stnicholasoftolentinebronx.org
SUMMARY:8:00 am English Mass
DESCRIPTION:
URL:https://stnicholasoftolentinebronx.org/event/800-am-english-mass/2026-09-06/
LOCATION:St Nicholas of Tolentine Church\, 2345 University Avenue\, Bronx\, NY\, 10468\, United States
END:VEVENT
BEGIN:VEVENT
DTSTART;TZID=America/New_York:20260906T093000
DTEND;TZID=America/New_York:20260906T110000
DTSTAMP:20260423T080510
CREATED:20250313T024022Z
LAST-MODIFIED:20250313T024024Z
UID:10019740-1788687000-1788692400@stnicholasoftolentinebronx.org
SUMMARY:9:30 am Spanish Mass
DESCRIPTION:
URL:https://stnicholasoftolentinebronx.org/event/930-am-spanish-mass/2026-09-06/
LOCATION:St Nicholas of Tolentine Church\, 2345 University Avenue\, Bronx\, NY\, 10468\, United States
END:VEVENT
BEGIN:VEVENT
DTSTART;TZID=America/New_York:20260906T113000
DTEND;TZID=America/New_York:20260906T123000
DTSTAMP:20260423T080510
CREATED:20250313T024110Z
LAST-MODIFIED:20250313T024112Z
UID:10020001-1788694200-1788697800@stnicholasoftolentinebronx.org
SUMMARY:11:30 am English Mass
DESCRIPTION:
URL:https://stnicholasoftolentinebronx.org/event/1130-am-english-mass/2026-09-06/
LOCATION:St Nicholas of Tolentine Church\, 2345 University Avenue\, Bronx\, NY\, 10468\, United States
END:VEVENT
BEGIN:VEVENT
DTSTART;TZID=America/New_York:20260906T133000
DTEND;TZID=America/New_York:20260906T143000
DTSTAMP:20260423T080510
CREATED:20250313T024158Z
LAST-MODIFIED:20250313T024339Z
UID:10020262-1788701400-1788705000@stnicholasoftolentinebronx.org
SUMMARY:1:30 pm Vietnamese Mass
DESCRIPTION:
URL:https://stnicholasoftolentinebronx.org/event/130-pm-vietnamese-mass/2026-09-06/
LOCATION:St Nicholas of Tolentine Church\, 2345 University Avenue\, Bronx\, NY\, 10468\, United States
END:VEVENT
BEGIN:VEVENT
DTSTART;TZID=America/New_York:20260907T083000
DTEND;TZID=America/New_York:20260907T093000
DTSTAMP:20260423T080510
CREATED:20250305T035020Z
LAST-MODIFIED:20250305T035025Z
UID:10016120-1788769800-1788773400@stnicholasoftolentinebronx.org
SUMMARY:8:30 am Spanish Mass
DESCRIPTION:
URL:https://stnicholasoftolentinebronx.org/event/830-am-spanish-mass-3/2026-09-07/
LOCATION:St Nicholas of Tolentine Church\, 2345 University Avenue\, Bronx\, NY\, 10468\, United States
END:VEVENT
BEGIN:VEVENT
DTSTART;TZID=America/New_York:20260907T120000
DTEND;TZID=America/New_York:20260907T123000
DTSTAMP:20260423T080510
CREATED:20250305T040540Z
LAST-MODIFIED:20250305T040545Z
UID:10017424-1788782400-1788784200@stnicholasoftolentinebronx.org
SUMMARY:12:00 Noon English mass
DESCRIPTION:
URL:https://stnicholasoftolentinebronx.org/event/1200-noon-english-mass/2026-09-07/
LOCATION:St Nicholas of Tolentine Church\, 2345 University Avenue\, Bronx\, NY\, 10468\, United States
END:VEVENT
BEGIN:VEVENT
DTSTART;TZID=America/New_York:20260908T083000
DTEND;TZID=America/New_York:20260908T093000
DTSTAMP:20260423T080510
CREATED:20250305T035020Z
LAST-MODIFIED:20250305T035025Z
UID:10016121-1788856200-1788859800@stnicholasoftolentinebronx.org
SUMMARY:8:30 am Spanish Mass
DESCRIPTION:
URL:https://stnicholasoftolentinebronx.org/event/830-am-spanish-mass-3/2026-09-08/
LOCATION:St Nicholas of Tolentine Church\, 2345 University Avenue\, Bronx\, NY\, 10468\, United States
END:VEVENT
BEGIN:VEVENT
DTSTART;TZID=America/New_York:20260908T120000
DTEND;TZID=America/New_York:20260908T123000
DTSTAMP:20260423T080510
CREATED:20250305T040540Z
LAST-MODIFIED:20250305T040545Z
UID:10017425-1788868800-1788870600@stnicholasoftolentinebronx.org
SUMMARY:12:00 Noon English mass
DESCRIPTION:
URL:https://stnicholasoftolentinebronx.org/event/1200-noon-english-mass/2026-09-08/
LOCATION:St Nicholas of Tolentine Church\, 2345 University Avenue\, Bronx\, NY\, 10468\, United States
END:VEVENT
BEGIN:VEVENT
DTSTART;TZID=America/New_York:20260909T083000
DTEND;TZID=America/New_York:20260909T093000
DTSTAMP:20260423T080510
CREATED:20250305T035020Z
LAST-MODIFIED:20250305T035025Z
UID:10016122-1788942600-1788946200@stnicholasoftolentinebronx.org
SUMMARY:8:30 am Spanish Mass
DESCRIPTION:
URL:https://stnicholasoftolentinebronx.org/event/830-am-spanish-mass-3/2026-09-09/
LOCATION:St Nicholas of Tolentine Church\, 2345 University Avenue\, Bronx\, NY\, 10468\, United States
END:VEVENT
BEGIN:VEVENT
DTSTART;TZID=America/New_York:20260909T120000
DTEND;TZID=America/New_York:20260909T123000
DTSTAMP:20260423T080510
CREATED:20250305T040540Z
LAST-MODIFIED:20250305T040545Z
UID:10017426-1788955200-1788957000@stnicholasoftolentinebronx.org
SUMMARY:12:00 Noon English mass
DESCRIPTION:
URL:https://stnicholasoftolentinebronx.org/event/1200-noon-english-mass/2026-09-09/
LOCATION:St Nicholas of Tolentine Church\, 2345 University Avenue\, Bronx\, NY\, 10468\, United States
END:VEVENT
BEGIN:VEVENT
DTSTART;TZID=America/New_York:20260910T083000
DTEND;TZID=America/New_York:20260910T093000
DTSTAMP:20260423T080510
CREATED:20250305T035020Z
LAST-MODIFIED:20250305T035025Z
UID:10016123-1789029000-1789032600@stnicholasoftolentinebronx.org
SUMMARY:8:30 am Spanish Mass
DESCRIPTION:
URL:https://stnicholasoftolentinebronx.org/event/830-am-spanish-mass-3/2026-09-10/
LOCATION:St Nicholas of Tolentine Church\, 2345 University Avenue\, Bronx\, NY\, 10468\, United States
END:VEVENT
BEGIN:VEVENT
DTSTART;TZID=America/New_York:20260910T120000
DTEND;TZID=America/New_York:20260910T123000
DTSTAMP:20260423T080510
CREATED:20250305T040540Z
LAST-MODIFIED:20250305T040545Z
UID:10017427-1789041600-1789043400@stnicholasoftolentinebronx.org
SUMMARY:12:00 Noon English mass
DESCRIPTION:
URL:https://stnicholasoftolentinebronx.org/event/1200-noon-english-mass/2026-09-10/
LOCATION:St Nicholas of Tolentine Church\, 2345 University Avenue\, Bronx\, NY\, 10468\, United States
END:VEVENT
BEGIN:VEVENT
DTSTART;TZID=America/New_York:20260910T190000
DTEND;TZID=America/New_York:20260910T210000
DTSTAMP:20260423T080510
CREATED:20250305T041048Z
LAST-MODIFIED:20250306T225714Z
UID:10018416-1789066800-1789074000@stnicholasoftolentinebronx.org
SUMMARY:7:00 pm Círculo
DESCRIPTION:
URL:https://stnicholasoftolentinebronx.org/event/700-circulo/2026-09-10/
LOCATION:NY
END:VEVENT
BEGIN:VEVENT
DTSTART;TZID=America/New_York:20260911T083000
DTEND;TZID=America/New_York:20260911T093000
DTSTAMP:20260423T080510
CREATED:20250305T035020Z
LAST-MODIFIED:20250305T035025Z
UID:10016124-1789115400-1789119000@stnicholasoftolentinebronx.org
SUMMARY:8:30 am Spanish Mass
DESCRIPTION:
URL:https://stnicholasoftolentinebronx.org/event/830-am-spanish-mass-3/2026-09-11/
LOCATION:St Nicholas of Tolentine Church\, 2345 University Avenue\, Bronx\, NY\, 10468\, United States
END:VEVENT
BEGIN:VEVENT
DTSTART;TZID=America/New_York:20260911T120000
DTEND;TZID=America/New_York:20260911T123000
DTSTAMP:20260423T080510
CREATED:20250305T040540Z
LAST-MODIFIED:20250305T040545Z
UID:10017428-1789128000-1789129800@stnicholasoftolentinebronx.org
SUMMARY:12:00 Noon English mass
DESCRIPTION:
URL:https://stnicholasoftolentinebronx.org/event/1200-noon-english-mass/2026-09-11/
LOCATION:St Nicholas of Tolentine Church\, 2345 University Avenue\, Bronx\, NY\, 10468\, United States
END:VEVENT
BEGIN:VEVENT
DTSTART;TZID=America/New_York:20260912T074500
DTEND;TZID=America/New_York:20260912T083000
DTSTAMP:20260423T080510
CREATED:20250313T023643Z
LAST-MODIFIED:20250313T023646Z
UID:10018697-1789199100-1789201800@stnicholasoftolentinebronx.org
SUMMARY:7:45 am Vietnamese Mass
DESCRIPTION:
URL:https://stnicholasoftolentinebronx.org/event/745-am-vietnamese-mass/2026-09-12/
LOCATION:St Nicholas of Tolentine Church\, 2345 University Avenue\, Bronx\, NY\, 10468\, United States
END:VEVENT
END:VCALENDAR