BEGIN:VCALENDAR
VERSION:2.0
PRODID:-//St. Nicholas of Tolentine Church - ECPv6.15.20//NONSGML v1.0//EN
CALSCALE:GREGORIAN
METHOD:PUBLISH
X-WR-CALNAME:St. Nicholas of Tolentine Church
X-ORIGINAL-URL:https://stnicholasoftolentinebronx.org
X-WR-CALDESC:Events for St. Nicholas of Tolentine Church
REFRESH-INTERVAL;VALUE=DURATION:PT1H
X-Robots-Tag:noindex
X-PUBLISHED-TTL:PT1H
BEGIN:VTIMEZONE
TZID:America/New_York
BEGIN:DAYLIGHT
TZOFFSETFROM:-0500
TZOFFSETTO:-0400
TZNAME:EDT
DTSTART:20240310T070000
END:DAYLIGHT
BEGIN:STANDARD
TZOFFSETFROM:-0400
TZOFFSETTO:-0500
TZNAME:EST
DTSTART:20241103T060000
END:STANDARD
BEGIN:DAYLIGHT
TZOFFSETFROM:-0500
TZOFFSETTO:-0400
TZNAME:EDT
DTSTART:20250309T070000
END:DAYLIGHT
BEGIN:STANDARD
TZOFFSETFROM:-0400
TZOFFSETTO:-0500
TZNAME:EST
DTSTART:20251102T060000
END:STANDARD
BEGIN:DAYLIGHT
TZOFFSETFROM:-0500
TZOFFSETTO:-0400
TZNAME:EDT
DTSTART:20260308T070000
END:DAYLIGHT
BEGIN:STANDARD
TZOFFSETFROM:-0400
TZOFFSETTO:-0500
TZNAME:EST
DTSTART:20261101T060000
END:STANDARD
END:VTIMEZONE
BEGIN:VEVENT
DTSTART;TZID=America/New_York:20250922T120000
DTEND;TZID=America/New_York:20250922T123000
DTSTAMP:20260423T201300
CREATED:20250305T040540Z
LAST-MODIFIED:20250305T040545Z
UID:10017174-1758542400-1758544200@stnicholasoftolentinebronx.org
SUMMARY:12:00 Noon English mass
DESCRIPTION:
URL:https://stnicholasoftolentinebronx.org/event/1200-noon-english-mass/2025-09-22/
LOCATION:St Nicholas of Tolentine Church\, 2345 University Avenue\, Bronx\, NY\, 10468\, United States
END:VEVENT
BEGIN:VEVENT
DTSTART;TZID=America/New_York:20250922T083000
DTEND;TZID=America/New_York:20250922T093000
DTSTAMP:20260423T201300
CREATED:20250305T035020Z
LAST-MODIFIED:20250305T035025Z
UID:10015870-1758529800-1758533400@stnicholasoftolentinebronx.org
SUMMARY:8:30 am Spanish Mass
DESCRIPTION:
URL:https://stnicholasoftolentinebronx.org/event/830-am-spanish-mass-3/2025-09-22/
LOCATION:St Nicholas of Tolentine Church\, 2345 University Avenue\, Bronx\, NY\, 10468\, United States
END:VEVENT
BEGIN:VEVENT
DTSTART;TZID=America/New_York:20250921T133000
DTEND;TZID=America/New_York:20250921T143000
DTSTAMP:20260423T201300
CREATED:20250313T024158Z
LAST-MODIFIED:20250313T024339Z
UID:10020212-1758461400-1758465000@stnicholasoftolentinebronx.org
SUMMARY:1:30 pm Vietnamese Mass
DESCRIPTION:
URL:https://stnicholasoftolentinebronx.org/event/130-pm-vietnamese-mass/2025-09-21/
LOCATION:St Nicholas of Tolentine Church\, 2345 University Avenue\, Bronx\, NY\, 10468\, United States
END:VEVENT
BEGIN:VEVENT
DTSTART;TZID=America/New_York:20250921T113000
DTEND;TZID=America/New_York:20250921T123000
DTSTAMP:20260423T201300
CREATED:20250313T024110Z
LAST-MODIFIED:20250313T024112Z
UID:10019951-1758454200-1758457800@stnicholasoftolentinebronx.org
SUMMARY:11:30 am English Mass
DESCRIPTION:
URL:https://stnicholasoftolentinebronx.org/event/1130-am-english-mass/2025-09-21/
LOCATION:St Nicholas of Tolentine Church\, 2345 University Avenue\, Bronx\, NY\, 10468\, United States
END:VEVENT
BEGIN:VEVENT
DTSTART;TZID=America/New_York:20250921T093000
DTEND;TZID=America/New_York:20250921T110000
DTSTAMP:20260423T201300
CREATED:20250313T024022Z
LAST-MODIFIED:20250313T024024Z
UID:10019690-1758447000-1758452400@stnicholasoftolentinebronx.org
SUMMARY:9:30 am Spanish Mass
DESCRIPTION:
URL:https://stnicholasoftolentinebronx.org/event/930-am-spanish-mass/2025-09-21/
LOCATION:St Nicholas of Tolentine Church\, 2345 University Avenue\, Bronx\, NY\, 10468\, United States
END:VEVENT
BEGIN:VEVENT
DTSTART;TZID=America/New_York:20250921T080000
DTEND;TZID=America/New_York:20250921T090000
DTSTAMP:20260423T201300
CREATED:20250313T023930Z
LAST-MODIFIED:20250418T035212Z
UID:10019429-1758441600-1758445200@stnicholasoftolentinebronx.org
SUMMARY:8:00 am English Mass
DESCRIPTION:
URL:https://stnicholasoftolentinebronx.org/event/800-am-english-mass/2025-09-21/
LOCATION:St Nicholas of Tolentine Church\, 2345 University Avenue\, Bronx\, NY\, 10468\, United States
END:VEVENT
BEGIN:VEVENT
DTSTART;TZID=America/New_York:20250920T190000
DTEND;TZID=America/New_York:20250920T200000
DTSTAMP:20260423T201300
CREATED:20250313T023841Z
LAST-MODIFIED:20250313T023842Z
UID:10019168-1758394800-1758398400@stnicholasoftolentinebronx.org
SUMMARY:7:00 pm Spanish Mass
DESCRIPTION:
URL:https://stnicholasoftolentinebronx.org/event/700-pm-spanish-mass/2025-09-20/
LOCATION:St Nicholas of Tolentine Church\, 2345 University Avenue\, Bronx\, NY\, 10468\, United States
END:VEVENT
BEGIN:VEVENT
DTSTART;TZID=America/New_York:20250920T173000
DTEND;TZID=America/New_York:20250920T183000
DTSTAMP:20260423T201300
CREATED:20250313T023751Z
LAST-MODIFIED:20250313T023752Z
UID:10018907-1758389400-1758393000@stnicholasoftolentinebronx.org
SUMMARY:5:30 pm Confessions
DESCRIPTION:
URL:https://stnicholasoftolentinebronx.org/event/530-pm-confessions/2025-09-20/
LOCATION:St Nicholas of Tolentine Church\, 2345 University Avenue\, Bronx\, NY\, 10468\, United States
END:VEVENT
BEGIN:VEVENT
DTSTART;TZID=America/New_York:20250920T074500
DTEND;TZID=America/New_York:20250920T083000
DTSTAMP:20260423T201300
CREATED:20250313T023643Z
LAST-MODIFIED:20250313T023646Z
UID:10018646-1758354300-1758357000@stnicholasoftolentinebronx.org
SUMMARY:7:45 am Vietnamese Mass
DESCRIPTION:
URL:https://stnicholasoftolentinebronx.org/event/745-am-vietnamese-mass/2025-09-20/
LOCATION:St Nicholas of Tolentine Church\, 2345 University Avenue\, Bronx\, NY\, 10468\, United States
END:VEVENT
BEGIN:VEVENT
DTSTART;TZID=America/New_York:20250919T120000
DTEND;TZID=America/New_York:20250919T123000
DTSTAMP:20260423T201300
CREATED:20250305T040540Z
LAST-MODIFIED:20250305T040545Z
UID:10017173-1758283200-1758285000@stnicholasoftolentinebronx.org
SUMMARY:12:00 Noon English mass
DESCRIPTION:
URL:https://stnicholasoftolentinebronx.org/event/1200-noon-english-mass/2025-09-19/
LOCATION:St Nicholas of Tolentine Church\, 2345 University Avenue\, Bronx\, NY\, 10468\, United States
END:VEVENT
BEGIN:VEVENT
DTSTART;TZID=America/New_York:20250919T083000
DTEND;TZID=America/New_York:20250919T093000
DTSTAMP:20260423T201300
CREATED:20250305T035020Z
LAST-MODIFIED:20250305T035025Z
UID:10015869-1758270600-1758274200@stnicholasoftolentinebronx.org
SUMMARY:8:30 am Spanish Mass
DESCRIPTION:
URL:https://stnicholasoftolentinebronx.org/event/830-am-spanish-mass-3/2025-09-19/
LOCATION:St Nicholas of Tolentine Church\, 2345 University Avenue\, Bronx\, NY\, 10468\, United States
END:VEVENT
BEGIN:VEVENT
DTSTART;TZID=America/New_York:20250918T190000
DTEND;TZID=America/New_York:20250918T210000
DTSTAMP:20260423T201300
CREATED:20250305T041048Z
LAST-MODIFIED:20250306T225714Z
UID:10018365-1758222000-1758229200@stnicholasoftolentinebronx.org
SUMMARY:7:00 pm Círculo
DESCRIPTION:
URL:https://stnicholasoftolentinebronx.org/event/700-circulo/2025-09-18/
LOCATION:NY
END:VEVENT
BEGIN:VEVENT
DTSTART;TZID=America/New_York:20250918T120000
DTEND;TZID=America/New_York:20250918T123000
DTSTAMP:20260423T201300
CREATED:20250305T040540Z
LAST-MODIFIED:20250305T040545Z
UID:10017172-1758196800-1758198600@stnicholasoftolentinebronx.org
SUMMARY:12:00 Noon English mass
DESCRIPTION:
URL:https://stnicholasoftolentinebronx.org/event/1200-noon-english-mass/2025-09-18/
LOCATION:St Nicholas of Tolentine Church\, 2345 University Avenue\, Bronx\, NY\, 10468\, United States
END:VEVENT
BEGIN:VEVENT
DTSTART;TZID=America/New_York:20250918T083000
DTEND;TZID=America/New_York:20250918T093000
DTSTAMP:20260423T201300
CREATED:20250305T035020Z
LAST-MODIFIED:20250305T035025Z
UID:10015868-1758184200-1758187800@stnicholasoftolentinebronx.org
SUMMARY:8:30 am Spanish Mass
DESCRIPTION:
URL:https://stnicholasoftolentinebronx.org/event/830-am-spanish-mass-3/2025-09-18/
LOCATION:St Nicholas of Tolentine Church\, 2345 University Avenue\, Bronx\, NY\, 10468\, United States
END:VEVENT
BEGIN:VEVENT
DTSTART;TZID=America/New_York:20250917T120000
DTEND;TZID=America/New_York:20250917T123000
DTSTAMP:20260423T201300
CREATED:20250305T040540Z
LAST-MODIFIED:20250305T040545Z
UID:10017171-1758110400-1758112200@stnicholasoftolentinebronx.org
SUMMARY:12:00 Noon English mass
DESCRIPTION:
URL:https://stnicholasoftolentinebronx.org/event/1200-noon-english-mass/2025-09-17/
LOCATION:St Nicholas of Tolentine Church\, 2345 University Avenue\, Bronx\, NY\, 10468\, United States
END:VEVENT
BEGIN:VEVENT
DTSTART;TZID=America/New_York:20250917T083000
DTEND;TZID=America/New_York:20250917T093000
DTSTAMP:20260423T201300
CREATED:20250305T035020Z
LAST-MODIFIED:20250305T035025Z
UID:10015867-1758097800-1758101400@stnicholasoftolentinebronx.org
SUMMARY:8:30 am Spanish Mass
DESCRIPTION:
URL:https://stnicholasoftolentinebronx.org/event/830-am-spanish-mass-3/2025-09-17/
LOCATION:St Nicholas of Tolentine Church\, 2345 University Avenue\, Bronx\, NY\, 10468\, United States
END:VEVENT
BEGIN:VEVENT
DTSTART;TZID=America/New_York:20250916T120000
DTEND;TZID=America/New_York:20250916T123000
DTSTAMP:20260423T201300
CREATED:20250305T040540Z
LAST-MODIFIED:20250305T040545Z
UID:10017170-1758024000-1758025800@stnicholasoftolentinebronx.org
SUMMARY:12:00 Noon English mass
DESCRIPTION:
URL:https://stnicholasoftolentinebronx.org/event/1200-noon-english-mass/2025-09-16/
LOCATION:St Nicholas of Tolentine Church\, 2345 University Avenue\, Bronx\, NY\, 10468\, United States
END:VEVENT
BEGIN:VEVENT
DTSTART;TZID=America/New_York:20250916T083000
DTEND;TZID=America/New_York:20250916T093000
DTSTAMP:20260423T201300
CREATED:20250305T035020Z
LAST-MODIFIED:20250305T035025Z
UID:10015866-1758011400-1758015000@stnicholasoftolentinebronx.org
SUMMARY:8:30 am Spanish Mass
DESCRIPTION:
URL:https://stnicholasoftolentinebronx.org/event/830-am-spanish-mass-3/2025-09-16/
LOCATION:St Nicholas of Tolentine Church\, 2345 University Avenue\, Bronx\, NY\, 10468\, United States
END:VEVENT
BEGIN:VEVENT
DTSTART;TZID=America/New_York:20250915T120000
DTEND;TZID=America/New_York:20250915T123000
DTSTAMP:20260423T201300
CREATED:20250305T040540Z
LAST-MODIFIED:20250305T040545Z
UID:10017169-1757937600-1757939400@stnicholasoftolentinebronx.org
SUMMARY:12:00 Noon English mass
DESCRIPTION:
URL:https://stnicholasoftolentinebronx.org/event/1200-noon-english-mass/2025-09-15/
LOCATION:St Nicholas of Tolentine Church\, 2345 University Avenue\, Bronx\, NY\, 10468\, United States
END:VEVENT
BEGIN:VEVENT
DTSTART;TZID=America/New_York:20250915T083000
DTEND;TZID=America/New_York:20250915T093000
DTSTAMP:20260423T201300
CREATED:20250305T035020Z
LAST-MODIFIED:20250305T035025Z
UID:10015865-1757925000-1757928600@stnicholasoftolentinebronx.org
SUMMARY:8:30 am Spanish Mass
DESCRIPTION:
URL:https://stnicholasoftolentinebronx.org/event/830-am-spanish-mass-3/2025-09-15/
LOCATION:St Nicholas of Tolentine Church\, 2345 University Avenue\, Bronx\, NY\, 10468\, United States
END:VEVENT
BEGIN:VEVENT
DTSTART;TZID=America/New_York:20250914T133000
DTEND;TZID=America/New_York:20250914T143000
DTSTAMP:20260423T201300
CREATED:20250313T024158Z
LAST-MODIFIED:20250313T024339Z
UID:10020211-1757856600-1757860200@stnicholasoftolentinebronx.org
SUMMARY:1:30 pm Vietnamese Mass
DESCRIPTION:
URL:https://stnicholasoftolentinebronx.org/event/130-pm-vietnamese-mass/2025-09-14/
LOCATION:St Nicholas of Tolentine Church\, 2345 University Avenue\, Bronx\, NY\, 10468\, United States
END:VEVENT
BEGIN:VEVENT
DTSTART;TZID=America/New_York:20250914T113000
DTEND;TZID=America/New_York:20250914T123000
DTSTAMP:20260423T201300
CREATED:20250313T024110Z
LAST-MODIFIED:20250313T024112Z
UID:10019950-1757849400-1757853000@stnicholasoftolentinebronx.org
SUMMARY:11:30 am English Mass
DESCRIPTION:
URL:https://stnicholasoftolentinebronx.org/event/1130-am-english-mass/2025-09-14/
LOCATION:St Nicholas of Tolentine Church\, 2345 University Avenue\, Bronx\, NY\, 10468\, United States
END:VEVENT
BEGIN:VEVENT
DTSTART;TZID=America/New_York:20250914T093000
DTEND;TZID=America/New_York:20250914T110000
DTSTAMP:20260423T201300
CREATED:20250313T024022Z
LAST-MODIFIED:20250313T024024Z
UID:10019689-1757842200-1757847600@stnicholasoftolentinebronx.org
SUMMARY:9:30 am Spanish Mass
DESCRIPTION:
URL:https://stnicholasoftolentinebronx.org/event/930-am-spanish-mass/2025-09-14/
LOCATION:St Nicholas of Tolentine Church\, 2345 University Avenue\, Bronx\, NY\, 10468\, United States
END:VEVENT
BEGIN:VEVENT
DTSTART;TZID=America/New_York:20250914T080000
DTEND;TZID=America/New_York:20250914T090000
DTSTAMP:20260423T201300
CREATED:20250313T023930Z
LAST-MODIFIED:20250418T035212Z
UID:10019428-1757836800-1757840400@stnicholasoftolentinebronx.org
SUMMARY:8:00 am English Mass
DESCRIPTION:
URL:https://stnicholasoftolentinebronx.org/event/800-am-english-mass/2025-09-14/
LOCATION:St Nicholas of Tolentine Church\, 2345 University Avenue\, Bronx\, NY\, 10468\, United States
END:VEVENT
BEGIN:VEVENT
DTSTART;TZID=America/New_York:20250913T190000
DTEND;TZID=America/New_York:20250913T200000
DTSTAMP:20260423T201300
CREATED:20250313T023841Z
LAST-MODIFIED:20250313T023842Z
UID:10019167-1757790000-1757793600@stnicholasoftolentinebronx.org
SUMMARY:7:00 pm Spanish Mass
DESCRIPTION:
URL:https://stnicholasoftolentinebronx.org/event/700-pm-spanish-mass/2025-09-13/
LOCATION:St Nicholas of Tolentine Church\, 2345 University Avenue\, Bronx\, NY\, 10468\, United States
END:VEVENT
BEGIN:VEVENT
DTSTART;TZID=America/New_York:20250913T173000
DTEND;TZID=America/New_York:20250913T183000
DTSTAMP:20260423T201300
CREATED:20250313T023751Z
LAST-MODIFIED:20250313T023752Z
UID:10018906-1757784600-1757788200@stnicholasoftolentinebronx.org
SUMMARY:5:30 pm Confessions
DESCRIPTION:
URL:https://stnicholasoftolentinebronx.org/event/530-pm-confessions/2025-09-13/
LOCATION:St Nicholas of Tolentine Church\, 2345 University Avenue\, Bronx\, NY\, 10468\, United States
END:VEVENT
BEGIN:VEVENT
DTSTART;TZID=America/New_York:20250913T100000
DTEND;TZID=America/New_York:20250913T170000
DTSTAMP:20260423T201300
CREATED:20250911T152031Z
LAST-MODIFIED:20250911T152034Z
UID:10020783-1757757600-1757782800@stnicholasoftolentinebronx.org
SUMMARY:10:00 am to 5pm Free Haircuts
DESCRIPTION:
URL:https://stnicholasoftolentinebronx.org/event/1000-am-to-5pm-free-haircuts/
LOCATION:Father Smith Center\, 2345 University Avenue\, Bronx\, New York\, 10468\, United States
END:VEVENT
BEGIN:VEVENT
DTSTART;TZID=America/New_York:20250913T074500
DTEND;TZID=America/New_York:20250913T083000
DTSTAMP:20260423T201300
CREATED:20250313T023643Z
LAST-MODIFIED:20250313T023646Z
UID:10018645-1757749500-1757752200@stnicholasoftolentinebronx.org
SUMMARY:7:45 am Vietnamese Mass
DESCRIPTION:
URL:https://stnicholasoftolentinebronx.org/event/745-am-vietnamese-mass/2025-09-13/
LOCATION:St Nicholas of Tolentine Church\, 2345 University Avenue\, Bronx\, NY\, 10468\, United States
END:VEVENT
BEGIN:VEVENT
DTSTART;TZID=America/New_York:20250912T120000
DTEND;TZID=America/New_York:20250912T123000
DTSTAMP:20260423T201300
CREATED:20250305T040540Z
LAST-MODIFIED:20250305T040545Z
UID:10017168-1757678400-1757680200@stnicholasoftolentinebronx.org
SUMMARY:12:00 Noon English mass
DESCRIPTION:
URL:https://stnicholasoftolentinebronx.org/event/1200-noon-english-mass/2025-09-12/
LOCATION:St Nicholas of Tolentine Church\, 2345 University Avenue\, Bronx\, NY\, 10468\, United States
END:VEVENT
BEGIN:VEVENT
DTSTART;TZID=America/New_York:20250912T083000
DTEND;TZID=America/New_York:20250912T093000
DTSTAMP:20260423T201300
CREATED:20250305T035020Z
LAST-MODIFIED:20250305T035025Z
UID:10015864-1757665800-1757669400@stnicholasoftolentinebronx.org
SUMMARY:8:30 am Spanish Mass
DESCRIPTION:
URL:https://stnicholasoftolentinebronx.org/event/830-am-spanish-mass-3/2025-09-12/
LOCATION:St Nicholas of Tolentine Church\, 2345 University Avenue\, Bronx\, NY\, 10468\, United States
END:VEVENT
END:VCALENDAR