BEGIN:VCALENDAR
VERSION:2.0
PRODID:-//St. Nicholas of Tolentine Church - ECPv6.15.20//NONSGML v1.0//EN
CALSCALE:GREGORIAN
METHOD:PUBLISH
X-WR-CALNAME:St. Nicholas of Tolentine Church
X-ORIGINAL-URL:https://stnicholasoftolentinebronx.org
X-WR-CALDESC:Events for St. Nicholas of Tolentine Church
REFRESH-INTERVAL;VALUE=DURATION:PT1H
X-Robots-Tag:noindex
X-PUBLISHED-TTL:PT1H
BEGIN:VTIMEZONE
TZID:America/New_York
BEGIN:DAYLIGHT
TZOFFSETFROM:-0500
TZOFFSETTO:-0400
TZNAME:EDT
DTSTART:20240310T070000
END:DAYLIGHT
BEGIN:STANDARD
TZOFFSETFROM:-0400
TZOFFSETTO:-0500
TZNAME:EST
DTSTART:20241103T060000
END:STANDARD
BEGIN:DAYLIGHT
TZOFFSETFROM:-0500
TZOFFSETTO:-0400
TZNAME:EDT
DTSTART:20250309T070000
END:DAYLIGHT
BEGIN:STANDARD
TZOFFSETFROM:-0400
TZOFFSETTO:-0500
TZNAME:EST
DTSTART:20251102T060000
END:STANDARD
BEGIN:DAYLIGHT
TZOFFSETFROM:-0500
TZOFFSETTO:-0400
TZNAME:EDT
DTSTART:20260308T070000
END:DAYLIGHT
BEGIN:STANDARD
TZOFFSETFROM:-0400
TZOFFSETTO:-0500
TZNAME:EST
DTSTART:20261101T060000
END:STANDARD
END:VTIMEZONE
BEGIN:VEVENT
DTSTART;TZID=America/New_York:20250828T190000
DTEND;TZID=America/New_York:20250828T200000
DTSTAMP:20260423T170655
CREATED:20250819T115045Z
LAST-MODIFIED:20250819T115050Z
UID:10020664-1756407600-1756411200@stnicholasoftolentinebronx.org
SUMMARY:7:00 pm Fiesta de San Agustin
DESCRIPTION:
URL:https://stnicholasoftolentinebronx.org/event/700-pm-fiesta-de-san-agustin/
LOCATION:St Nicholas of Tolentine Church\, 2345 University Avenue\, Bronx\, NY\, 10468\, United States
END:VEVENT
BEGIN:VEVENT
DTSTART;TZID=America/New_York:20250828T120000
DTEND;TZID=America/New_York:20250828T123000
DTSTAMP:20260423T170655
CREATED:20250305T040540Z
LAST-MODIFIED:20250305T040545Z
UID:10017157-1756382400-1756384200@stnicholasoftolentinebronx.org
SUMMARY:12:00 Noon English mass
DESCRIPTION:
URL:https://stnicholasoftolentinebronx.org/event/1200-noon-english-mass/2025-08-28/
LOCATION:St Nicholas of Tolentine Church\, 2345 University Avenue\, Bronx\, NY\, 10468\, United States
END:VEVENT
BEGIN:VEVENT
DTSTART;TZID=America/New_York:20250828T083000
DTEND;TZID=America/New_York:20250828T093000
DTSTAMP:20260423T170655
CREATED:20250305T035020Z
LAST-MODIFIED:20250305T035025Z
UID:10015853-1756369800-1756373400@stnicholasoftolentinebronx.org
SUMMARY:8:30 am Spanish Mass
DESCRIPTION:
URL:https://stnicholasoftolentinebronx.org/event/830-am-spanish-mass-3/2025-08-28/
LOCATION:St Nicholas of Tolentine Church\, 2345 University Avenue\, Bronx\, NY\, 10468\, United States
END:VEVENT
BEGIN:VEVENT
DTSTART;TZID=America/New_York:20250827T190000
DTEND;TZID=America/New_York:20250827T200000
DTSTAMP:20260423T170655
CREATED:20250819T114945Z
LAST-MODIFIED:20250819T114948Z
UID:10020663-1756321200-1756324800@stnicholasoftolentinebronx.org
SUMMARY:7:00 pm Transitus de San Agustin
DESCRIPTION:
URL:https://stnicholasoftolentinebronx.org/event/700-pm-transitus-de-san-agustin/
LOCATION:St Nicholas of Tolentine Church\, 2345 University Avenue\, Bronx\, NY\, 10468\, United States
END:VEVENT
BEGIN:VEVENT
DTSTART;TZID=America/New_York:20250827T120000
DTEND;TZID=America/New_York:20250827T123000
DTSTAMP:20260423T170655
CREATED:20250305T040540Z
LAST-MODIFIED:20250305T040545Z
UID:10017156-1756296000-1756297800@stnicholasoftolentinebronx.org
SUMMARY:12:00 Noon English mass
DESCRIPTION:
URL:https://stnicholasoftolentinebronx.org/event/1200-noon-english-mass/2025-08-27/
LOCATION:St Nicholas of Tolentine Church\, 2345 University Avenue\, Bronx\, NY\, 10468\, United States
END:VEVENT
BEGIN:VEVENT
DTSTART;TZID=America/New_York:20250827T083000
DTEND;TZID=America/New_York:20250827T093000
DTSTAMP:20260423T170655
CREATED:20250305T035020Z
LAST-MODIFIED:20250305T035025Z
UID:10015852-1756283400-1756287000@stnicholasoftolentinebronx.org
SUMMARY:8:30 am Spanish Mass
DESCRIPTION:
URL:https://stnicholasoftolentinebronx.org/event/830-am-spanish-mass-3/2025-08-27/
LOCATION:St Nicholas of Tolentine Church\, 2345 University Avenue\, Bronx\, NY\, 10468\, United States
END:VEVENT
BEGIN:VEVENT
DTSTART;TZID=America/New_York:20250826T190000
DTEND;TZID=America/New_York:20250826T200000
DTSTAMP:20260423T170655
CREATED:20250819T114842Z
LAST-MODIFIED:20250819T115131Z
UID:10020662-1756234800-1756238400@stnicholasoftolentinebronx.org
SUMMARY:7:00 pm San Agustin Un Modelo de Vida
DESCRIPTION:
URL:https://stnicholasoftolentinebronx.org/event/700-pm-san-agustin-un-modelo-de-vida/
LOCATION:St Nicholas of Tolentine Church\, 2345 University Avenue\, Bronx\, NY\, 10468\, United States
END:VEVENT
BEGIN:VEVENT
DTSTART;TZID=America/New_York:20250826T120000
DTEND;TZID=America/New_York:20250826T123000
DTSTAMP:20260423T170655
CREATED:20250305T040540Z
LAST-MODIFIED:20250305T040545Z
UID:10017155-1756209600-1756211400@stnicholasoftolentinebronx.org
SUMMARY:12:00 Noon English mass
DESCRIPTION:
URL:https://stnicholasoftolentinebronx.org/event/1200-noon-english-mass/2025-08-26/
LOCATION:St Nicholas of Tolentine Church\, 2345 University Avenue\, Bronx\, NY\, 10468\, United States
END:VEVENT
BEGIN:VEVENT
DTSTART;TZID=America/New_York:20250826T083000
DTEND;TZID=America/New_York:20250826T093000
DTSTAMP:20260423T170655
CREATED:20250305T035020Z
LAST-MODIFIED:20250305T035025Z
UID:10015851-1756197000-1756200600@stnicholasoftolentinebronx.org
SUMMARY:8:30 am Spanish Mass
DESCRIPTION:
URL:https://stnicholasoftolentinebronx.org/event/830-am-spanish-mass-3/2025-08-26/
LOCATION:St Nicholas of Tolentine Church\, 2345 University Avenue\, Bronx\, NY\, 10468\, United States
END:VEVENT
BEGIN:VEVENT
DTSTART;TZID=America/New_York:20250825T190000
DTEND;TZID=America/New_York:20250825T200000
DTSTAMP:20260423T170655
CREATED:20250819T114719Z
LAST-MODIFIED:20250819T114721Z
UID:10020661-1756148400-1756152000@stnicholasoftolentinebronx.org
SUMMARY:7:00 pm San Monica y San Rita Intecession
DESCRIPTION:
URL:https://stnicholasoftolentinebronx.org/event/700-pm-san-monica-y-san-rita-intecession/
LOCATION:St Nicholas of Tolentine Church\, 2345 University Avenue\, Bronx\, NY\, 10468\, United States
END:VEVENT
BEGIN:VEVENT
DTSTART;TZID=America/New_York:20250825T120000
DTEND;TZID=America/New_York:20250825T123000
DTSTAMP:20260423T170655
CREATED:20250305T040540Z
LAST-MODIFIED:20250305T040545Z
UID:10017154-1756123200-1756125000@stnicholasoftolentinebronx.org
SUMMARY:12:00 Noon English mass
DESCRIPTION:
URL:https://stnicholasoftolentinebronx.org/event/1200-noon-english-mass/2025-08-25/
LOCATION:St Nicholas of Tolentine Church\, 2345 University Avenue\, Bronx\, NY\, 10468\, United States
END:VEVENT
BEGIN:VEVENT
DTSTART;TZID=America/New_York:20250825T083000
DTEND;TZID=America/New_York:20250825T093000
DTSTAMP:20260423T170655
CREATED:20250305T035020Z
LAST-MODIFIED:20250305T035025Z
UID:10015850-1756110600-1756114200@stnicholasoftolentinebronx.org
SUMMARY:8:30 am Spanish Mass
DESCRIPTION:
URL:https://stnicholasoftolentinebronx.org/event/830-am-spanish-mass-3/2025-08-25/
LOCATION:St Nicholas of Tolentine Church\, 2345 University Avenue\, Bronx\, NY\, 10468\, United States
END:VEVENT
BEGIN:VEVENT
DTSTART;TZID=America/New_York:20250824T133000
DTEND;TZID=America/New_York:20250824T143000
DTSTAMP:20260423T170655
CREATED:20250313T024158Z
LAST-MODIFIED:20250313T024339Z
UID:10020208-1756042200-1756045800@stnicholasoftolentinebronx.org
SUMMARY:1:30 pm Vietnamese Mass
DESCRIPTION:
URL:https://stnicholasoftolentinebronx.org/event/130-pm-vietnamese-mass/2025-08-24/
LOCATION:St Nicholas of Tolentine Church\, 2345 University Avenue\, Bronx\, NY\, 10468\, United States
END:VEVENT
BEGIN:VEVENT
DTSTART;TZID=America/New_York:20250824T113000
DTEND;TZID=America/New_York:20250824T123000
DTSTAMP:20260423T170655
CREATED:20250313T024110Z
LAST-MODIFIED:20250313T024112Z
UID:10019947-1756035000-1756038600@stnicholasoftolentinebronx.org
SUMMARY:11:30 am English Mass
DESCRIPTION:
URL:https://stnicholasoftolentinebronx.org/event/1130-am-english-mass/2025-08-24/
LOCATION:St Nicholas of Tolentine Church\, 2345 University Avenue\, Bronx\, NY\, 10468\, United States
END:VEVENT
BEGIN:VEVENT
DTSTART;TZID=America/New_York:20250824T093000
DTEND;TZID=America/New_York:20250824T110000
DTSTAMP:20260423T170655
CREATED:20250313T024022Z
LAST-MODIFIED:20250313T024024Z
UID:10019686-1756027800-1756033200@stnicholasoftolentinebronx.org
SUMMARY:9:30 am Spanish Mass
DESCRIPTION:
URL:https://stnicholasoftolentinebronx.org/event/930-am-spanish-mass/2025-08-24/
LOCATION:St Nicholas of Tolentine Church\, 2345 University Avenue\, Bronx\, NY\, 10468\, United States
END:VEVENT
BEGIN:VEVENT
DTSTART;TZID=America/New_York:20250824T080000
DTEND;TZID=America/New_York:20250824T090000
DTSTAMP:20260423T170655
CREATED:20250313T023930Z
LAST-MODIFIED:20250418T035212Z
UID:10019425-1756022400-1756026000@stnicholasoftolentinebronx.org
SUMMARY:8:00 am English Mass
DESCRIPTION:
URL:https://stnicholasoftolentinebronx.org/event/800-am-english-mass/2025-08-24/
LOCATION:St Nicholas of Tolentine Church\, 2345 University Avenue\, Bronx\, NY\, 10468\, United States
END:VEVENT
BEGIN:VEVENT
DTSTART;TZID=America/New_York:20250823T190000
DTEND;TZID=America/New_York:20250823T200000
DTSTAMP:20260423T170655
CREATED:20250313T023841Z
LAST-MODIFIED:20250313T023842Z
UID:10019164-1755975600-1755979200@stnicholasoftolentinebronx.org
SUMMARY:7:00 pm Spanish Mass
DESCRIPTION:
URL:https://stnicholasoftolentinebronx.org/event/700-pm-spanish-mass/2025-08-23/
LOCATION:St Nicholas of Tolentine Church\, 2345 University Avenue\, Bronx\, NY\, 10468\, United States
END:VEVENT
BEGIN:VEVENT
DTSTART;TZID=America/New_York:20250823T173000
DTEND;TZID=America/New_York:20250823T183000
DTSTAMP:20260423T170655
CREATED:20250313T023751Z
LAST-MODIFIED:20250313T023752Z
UID:10018903-1755970200-1755973800@stnicholasoftolentinebronx.org
SUMMARY:5:30 pm Confessions
DESCRIPTION:
URL:https://stnicholasoftolentinebronx.org/event/530-pm-confessions/2025-08-23/
LOCATION:St Nicholas of Tolentine Church\, 2345 University Avenue\, Bronx\, NY\, 10468\, United States
END:VEVENT
BEGIN:VEVENT
DTSTART;TZID=America/New_York:20250823T074500
DTEND;TZID=America/New_York:20250823T083000
DTSTAMP:20260423T170655
CREATED:20250313T023643Z
LAST-MODIFIED:20250313T023646Z
UID:10018642-1755935100-1755937800@stnicholasoftolentinebronx.org
SUMMARY:7:45 am Vietnamese Mass
DESCRIPTION:
URL:https://stnicholasoftolentinebronx.org/event/745-am-vietnamese-mass/2025-08-23/
LOCATION:St Nicholas of Tolentine Church\, 2345 University Avenue\, Bronx\, NY\, 10468\, United States
END:VEVENT
BEGIN:VEVENT
DTSTART;TZID=America/New_York:20250822T120000
DTEND;TZID=America/New_York:20250822T123000
DTSTAMP:20260423T170655
CREATED:20250305T040540Z
LAST-MODIFIED:20250305T040545Z
UID:10017153-1755864000-1755865800@stnicholasoftolentinebronx.org
SUMMARY:12:00 Noon English mass
DESCRIPTION:
URL:https://stnicholasoftolentinebronx.org/event/1200-noon-english-mass/2025-08-22/
LOCATION:St Nicholas of Tolentine Church\, 2345 University Avenue\, Bronx\, NY\, 10468\, United States
END:VEVENT
BEGIN:VEVENT
DTSTART;TZID=America/New_York:20250822T083000
DTEND;TZID=America/New_York:20250822T093000
DTSTAMP:20260423T170655
CREATED:20250305T035020Z
LAST-MODIFIED:20250305T035025Z
UID:10015849-1755851400-1755855000@stnicholasoftolentinebronx.org
SUMMARY:8:30 am Spanish Mass
DESCRIPTION:
URL:https://stnicholasoftolentinebronx.org/event/830-am-spanish-mass-3/2025-08-22/
LOCATION:St Nicholas of Tolentine Church\, 2345 University Avenue\, Bronx\, NY\, 10468\, United States
END:VEVENT
BEGIN:VEVENT
DTSTART;TZID=America/New_York:20250821T190000
DTEND;TZID=America/New_York:20250821T210000
DTSTAMP:20260423T170655
CREATED:20250305T041048Z
LAST-MODIFIED:20250306T225714Z
UID:10018361-1755802800-1755810000@stnicholasoftolentinebronx.org
SUMMARY:7:00 pm Círculo
DESCRIPTION:
URL:https://stnicholasoftolentinebronx.org/event/700-circulo/2025-08-21/
LOCATION:NY
END:VEVENT
BEGIN:VEVENT
DTSTART;TZID=America/New_York:20250821T120000
DTEND;TZID=America/New_York:20250821T123000
DTSTAMP:20260423T170655
CREATED:20250305T040540Z
LAST-MODIFIED:20250305T040545Z
UID:10017152-1755777600-1755779400@stnicholasoftolentinebronx.org
SUMMARY:12:00 Noon English mass
DESCRIPTION:
URL:https://stnicholasoftolentinebronx.org/event/1200-noon-english-mass/2025-08-21/
LOCATION:St Nicholas of Tolentine Church\, 2345 University Avenue\, Bronx\, NY\, 10468\, United States
END:VEVENT
BEGIN:VEVENT
DTSTART;TZID=America/New_York:20250821T083000
DTEND;TZID=America/New_York:20250821T093000
DTSTAMP:20260423T170655
CREATED:20250305T035020Z
LAST-MODIFIED:20250305T035025Z
UID:10015848-1755765000-1755768600@stnicholasoftolentinebronx.org
SUMMARY:8:30 am Spanish Mass
DESCRIPTION:
URL:https://stnicholasoftolentinebronx.org/event/830-am-spanish-mass-3/2025-08-21/
LOCATION:St Nicholas of Tolentine Church\, 2345 University Avenue\, Bronx\, NY\, 10468\, United States
END:VEVENT
BEGIN:VEVENT
DTSTART;TZID=America/New_York:20250820T120000
DTEND;TZID=America/New_York:20250820T123000
DTSTAMP:20260423T170655
CREATED:20250305T040540Z
LAST-MODIFIED:20250305T040545Z
UID:10017151-1755691200-1755693000@stnicholasoftolentinebronx.org
SUMMARY:12:00 Noon English mass
DESCRIPTION:
URL:https://stnicholasoftolentinebronx.org/event/1200-noon-english-mass/2025-08-20/
LOCATION:St Nicholas of Tolentine Church\, 2345 University Avenue\, Bronx\, NY\, 10468\, United States
END:VEVENT
BEGIN:VEVENT
DTSTART;TZID=America/New_York:20250820T083000
DTEND;TZID=America/New_York:20250820T093000
DTSTAMP:20260423T170655
CREATED:20250305T035020Z
LAST-MODIFIED:20250305T035025Z
UID:10015847-1755678600-1755682200@stnicholasoftolentinebronx.org
SUMMARY:8:30 am Spanish Mass
DESCRIPTION:
URL:https://stnicholasoftolentinebronx.org/event/830-am-spanish-mass-3/2025-08-20/
LOCATION:St Nicholas of Tolentine Church\, 2345 University Avenue\, Bronx\, NY\, 10468\, United States
END:VEVENT
BEGIN:VEVENT
DTSTART;TZID=America/New_York:20250819T120000
DTEND;TZID=America/New_York:20250819T123000
DTSTAMP:20260423T170655
CREATED:20250305T040540Z
LAST-MODIFIED:20250305T040545Z
UID:10017150-1755604800-1755606600@stnicholasoftolentinebronx.org
SUMMARY:12:00 Noon English mass
DESCRIPTION:
URL:https://stnicholasoftolentinebronx.org/event/1200-noon-english-mass/2025-08-19/
LOCATION:St Nicholas of Tolentine Church\, 2345 University Avenue\, Bronx\, NY\, 10468\, United States
END:VEVENT
BEGIN:VEVENT
DTSTART;TZID=America/New_York:20250819T083000
DTEND;TZID=America/New_York:20250819T093000
DTSTAMP:20260423T170655
CREATED:20250305T035020Z
LAST-MODIFIED:20250305T035025Z
UID:10015846-1755592200-1755595800@stnicholasoftolentinebronx.org
SUMMARY:8:30 am Spanish Mass
DESCRIPTION:
URL:https://stnicholasoftolentinebronx.org/event/830-am-spanish-mass-3/2025-08-19/
LOCATION:St Nicholas of Tolentine Church\, 2345 University Avenue\, Bronx\, NY\, 10468\, United States
END:VEVENT
BEGIN:VEVENT
DTSTART;TZID=America/New_York:20250818T120000
DTEND;TZID=America/New_York:20250818T123000
DTSTAMP:20260423T170655
CREATED:20250305T040540Z
LAST-MODIFIED:20250305T040545Z
UID:10017149-1755518400-1755520200@stnicholasoftolentinebronx.org
SUMMARY:12:00 Noon English mass
DESCRIPTION:
URL:https://stnicholasoftolentinebronx.org/event/1200-noon-english-mass/2025-08-18/
LOCATION:St Nicholas of Tolentine Church\, 2345 University Avenue\, Bronx\, NY\, 10468\, United States
END:VEVENT
BEGIN:VEVENT
DTSTART;TZID=America/New_York:20250818T083000
DTEND;TZID=America/New_York:20250818T093000
DTSTAMP:20260423T170655
CREATED:20250305T035020Z
LAST-MODIFIED:20250305T035025Z
UID:10015845-1755505800-1755509400@stnicholasoftolentinebronx.org
SUMMARY:8:30 am Spanish Mass
DESCRIPTION:
URL:https://stnicholasoftolentinebronx.org/event/830-am-spanish-mass-3/2025-08-18/
LOCATION:St Nicholas of Tolentine Church\, 2345 University Avenue\, Bronx\, NY\, 10468\, United States
END:VEVENT
END:VCALENDAR