BEGIN:VCALENDAR
VERSION:2.0
PRODID:-//St. Nicholas of Tolentine Church - ECPv6.15.20//NONSGML v1.0//EN
CALSCALE:GREGORIAN
METHOD:PUBLISH
X-ORIGINAL-URL:https://stnicholasoftolentinebronx.org
X-WR-CALDESC:Events for St. Nicholas of Tolentine Church
REFRESH-INTERVAL;VALUE=DURATION:PT1H
X-Robots-Tag:noindex
X-PUBLISHED-TTL:PT1H
BEGIN:VTIMEZONE
TZID:America/New_York
BEGIN:DAYLIGHT
TZOFFSETFROM:-0500
TZOFFSETTO:-0400
TZNAME:EDT
DTSTART:20260308T070000
END:DAYLIGHT
BEGIN:STANDARD
TZOFFSETFROM:-0400
TZOFFSETTO:-0500
TZNAME:EST
DTSTART:20261101T060000
END:STANDARD
BEGIN:DAYLIGHT
TZOFFSETFROM:-0500
TZOFFSETTO:-0400
TZNAME:EDT
DTSTART:20270314T070000
END:DAYLIGHT
BEGIN:STANDARD
TZOFFSETFROM:-0400
TZOFFSETTO:-0500
TZNAME:EST
DTSTART:20271107T060000
END:STANDARD
BEGIN:DAYLIGHT
TZOFFSETFROM:-0500
TZOFFSETTO:-0400
TZNAME:EDT
DTSTART:20280312T070000
END:DAYLIGHT
BEGIN:STANDARD
TZOFFSETFROM:-0400
TZOFFSETTO:-0500
TZNAME:EST
DTSTART:20281105T060000
END:STANDARD
END:VTIMEZONE
BEGIN:VEVENT
DTSTART;TZID=America/New_York:20270829T080000
DTEND;TZID=America/New_York:20270829T090000
DTSTAMP:20260425T100719
CREATED:20250313T023930Z
LAST-MODIFIED:20250418T035212Z
UID:10019530-1819526400-1819530000@stnicholasoftolentinebronx.org
SUMMARY:8:00 am English Mass
DESCRIPTION:
URL:https://stnicholasoftolentinebronx.org/event/800-am-english-mass/2027-08-29/
LOCATION:St Nicholas of Tolentine Church\, 2345 University Avenue\, Bronx\, NY\, 10468\, United States
END:VEVENT
BEGIN:VEVENT
DTSTART;TZID=America/New_York:20270829T093000
DTEND;TZID=America/New_York:20270829T110000
DTSTAMP:20260425T100719
CREATED:20250313T024022Z
LAST-MODIFIED:20250313T024024Z
UID:10019791-1819531800-1819537200@stnicholasoftolentinebronx.org
SUMMARY:9:30 am Spanish Mass
DESCRIPTION:
URL:https://stnicholasoftolentinebronx.org/event/930-am-spanish-mass/2027-08-29/
LOCATION:St Nicholas of Tolentine Church\, 2345 University Avenue\, Bronx\, NY\, 10468\, United States
END:VEVENT
BEGIN:VEVENT
DTSTART;TZID=America/New_York:20270829T113000
DTEND;TZID=America/New_York:20270829T123000
DTSTAMP:20260425T100719
CREATED:20250313T024110Z
LAST-MODIFIED:20250313T024112Z
UID:10020052-1819539000-1819542600@stnicholasoftolentinebronx.org
SUMMARY:11:30 am English Mass
DESCRIPTION:
URL:https://stnicholasoftolentinebronx.org/event/1130-am-english-mass/2027-08-29/
LOCATION:St Nicholas of Tolentine Church\, 2345 University Avenue\, Bronx\, NY\, 10468\, United States
END:VEVENT
BEGIN:VEVENT
DTSTART;TZID=America/New_York:20270829T133000
DTEND;TZID=America/New_York:20270829T143000
DTSTAMP:20260425T100719
CREATED:20250313T024158Z
LAST-MODIFIED:20250313T024339Z
UID:10020313-1819546200-1819549800@stnicholasoftolentinebronx.org
SUMMARY:1:30 pm Vietnamese Mass
DESCRIPTION:
URL:https://stnicholasoftolentinebronx.org/event/130-pm-vietnamese-mass/2027-08-29/
LOCATION:St Nicholas of Tolentine Church\, 2345 University Avenue\, Bronx\, NY\, 10468\, United States
END:VEVENT
BEGIN:VEVENT
DTSTART;TZID=America/New_York:20270830T083000
DTEND;TZID=America/New_York:20270830T093000
DTSTAMP:20260425T100719
CREATED:20250305T035020Z
LAST-MODIFIED:20250305T035025Z
UID:10016375-1819614600-1819618200@stnicholasoftolentinebronx.org
SUMMARY:8:30 am Spanish Mass
DESCRIPTION:
URL:https://stnicholasoftolentinebronx.org/event/830-am-spanish-mass-3/2027-08-30/
LOCATION:St Nicholas of Tolentine Church\, 2345 University Avenue\, Bronx\, NY\, 10468\, United States
END:VEVENT
BEGIN:VEVENT
DTSTART;TZID=America/New_York:20270830T120000
DTEND;TZID=America/New_York:20270830T123000
DTSTAMP:20260425T100719
CREATED:20250305T040540Z
LAST-MODIFIED:20250305T040545Z
UID:10017679-1819627200-1819629000@stnicholasoftolentinebronx.org
SUMMARY:12:00 Noon English mass
DESCRIPTION:
URL:https://stnicholasoftolentinebronx.org/event/1200-noon-english-mass/2027-08-30/
LOCATION:St Nicholas of Tolentine Church\, 2345 University Avenue\, Bronx\, NY\, 10468\, United States
END:VEVENT
BEGIN:VEVENT
DTSTART;TZID=America/New_York:20270831T083000
DTEND;TZID=America/New_York:20270831T093000
DTSTAMP:20260425T100719
CREATED:20250305T035020Z
LAST-MODIFIED:20250305T035025Z
UID:10016376-1819701000-1819704600@stnicholasoftolentinebronx.org
SUMMARY:8:30 am Spanish Mass
DESCRIPTION:
URL:https://stnicholasoftolentinebronx.org/event/830-am-spanish-mass-3/2027-08-31/
LOCATION:St Nicholas of Tolentine Church\, 2345 University Avenue\, Bronx\, NY\, 10468\, United States
END:VEVENT
BEGIN:VEVENT
DTSTART;TZID=America/New_York:20270831T120000
DTEND;TZID=America/New_York:20270831T123000
DTSTAMP:20260425T100719
CREATED:20250305T040540Z
LAST-MODIFIED:20250305T040545Z
UID:10017680-1819713600-1819715400@stnicholasoftolentinebronx.org
SUMMARY:12:00 Noon English mass
DESCRIPTION:
URL:https://stnicholasoftolentinebronx.org/event/1200-noon-english-mass/2027-08-31/
LOCATION:St Nicholas of Tolentine Church\, 2345 University Avenue\, Bronx\, NY\, 10468\, United States
END:VEVENT
BEGIN:VEVENT
DTSTART;TZID=America/New_York:20270901T083000
DTEND;TZID=America/New_York:20270901T093000
DTSTAMP:20260425T100719
CREATED:20250305T035020Z
LAST-MODIFIED:20250305T035025Z
UID:10016377-1819787400-1819791000@stnicholasoftolentinebronx.org
SUMMARY:8:30 am Spanish Mass
DESCRIPTION:
URL:https://stnicholasoftolentinebronx.org/event/830-am-spanish-mass-3/2027-09-01/
LOCATION:St Nicholas of Tolentine Church\, 2345 University Avenue\, Bronx\, NY\, 10468\, United States
END:VEVENT
BEGIN:VEVENT
DTSTART;TZID=America/New_York:20270901T120000
DTEND;TZID=America/New_York:20270901T123000
DTSTAMP:20260425T100719
CREATED:20250305T040540Z
LAST-MODIFIED:20250305T040545Z
UID:10017681-1819800000-1819801800@stnicholasoftolentinebronx.org
SUMMARY:12:00 Noon English mass
DESCRIPTION:
URL:https://stnicholasoftolentinebronx.org/event/1200-noon-english-mass/2027-09-01/
LOCATION:St Nicholas of Tolentine Church\, 2345 University Avenue\, Bronx\, NY\, 10468\, United States
END:VEVENT
BEGIN:VEVENT
DTSTART;TZID=America/New_York:20270902T083000
DTEND;TZID=America/New_York:20270902T093000
DTSTAMP:20260425T100719
CREATED:20250305T035020Z
LAST-MODIFIED:20250305T035025Z
UID:10016378-1819873800-1819877400@stnicholasoftolentinebronx.org
SUMMARY:8:30 am Spanish Mass
DESCRIPTION:
URL:https://stnicholasoftolentinebronx.org/event/830-am-spanish-mass-3/2027-09-02/
LOCATION:St Nicholas of Tolentine Church\, 2345 University Avenue\, Bronx\, NY\, 10468\, United States
END:VEVENT
BEGIN:VEVENT
DTSTART;TZID=America/New_York:20270902T120000
DTEND;TZID=America/New_York:20270902T123000
DTSTAMP:20260425T100719
CREATED:20250305T040540Z
LAST-MODIFIED:20250305T040545Z
UID:10017682-1819886400-1819888200@stnicholasoftolentinebronx.org
SUMMARY:12:00 Noon English mass
DESCRIPTION:
URL:https://stnicholasoftolentinebronx.org/event/1200-noon-english-mass/2027-09-02/
LOCATION:St Nicholas of Tolentine Church\, 2345 University Avenue\, Bronx\, NY\, 10468\, United States
END:VEVENT
BEGIN:VEVENT
DTSTART;TZID=America/New_York:20270902T190000
DTEND;TZID=America/New_York:20270902T210000
DTSTAMP:20260425T100719
CREATED:20250305T041048Z
LAST-MODIFIED:20250306T225714Z
UID:10018467-1819911600-1819918800@stnicholasoftolentinebronx.org
SUMMARY:7:00 pm Círculo
DESCRIPTION:
URL:https://stnicholasoftolentinebronx.org/event/700-circulo/2027-09-02/
LOCATION:NY
END:VEVENT
BEGIN:VEVENT
DTSTART;TZID=America/New_York:20270903T083000
DTEND;TZID=America/New_York:20270903T093000
DTSTAMP:20260425T100719
CREATED:20250305T035020Z
LAST-MODIFIED:20250305T035025Z
UID:10016379-1819960200-1819963800@stnicholasoftolentinebronx.org
SUMMARY:8:30 am Spanish Mass
DESCRIPTION:
URL:https://stnicholasoftolentinebronx.org/event/830-am-spanish-mass-3/2027-09-03/
LOCATION:St Nicholas of Tolentine Church\, 2345 University Avenue\, Bronx\, NY\, 10468\, United States
END:VEVENT
BEGIN:VEVENT
DTSTART;TZID=America/New_York:20270903T120000
DTEND;TZID=America/New_York:20270903T123000
DTSTAMP:20260425T100719
CREATED:20250305T040540Z
LAST-MODIFIED:20250305T040545Z
UID:10017683-1819972800-1819974600@stnicholasoftolentinebronx.org
SUMMARY:12:00 Noon English mass
DESCRIPTION:
URL:https://stnicholasoftolentinebronx.org/event/1200-noon-english-mass/2027-09-03/
LOCATION:St Nicholas of Tolentine Church\, 2345 University Avenue\, Bronx\, NY\, 10468\, United States
END:VEVENT
BEGIN:VEVENT
DTSTART;TZID=America/New_York:20270904T074500
DTEND;TZID=America/New_York:20270904T083000
DTSTAMP:20260425T100719
CREATED:20250313T023643Z
LAST-MODIFIED:20250313T023646Z
UID:10018748-1820043900-1820046600@stnicholasoftolentinebronx.org
SUMMARY:7:45 am Vietnamese Mass
DESCRIPTION:
URL:https://stnicholasoftolentinebronx.org/event/745-am-vietnamese-mass/2027-09-04/
LOCATION:St Nicholas of Tolentine Church\, 2345 University Avenue\, Bronx\, NY\, 10468\, United States
END:VEVENT
BEGIN:VEVENT
DTSTART;TZID=America/New_York:20270904T173000
DTEND;TZID=America/New_York:20270904T183000
DTSTAMP:20260425T100719
CREATED:20250313T023751Z
LAST-MODIFIED:20250313T023752Z
UID:10019009-1820079000-1820082600@stnicholasoftolentinebronx.org
SUMMARY:5:30 pm Confessions
DESCRIPTION:
URL:https://stnicholasoftolentinebronx.org/event/530-pm-confessions/2027-09-04/
LOCATION:St Nicholas of Tolentine Church\, 2345 University Avenue\, Bronx\, NY\, 10468\, United States
END:VEVENT
BEGIN:VEVENT
DTSTART;TZID=America/New_York:20270904T190000
DTEND;TZID=America/New_York:20270904T200000
DTSTAMP:20260425T100719
CREATED:20250313T023841Z
LAST-MODIFIED:20250313T023842Z
UID:10019270-1820084400-1820088000@stnicholasoftolentinebronx.org
SUMMARY:7:00 pm Spanish Mass
DESCRIPTION:
URL:https://stnicholasoftolentinebronx.org/event/700-pm-spanish-mass/2027-09-04/
LOCATION:St Nicholas of Tolentine Church\, 2345 University Avenue\, Bronx\, NY\, 10468\, United States
END:VEVENT
BEGIN:VEVENT
DTSTART;TZID=America/New_York:20270905T080000
DTEND;TZID=America/New_York:20270905T090000
DTSTAMP:20260425T100719
CREATED:20250313T023930Z
LAST-MODIFIED:20250418T035212Z
UID:10019531-1820131200-1820134800@stnicholasoftolentinebronx.org
SUMMARY:8:00 am English Mass
DESCRIPTION:
URL:https://stnicholasoftolentinebronx.org/event/800-am-english-mass/2027-09-05/
LOCATION:St Nicholas of Tolentine Church\, 2345 University Avenue\, Bronx\, NY\, 10468\, United States
END:VEVENT
BEGIN:VEVENT
DTSTART;TZID=America/New_York:20270905T093000
DTEND;TZID=America/New_York:20270905T110000
DTSTAMP:20260425T100719
CREATED:20250313T024022Z
LAST-MODIFIED:20250313T024024Z
UID:10019792-1820136600-1820142000@stnicholasoftolentinebronx.org
SUMMARY:9:30 am Spanish Mass
DESCRIPTION:
URL:https://stnicholasoftolentinebronx.org/event/930-am-spanish-mass/2027-09-05/
LOCATION:St Nicholas of Tolentine Church\, 2345 University Avenue\, Bronx\, NY\, 10468\, United States
END:VEVENT
BEGIN:VEVENT
DTSTART;TZID=America/New_York:20270905T113000
DTEND;TZID=America/New_York:20270905T123000
DTSTAMP:20260425T100719
CREATED:20250313T024110Z
LAST-MODIFIED:20250313T024112Z
UID:10020053-1820143800-1820147400@stnicholasoftolentinebronx.org
SUMMARY:11:30 am English Mass
DESCRIPTION:
URL:https://stnicholasoftolentinebronx.org/event/1130-am-english-mass/2027-09-05/
LOCATION:St Nicholas of Tolentine Church\, 2345 University Avenue\, Bronx\, NY\, 10468\, United States
END:VEVENT
BEGIN:VEVENT
DTSTART;TZID=America/New_York:20270905T133000
DTEND;TZID=America/New_York:20270905T143000
DTSTAMP:20260425T100719
CREATED:20250313T024158Z
LAST-MODIFIED:20250313T024339Z
UID:10020314-1820151000-1820154600@stnicholasoftolentinebronx.org
SUMMARY:1:30 pm Vietnamese Mass
DESCRIPTION:
URL:https://stnicholasoftolentinebronx.org/event/130-pm-vietnamese-mass/2027-09-05/
LOCATION:St Nicholas of Tolentine Church\, 2345 University Avenue\, Bronx\, NY\, 10468\, United States
END:VEVENT
BEGIN:VEVENT
DTSTART;TZID=America/New_York:20270906T083000
DTEND;TZID=America/New_York:20270906T093000
DTSTAMP:20260425T100719
CREATED:20250305T035020Z
LAST-MODIFIED:20250305T035025Z
UID:10016380-1820219400-1820223000@stnicholasoftolentinebronx.org
SUMMARY:8:30 am Spanish Mass
DESCRIPTION:
URL:https://stnicholasoftolentinebronx.org/event/830-am-spanish-mass-3/2027-09-06/
LOCATION:St Nicholas of Tolentine Church\, 2345 University Avenue\, Bronx\, NY\, 10468\, United States
END:VEVENT
BEGIN:VEVENT
DTSTART;TZID=America/New_York:20270906T120000
DTEND;TZID=America/New_York:20270906T123000
DTSTAMP:20260425T100719
CREATED:20250305T040540Z
LAST-MODIFIED:20250305T040545Z
UID:10017684-1820232000-1820233800@stnicholasoftolentinebronx.org
SUMMARY:12:00 Noon English mass
DESCRIPTION:
URL:https://stnicholasoftolentinebronx.org/event/1200-noon-english-mass/2027-09-06/
LOCATION:St Nicholas of Tolentine Church\, 2345 University Avenue\, Bronx\, NY\, 10468\, United States
END:VEVENT
BEGIN:VEVENT
DTSTART;TZID=America/New_York:20270907T083000
DTEND;TZID=America/New_York:20270907T093000
DTSTAMP:20260425T100719
CREATED:20250305T035020Z
LAST-MODIFIED:20250305T035025Z
UID:10016381-1820305800-1820309400@stnicholasoftolentinebronx.org
SUMMARY:8:30 am Spanish Mass
DESCRIPTION:
URL:https://stnicholasoftolentinebronx.org/event/830-am-spanish-mass-3/2027-09-07/
LOCATION:St Nicholas of Tolentine Church\, 2345 University Avenue\, Bronx\, NY\, 10468\, United States
END:VEVENT
BEGIN:VEVENT
DTSTART;TZID=America/New_York:20270907T120000
DTEND;TZID=America/New_York:20270907T123000
DTSTAMP:20260425T100719
CREATED:20250305T040540Z
LAST-MODIFIED:20250305T040545Z
UID:10017685-1820318400-1820320200@stnicholasoftolentinebronx.org
SUMMARY:12:00 Noon English mass
DESCRIPTION:
URL:https://stnicholasoftolentinebronx.org/event/1200-noon-english-mass/2027-09-07/
LOCATION:St Nicholas of Tolentine Church\, 2345 University Avenue\, Bronx\, NY\, 10468\, United States
END:VEVENT
BEGIN:VEVENT
DTSTART;TZID=America/New_York:20270908T083000
DTEND;TZID=America/New_York:20270908T093000
DTSTAMP:20260425T100719
CREATED:20250305T035020Z
LAST-MODIFIED:20250305T035025Z
UID:10016382-1820392200-1820395800@stnicholasoftolentinebronx.org
SUMMARY:8:30 am Spanish Mass
DESCRIPTION:
URL:https://stnicholasoftolentinebronx.org/event/830-am-spanish-mass-3/2027-09-08/
LOCATION:St Nicholas of Tolentine Church\, 2345 University Avenue\, Bronx\, NY\, 10468\, United States
END:VEVENT
BEGIN:VEVENT
DTSTART;TZID=America/New_York:20270908T120000
DTEND;TZID=America/New_York:20270908T123000
DTSTAMP:20260425T100719
CREATED:20250305T040540Z
LAST-MODIFIED:20250305T040545Z
UID:10017686-1820404800-1820406600@stnicholasoftolentinebronx.org
SUMMARY:12:00 Noon English mass
DESCRIPTION:
URL:https://stnicholasoftolentinebronx.org/event/1200-noon-english-mass/2027-09-08/
LOCATION:St Nicholas of Tolentine Church\, 2345 University Avenue\, Bronx\, NY\, 10468\, United States
END:VEVENT
BEGIN:VEVENT
DTSTART;TZID=America/New_York:20270909T083000
DTEND;TZID=America/New_York:20270909T093000
DTSTAMP:20260425T100719
CREATED:20250305T035020Z
LAST-MODIFIED:20250305T035025Z
UID:10016383-1820478600-1820482200@stnicholasoftolentinebronx.org
SUMMARY:8:30 am Spanish Mass
DESCRIPTION:
URL:https://stnicholasoftolentinebronx.org/event/830-am-spanish-mass-3/2027-09-09/
LOCATION:St Nicholas of Tolentine Church\, 2345 University Avenue\, Bronx\, NY\, 10468\, United States
END:VEVENT
BEGIN:VEVENT
DTSTART;TZID=America/New_York:20270909T120000
DTEND;TZID=America/New_York:20270909T123000
DTSTAMP:20260425T100719
CREATED:20250305T040540Z
LAST-MODIFIED:20250305T040545Z
UID:10017687-1820491200-1820493000@stnicholasoftolentinebronx.org
SUMMARY:12:00 Noon English mass
DESCRIPTION:
URL:https://stnicholasoftolentinebronx.org/event/1200-noon-english-mass/2027-09-09/
LOCATION:St Nicholas of Tolentine Church\, 2345 University Avenue\, Bronx\, NY\, 10468\, United States
END:VEVENT
END:VCALENDAR