BEGIN:VCALENDAR
VERSION:2.0
PRODID:-//St. Nicholas of Tolentine Church - ECPv6.15.20//NONSGML v1.0//EN
CALSCALE:GREGORIAN
METHOD:PUBLISH
X-ORIGINAL-URL:https://stnicholasoftolentinebronx.org
X-WR-CALDESC:Events for St. Nicholas of Tolentine Church
REFRESH-INTERVAL;VALUE=DURATION:PT1H
X-Robots-Tag:noindex
X-PUBLISHED-TTL:PT1H
BEGIN:VTIMEZONE
TZID:America/New_York
BEGIN:DAYLIGHT
TZOFFSETFROM:-0500
TZOFFSETTO:-0400
TZNAME:EDT
DTSTART:20250309T070000
END:DAYLIGHT
BEGIN:STANDARD
TZOFFSETFROM:-0400
TZOFFSETTO:-0500
TZNAME:EST
DTSTART:20251102T060000
END:STANDARD
BEGIN:DAYLIGHT
TZOFFSETFROM:-0500
TZOFFSETTO:-0400
TZNAME:EDT
DTSTART:20260308T070000
END:DAYLIGHT
BEGIN:STANDARD
TZOFFSETFROM:-0400
TZOFFSETTO:-0500
TZNAME:EST
DTSTART:20261101T060000
END:STANDARD
BEGIN:DAYLIGHT
TZOFFSETFROM:-0500
TZOFFSETTO:-0400
TZNAME:EDT
DTSTART:20270314T070000
END:DAYLIGHT
BEGIN:STANDARD
TZOFFSETFROM:-0400
TZOFFSETTO:-0500
TZNAME:EST
DTSTART:20271107T060000
END:STANDARD
END:VTIMEZONE
BEGIN:VEVENT
DTSTART;TZID=America/New_York:20261126T083000
DTEND;TZID=America/New_York:20261126T093000
DTSTAMP:20260423T200245
CREATED:20250305T035020Z
LAST-MODIFIED:20250305T035025Z
UID:10016178-1795681800-1795685400@stnicholasoftolentinebronx.org
SUMMARY:8:30 am Spanish Mass
DESCRIPTION:
URL:https://stnicholasoftolentinebronx.org/event/830-am-spanish-mass-3/2026-11-26/
LOCATION:St Nicholas of Tolentine Church\, 2345 University Avenue\, Bronx\, NY\, 10468\, United States
END:VEVENT
BEGIN:VEVENT
DTSTART;TZID=America/New_York:20261126T120000
DTEND;TZID=America/New_York:20261126T123000
DTSTAMP:20260423T200245
CREATED:20250305T040540Z
LAST-MODIFIED:20250305T040545Z
UID:10017482-1795694400-1795696200@stnicholasoftolentinebronx.org
SUMMARY:12:00 Noon English mass
DESCRIPTION:
URL:https://stnicholasoftolentinebronx.org/event/1200-noon-english-mass/2026-11-26/
LOCATION:St Nicholas of Tolentine Church\, 2345 University Avenue\, Bronx\, NY\, 10468\, United States
END:VEVENT
BEGIN:VEVENT
DTSTART;TZID=America/New_York:20261126T190000
DTEND;TZID=America/New_York:20261126T210000
DTSTAMP:20260423T200245
CREATED:20250305T041048Z
LAST-MODIFIED:20250306T225714Z
UID:10018427-1795719600-1795726800@stnicholasoftolentinebronx.org
SUMMARY:7:00 pm Círculo
DESCRIPTION:
URL:https://stnicholasoftolentinebronx.org/event/700-circulo/2026-11-26/
LOCATION:NY
END:VEVENT
BEGIN:VEVENT
DTSTART;TZID=America/New_York:20261127T083000
DTEND;TZID=America/New_York:20261127T093000
DTSTAMP:20260423T200245
CREATED:20250305T035020Z
LAST-MODIFIED:20250305T035025Z
UID:10016179-1795768200-1795771800@stnicholasoftolentinebronx.org
SUMMARY:8:30 am Spanish Mass
DESCRIPTION:
URL:https://stnicholasoftolentinebronx.org/event/830-am-spanish-mass-3/2026-11-27/
LOCATION:St Nicholas of Tolentine Church\, 2345 University Avenue\, Bronx\, NY\, 10468\, United States
END:VEVENT
BEGIN:VEVENT
DTSTART;TZID=America/New_York:20261127T120000
DTEND;TZID=America/New_York:20261127T123000
DTSTAMP:20260423T200245
CREATED:20250305T040540Z
LAST-MODIFIED:20250305T040545Z
UID:10017483-1795780800-1795782600@stnicholasoftolentinebronx.org
SUMMARY:12:00 Noon English mass
DESCRIPTION:
URL:https://stnicholasoftolentinebronx.org/event/1200-noon-english-mass/2026-11-27/
LOCATION:St Nicholas of Tolentine Church\, 2345 University Avenue\, Bronx\, NY\, 10468\, United States
END:VEVENT
BEGIN:VEVENT
DTSTART;TZID=America/New_York:20261128T074500
DTEND;TZID=America/New_York:20261128T083000
DTSTAMP:20260423T200245
CREATED:20250313T023643Z
LAST-MODIFIED:20250313T023646Z
UID:10018708-1795851900-1795854600@stnicholasoftolentinebronx.org
SUMMARY:7:45 am Vietnamese Mass
DESCRIPTION:
URL:https://stnicholasoftolentinebronx.org/event/745-am-vietnamese-mass/2026-11-28/
LOCATION:St Nicholas of Tolentine Church\, 2345 University Avenue\, Bronx\, NY\, 10468\, United States
END:VEVENT
BEGIN:VEVENT
DTSTART;TZID=America/New_York:20261128T173000
DTEND;TZID=America/New_York:20261128T183000
DTSTAMP:20260423T200245
CREATED:20250313T023751Z
LAST-MODIFIED:20250313T023752Z
UID:10018969-1795887000-1795890600@stnicholasoftolentinebronx.org
SUMMARY:5:30 pm Confessions
DESCRIPTION:
URL:https://stnicholasoftolentinebronx.org/event/530-pm-confessions/2026-11-28/
LOCATION:St Nicholas of Tolentine Church\, 2345 University Avenue\, Bronx\, NY\, 10468\, United States
END:VEVENT
BEGIN:VEVENT
DTSTART;TZID=America/New_York:20261128T190000
DTEND;TZID=America/New_York:20261128T200000
DTSTAMP:20260423T200245
CREATED:20250313T023841Z
LAST-MODIFIED:20250313T023842Z
UID:10019230-1795892400-1795896000@stnicholasoftolentinebronx.org
SUMMARY:7:00 pm Spanish Mass
DESCRIPTION:
URL:https://stnicholasoftolentinebronx.org/event/700-pm-spanish-mass/2026-11-28/
LOCATION:St Nicholas of Tolentine Church\, 2345 University Avenue\, Bronx\, NY\, 10468\, United States
END:VEVENT
BEGIN:VEVENT
DTSTART;TZID=America/New_York:20261129T080000
DTEND;TZID=America/New_York:20261129T090000
DTSTAMP:20260423T200245
CREATED:20250313T023930Z
LAST-MODIFIED:20250418T035212Z
UID:10019491-1795939200-1795942800@stnicholasoftolentinebronx.org
SUMMARY:8:00 am English Mass
DESCRIPTION:
URL:https://stnicholasoftolentinebronx.org/event/800-am-english-mass/2026-11-29/
LOCATION:St Nicholas of Tolentine Church\, 2345 University Avenue\, Bronx\, NY\, 10468\, United States
END:VEVENT
BEGIN:VEVENT
DTSTART;TZID=America/New_York:20261129T093000
DTEND;TZID=America/New_York:20261129T110000
DTSTAMP:20260423T200245
CREATED:20250313T024022Z
LAST-MODIFIED:20250313T024024Z
UID:10019752-1795944600-1795950000@stnicholasoftolentinebronx.org
SUMMARY:9:30 am Spanish Mass
DESCRIPTION:
URL:https://stnicholasoftolentinebronx.org/event/930-am-spanish-mass/2026-11-29/
LOCATION:St Nicholas of Tolentine Church\, 2345 University Avenue\, Bronx\, NY\, 10468\, United States
END:VEVENT
BEGIN:VEVENT
DTSTART;TZID=America/New_York:20261129T113000
DTEND;TZID=America/New_York:20261129T123000
DTSTAMP:20260423T200245
CREATED:20250313T024110Z
LAST-MODIFIED:20250313T024112Z
UID:10020013-1795951800-1795955400@stnicholasoftolentinebronx.org
SUMMARY:11:30 am English Mass
DESCRIPTION:
URL:https://stnicholasoftolentinebronx.org/event/1130-am-english-mass/2026-11-29/
LOCATION:St Nicholas of Tolentine Church\, 2345 University Avenue\, Bronx\, NY\, 10468\, United States
END:VEVENT
BEGIN:VEVENT
DTSTART;TZID=America/New_York:20261129T133000
DTEND;TZID=America/New_York:20261129T143000
DTSTAMP:20260423T200245
CREATED:20250313T024158Z
LAST-MODIFIED:20250313T024339Z
UID:10020274-1795959000-1795962600@stnicholasoftolentinebronx.org
SUMMARY:1:30 pm Vietnamese Mass
DESCRIPTION:
URL:https://stnicholasoftolentinebronx.org/event/130-pm-vietnamese-mass/2026-11-29/
LOCATION:St Nicholas of Tolentine Church\, 2345 University Avenue\, Bronx\, NY\, 10468\, United States
END:VEVENT
BEGIN:VEVENT
DTSTART;TZID=America/New_York:20261130T083000
DTEND;TZID=America/New_York:20261130T093000
DTSTAMP:20260423T200245
CREATED:20250305T035020Z
LAST-MODIFIED:20250305T035025Z
UID:10016180-1796027400-1796031000@stnicholasoftolentinebronx.org
SUMMARY:8:30 am Spanish Mass
DESCRIPTION:
URL:https://stnicholasoftolentinebronx.org/event/830-am-spanish-mass-3/2026-11-30/
LOCATION:St Nicholas of Tolentine Church\, 2345 University Avenue\, Bronx\, NY\, 10468\, United States
END:VEVENT
BEGIN:VEVENT
DTSTART;TZID=America/New_York:20261130T120000
DTEND;TZID=America/New_York:20261130T123000
DTSTAMP:20260423T200245
CREATED:20250305T040540Z
LAST-MODIFIED:20250305T040545Z
UID:10017484-1796040000-1796041800@stnicholasoftolentinebronx.org
SUMMARY:12:00 Noon English mass
DESCRIPTION:
URL:https://stnicholasoftolentinebronx.org/event/1200-noon-english-mass/2026-11-30/
LOCATION:St Nicholas of Tolentine Church\, 2345 University Avenue\, Bronx\, NY\, 10468\, United States
END:VEVENT
BEGIN:VEVENT
DTSTART;TZID=America/New_York:20261201T083000
DTEND;TZID=America/New_York:20261201T093000
DTSTAMP:20260423T200245
CREATED:20250305T035020Z
LAST-MODIFIED:20250305T035025Z
UID:10016181-1796113800-1796117400@stnicholasoftolentinebronx.org
SUMMARY:8:30 am Spanish Mass
DESCRIPTION:
URL:https://stnicholasoftolentinebronx.org/event/830-am-spanish-mass-3/2026-12-01/
LOCATION:St Nicholas of Tolentine Church\, 2345 University Avenue\, Bronx\, NY\, 10468\, United States
END:VEVENT
BEGIN:VEVENT
DTSTART;TZID=America/New_York:20261201T120000
DTEND;TZID=America/New_York:20261201T123000
DTSTAMP:20260423T200245
CREATED:20250305T040540Z
LAST-MODIFIED:20250305T040545Z
UID:10017485-1796126400-1796128200@stnicholasoftolentinebronx.org
SUMMARY:12:00 Noon English mass
DESCRIPTION:
URL:https://stnicholasoftolentinebronx.org/event/1200-noon-english-mass/2026-12-01/
LOCATION:St Nicholas of Tolentine Church\, 2345 University Avenue\, Bronx\, NY\, 10468\, United States
END:VEVENT
BEGIN:VEVENT
DTSTART;TZID=America/New_York:20261202T083000
DTEND;TZID=America/New_York:20261202T093000
DTSTAMP:20260423T200245
CREATED:20250305T035020Z
LAST-MODIFIED:20250305T035025Z
UID:10016182-1796200200-1796203800@stnicholasoftolentinebronx.org
SUMMARY:8:30 am Spanish Mass
DESCRIPTION:
URL:https://stnicholasoftolentinebronx.org/event/830-am-spanish-mass-3/2026-12-02/
LOCATION:St Nicholas of Tolentine Church\, 2345 University Avenue\, Bronx\, NY\, 10468\, United States
END:VEVENT
BEGIN:VEVENT
DTSTART;TZID=America/New_York:20261202T120000
DTEND;TZID=America/New_York:20261202T123000
DTSTAMP:20260423T200245
CREATED:20250305T040540Z
LAST-MODIFIED:20250305T040545Z
UID:10017486-1796212800-1796214600@stnicholasoftolentinebronx.org
SUMMARY:12:00 Noon English mass
DESCRIPTION:
URL:https://stnicholasoftolentinebronx.org/event/1200-noon-english-mass/2026-12-02/
LOCATION:St Nicholas of Tolentine Church\, 2345 University Avenue\, Bronx\, NY\, 10468\, United States
END:VEVENT
BEGIN:VEVENT
DTSTART;TZID=America/New_York:20261203T083000
DTEND;TZID=America/New_York:20261203T093000
DTSTAMP:20260423T200245
CREATED:20250305T035020Z
LAST-MODIFIED:20250305T035025Z
UID:10016183-1796286600-1796290200@stnicholasoftolentinebronx.org
SUMMARY:8:30 am Spanish Mass
DESCRIPTION:
URL:https://stnicholasoftolentinebronx.org/event/830-am-spanish-mass-3/2026-12-03/
LOCATION:St Nicholas of Tolentine Church\, 2345 University Avenue\, Bronx\, NY\, 10468\, United States
END:VEVENT
BEGIN:VEVENT
DTSTART;TZID=America/New_York:20261203T120000
DTEND;TZID=America/New_York:20261203T123000
DTSTAMP:20260423T200245
CREATED:20250305T040540Z
LAST-MODIFIED:20250305T040545Z
UID:10017487-1796299200-1796301000@stnicholasoftolentinebronx.org
SUMMARY:12:00 Noon English mass
DESCRIPTION:
URL:https://stnicholasoftolentinebronx.org/event/1200-noon-english-mass/2026-12-03/
LOCATION:St Nicholas of Tolentine Church\, 2345 University Avenue\, Bronx\, NY\, 10468\, United States
END:VEVENT
BEGIN:VEVENT
DTSTART;TZID=America/New_York:20261203T190000
DTEND;TZID=America/New_York:20261203T210000
DTSTAMP:20260423T200245
CREATED:20250305T041048Z
LAST-MODIFIED:20250306T225714Z
UID:10018428-1796324400-1796331600@stnicholasoftolentinebronx.org
SUMMARY:7:00 pm Círculo
DESCRIPTION:
URL:https://stnicholasoftolentinebronx.org/event/700-circulo/2026-12-03/
LOCATION:NY
END:VEVENT
BEGIN:VEVENT
DTSTART;TZID=America/New_York:20261204T083000
DTEND;TZID=America/New_York:20261204T093000
DTSTAMP:20260423T200245
CREATED:20250305T035020Z
LAST-MODIFIED:20250305T035025Z
UID:10016184-1796373000-1796376600@stnicholasoftolentinebronx.org
SUMMARY:8:30 am Spanish Mass
DESCRIPTION:
URL:https://stnicholasoftolentinebronx.org/event/830-am-spanish-mass-3/2026-12-04/
LOCATION:St Nicholas of Tolentine Church\, 2345 University Avenue\, Bronx\, NY\, 10468\, United States
END:VEVENT
BEGIN:VEVENT
DTSTART;TZID=America/New_York:20261204T120000
DTEND;TZID=America/New_York:20261204T123000
DTSTAMP:20260423T200245
CREATED:20250305T040540Z
LAST-MODIFIED:20250305T040545Z
UID:10017488-1796385600-1796387400@stnicholasoftolentinebronx.org
SUMMARY:12:00 Noon English mass
DESCRIPTION:
URL:https://stnicholasoftolentinebronx.org/event/1200-noon-english-mass/2026-12-04/
LOCATION:St Nicholas of Tolentine Church\, 2345 University Avenue\, Bronx\, NY\, 10468\, United States
END:VEVENT
BEGIN:VEVENT
DTSTART;TZID=America/New_York:20261205T074500
DTEND;TZID=America/New_York:20261205T083000
DTSTAMP:20260423T200245
CREATED:20250313T023643Z
LAST-MODIFIED:20250313T023646Z
UID:10018709-1796456700-1796459400@stnicholasoftolentinebronx.org
SUMMARY:7:45 am Vietnamese Mass
DESCRIPTION:
URL:https://stnicholasoftolentinebronx.org/event/745-am-vietnamese-mass/2026-12-05/
LOCATION:St Nicholas of Tolentine Church\, 2345 University Avenue\, Bronx\, NY\, 10468\, United States
END:VEVENT
BEGIN:VEVENT
DTSTART;TZID=America/New_York:20261205T173000
DTEND;TZID=America/New_York:20261205T183000
DTSTAMP:20260423T200245
CREATED:20250313T023751Z
LAST-MODIFIED:20250313T023752Z
UID:10018970-1796491800-1796495400@stnicholasoftolentinebronx.org
SUMMARY:5:30 pm Confessions
DESCRIPTION:
URL:https://stnicholasoftolentinebronx.org/event/530-pm-confessions/2026-12-05/
LOCATION:St Nicholas of Tolentine Church\, 2345 University Avenue\, Bronx\, NY\, 10468\, United States
END:VEVENT
BEGIN:VEVENT
DTSTART;TZID=America/New_York:20261205T190000
DTEND;TZID=America/New_York:20261205T200000
DTSTAMP:20260423T200245
CREATED:20250313T023841Z
LAST-MODIFIED:20250313T023842Z
UID:10019231-1796497200-1796500800@stnicholasoftolentinebronx.org
SUMMARY:7:00 pm Spanish Mass
DESCRIPTION:
URL:https://stnicholasoftolentinebronx.org/event/700-pm-spanish-mass/2026-12-05/
LOCATION:St Nicholas of Tolentine Church\, 2345 University Avenue\, Bronx\, NY\, 10468\, United States
END:VEVENT
BEGIN:VEVENT
DTSTART;TZID=America/New_York:20261206T080000
DTEND;TZID=America/New_York:20261206T090000
DTSTAMP:20260423T200245
CREATED:20250313T023930Z
LAST-MODIFIED:20250418T035212Z
UID:10019492-1796544000-1796547600@stnicholasoftolentinebronx.org
SUMMARY:8:00 am English Mass
DESCRIPTION:
URL:https://stnicholasoftolentinebronx.org/event/800-am-english-mass/2026-12-06/
LOCATION:St Nicholas of Tolentine Church\, 2345 University Avenue\, Bronx\, NY\, 10468\, United States
END:VEVENT
BEGIN:VEVENT
DTSTART;TZID=America/New_York:20261206T093000
DTEND;TZID=America/New_York:20261206T110000
DTSTAMP:20260423T200245
CREATED:20250313T024022Z
LAST-MODIFIED:20250313T024024Z
UID:10019753-1796549400-1796554800@stnicholasoftolentinebronx.org
SUMMARY:9:30 am Spanish Mass
DESCRIPTION:
URL:https://stnicholasoftolentinebronx.org/event/930-am-spanish-mass/2026-12-06/
LOCATION:St Nicholas of Tolentine Church\, 2345 University Avenue\, Bronx\, NY\, 10468\, United States
END:VEVENT
BEGIN:VEVENT
DTSTART;TZID=America/New_York:20261206T113000
DTEND;TZID=America/New_York:20261206T123000
DTSTAMP:20260423T200245
CREATED:20250313T024110Z
LAST-MODIFIED:20250313T024112Z
UID:10020014-1796556600-1796560200@stnicholasoftolentinebronx.org
SUMMARY:11:30 am English Mass
DESCRIPTION:
URL:https://stnicholasoftolentinebronx.org/event/1130-am-english-mass/2026-12-06/
LOCATION:St Nicholas of Tolentine Church\, 2345 University Avenue\, Bronx\, NY\, 10468\, United States
END:VEVENT
BEGIN:VEVENT
DTSTART;TZID=America/New_York:20261206T133000
DTEND;TZID=America/New_York:20261206T143000
DTSTAMP:20260423T200245
CREATED:20250313T024158Z
LAST-MODIFIED:20250313T024339Z
UID:10020275-1796563800-1796567400@stnicholasoftolentinebronx.org
SUMMARY:1:30 pm Vietnamese Mass
DESCRIPTION:
URL:https://stnicholasoftolentinebronx.org/event/130-pm-vietnamese-mass/2026-12-06/
LOCATION:St Nicholas of Tolentine Church\, 2345 University Avenue\, Bronx\, NY\, 10468\, United States
END:VEVENT
END:VCALENDAR