BEGIN:VCALENDAR
VERSION:2.0
PRODID:-//St. Nicholas of Tolentine Church - ECPv6.15.20//NONSGML v1.0//EN
CALSCALE:GREGORIAN
METHOD:PUBLISH
X-ORIGINAL-URL:https://stnicholasoftolentinebronx.org
X-WR-CALDESC:Events for St. Nicholas of Tolentine Church
REFRESH-INTERVAL;VALUE=DURATION:PT1H
X-Robots-Tag:noindex
X-PUBLISHED-TTL:PT1H
BEGIN:VTIMEZONE
TZID:America/New_York
BEGIN:DAYLIGHT
TZOFFSETFROM:-0500
TZOFFSETTO:-0400
TZNAME:EDT
DTSTART:20250309T070000
END:DAYLIGHT
BEGIN:STANDARD
TZOFFSETFROM:-0400
TZOFFSETTO:-0500
TZNAME:EST
DTSTART:20251102T060000
END:STANDARD
BEGIN:DAYLIGHT
TZOFFSETFROM:-0500
TZOFFSETTO:-0400
TZNAME:EDT
DTSTART:20260308T070000
END:DAYLIGHT
BEGIN:STANDARD
TZOFFSETFROM:-0400
TZOFFSETTO:-0500
TZNAME:EST
DTSTART:20261101T060000
END:STANDARD
BEGIN:DAYLIGHT
TZOFFSETFROM:-0500
TZOFFSETTO:-0400
TZNAME:EDT
DTSTART:20270314T070000
END:DAYLIGHT
BEGIN:STANDARD
TZOFFSETFROM:-0400
TZOFFSETTO:-0500
TZNAME:EST
DTSTART:20271107T060000
END:STANDARD
END:VTIMEZONE
BEGIN:VEVENT
DTSTART;TZID=America/New_York:20260330T083000
DTEND;TZID=America/New_York:20260330T093000
DTSTAMP:20260423T020850
CREATED:20250305T035020Z
LAST-MODIFIED:20250305T035025Z
UID:10016005-1774859400-1774863000@stnicholasoftolentinebronx.org
SUMMARY:8:30 am Spanish Mass
DESCRIPTION:
URL:https://stnicholasoftolentinebronx.org/event/830-am-spanish-mass-3/2026-03-30/
LOCATION:St Nicholas of Tolentine Church\, 2345 University Avenue\, Bronx\, NY\, 10468\, United States
END:VEVENT
BEGIN:VEVENT
DTSTART;TZID=America/New_York:20260330T120000
DTEND;TZID=America/New_York:20260330T123000
DTSTAMP:20260423T020850
CREATED:20250305T040540Z
LAST-MODIFIED:20250305T040545Z
UID:10017309-1774872000-1774873800@stnicholasoftolentinebronx.org
SUMMARY:12:00 Noon English mass
DESCRIPTION:
URL:https://stnicholasoftolentinebronx.org/event/1200-noon-english-mass/2026-03-30/
LOCATION:St Nicholas of Tolentine Church\, 2345 University Avenue\, Bronx\, NY\, 10468\, United States
END:VEVENT
BEGIN:VEVENT
DTSTART;TZID=America/New_York:20260330T190000
DTEND;TZID=America/New_York:20260330T210000
DTSTAMP:20260423T020850
CREATED:20260216T175040Z
LAST-MODIFIED:20260216T175042Z
UID:10021398-1774897200-1774904400@stnicholasoftolentinebronx.org
SUMMARY:7:00 pm Ensayos para Viernes Santo
DESCRIPTION:
URL:https://stnicholasoftolentinebronx.org/event/700-pm-ensayos-para-viernes-santo/2026-03-30/
LOCATION:St Nicholas of Tolentine Church\, 2345 University Avenue\, Bronx\, NY\, 10468\, United States
END:VEVENT
BEGIN:VEVENT
DTSTART;TZID=America/New_York:20260331T083000
DTEND;TZID=America/New_York:20260331T093000
DTSTAMP:20260423T020850
CREATED:20250305T035020Z
LAST-MODIFIED:20250305T035025Z
UID:10016006-1774945800-1774949400@stnicholasoftolentinebronx.org
SUMMARY:8:30 am Spanish Mass
DESCRIPTION:
URL:https://stnicholasoftolentinebronx.org/event/830-am-spanish-mass-3/2026-03-31/
LOCATION:St Nicholas of Tolentine Church\, 2345 University Avenue\, Bronx\, NY\, 10468\, United States
END:VEVENT
BEGIN:VEVENT
DTSTART;TZID=America/New_York:20260331T120000
DTEND;TZID=America/New_York:20260331T123000
DTSTAMP:20260423T020850
CREATED:20250305T040540Z
LAST-MODIFIED:20250305T040545Z
UID:10017310-1774958400-1774960200@stnicholasoftolentinebronx.org
SUMMARY:12:00 Noon English mass
DESCRIPTION:
URL:https://stnicholasoftolentinebronx.org/event/1200-noon-english-mass/2026-03-31/
LOCATION:St Nicholas of Tolentine Church\, 2345 University Avenue\, Bronx\, NY\, 10468\, United States
END:VEVENT
BEGIN:VEVENT
DTSTART;TZID=America/New_York:20260401T083000
DTEND;TZID=America/New_York:20260401T093000
DTSTAMP:20260423T020850
CREATED:20250305T035020Z
LAST-MODIFIED:20250305T035025Z
UID:10016007-1775032200-1775035800@stnicholasoftolentinebronx.org
SUMMARY:8:30 am Spanish Mass
DESCRIPTION:
URL:https://stnicholasoftolentinebronx.org/event/830-am-spanish-mass-3/2026-04-01/
LOCATION:St Nicholas of Tolentine Church\, 2345 University Avenue\, Bronx\, NY\, 10468\, United States
END:VEVENT
BEGIN:VEVENT
DTSTART;TZID=America/New_York:20260401T120000
DTEND;TZID=America/New_York:20260401T123000
DTSTAMP:20260423T020850
CREATED:20250305T040540Z
LAST-MODIFIED:20250305T040545Z
UID:10017311-1775044800-1775046600@stnicholasoftolentinebronx.org
SUMMARY:12:00 Noon English mass
DESCRIPTION:
URL:https://stnicholasoftolentinebronx.org/event/1200-noon-english-mass/2026-04-01/
LOCATION:St Nicholas of Tolentine Church\, 2345 University Avenue\, Bronx\, NY\, 10468\, United States
END:VEVENT
BEGIN:VEVENT
DTSTART;TZID=America/New_York:20260402T083000
DTEND;TZID=America/New_York:20260402T093000
DTSTAMP:20260423T020850
CREATED:20250305T035020Z
LAST-MODIFIED:20250305T035025Z
UID:10016008-1775118600-1775122200@stnicholasoftolentinebronx.org
SUMMARY:8:30 am Spanish Mass
DESCRIPTION:
URL:https://stnicholasoftolentinebronx.org/event/830-am-spanish-mass-3/2026-04-02/
LOCATION:St Nicholas of Tolentine Church\, 2345 University Avenue\, Bronx\, NY\, 10468\, United States
END:VEVENT
BEGIN:VEVENT
DTSTART;TZID=America/New_York:20260402T120000
DTEND;TZID=America/New_York:20260402T123000
DTSTAMP:20260423T020850
CREATED:20250305T040540Z
LAST-MODIFIED:20250305T040545Z
UID:10017312-1775131200-1775133000@stnicholasoftolentinebronx.org
SUMMARY:12:00 Noon English mass
DESCRIPTION:
URL:https://stnicholasoftolentinebronx.org/event/1200-noon-english-mass/2026-04-02/
LOCATION:St Nicholas of Tolentine Church\, 2345 University Avenue\, Bronx\, NY\, 10468\, United States
END:VEVENT
BEGIN:VEVENT
DTSTART;TZID=America/New_York:20260402T200000
DTEND;TZID=America/New_York:20260402T220000
DTSTAMP:20260423T020850
CREATED:20260402T154305Z
LAST-MODIFIED:20260402T154308Z
UID:10021527-1775160000-1775167200@stnicholasoftolentinebronx.org
SUMMARY:8:00 pm Holy Thursday Mass
DESCRIPTION:
URL:https://stnicholasoftolentinebronx.org/event/800-pm-holy-thursday-mass/
LOCATION:St Nicholas of Tolentine Church\, 2345 University Avenue\, Bronx\, NY\, 10468\, United States
END:VEVENT
BEGIN:VEVENT
DTSTART;TZID=America/New_York:20260403T120000
DTEND;TZID=America/New_York:20260403T133000
DTSTAMP:20260423T020850
CREATED:20260402T154420Z
LAST-MODIFIED:20260402T154421Z
UID:10021528-1775217600-1775223000@stnicholasoftolentinebronx.org
SUMMARY:12:00 Noon Good Friday Mass
DESCRIPTION:
URL:https://stnicholasoftolentinebronx.org/event/1200-noon-good-friday-mass/
LOCATION:St Nicholas of Tolentine Church\, 2345 University Avenue\, Bronx\, NY\, 10468\, United States
END:VEVENT
BEGIN:VEVENT
DTSTART;TZID=America/New_York:20260403T150000
DTEND;TZID=America/New_York:20260403T183000
DTSTAMP:20260423T020850
CREATED:20260402T154528Z
LAST-MODIFIED:20260402T154846Z
UID:10021529-1775228400-1775241000@stnicholasoftolentinebronx.org
SUMMARY:3:00 Viernes Santo Misa y Via Crucis
DESCRIPTION:
URL:https://stnicholasoftolentinebronx.org/event/300-viernes-santo-misa-y-via-crucis/
LOCATION:St Nicholas of Tolentine Church\, 2345 University Avenue\, Bronx\, NY\, 10468\, United States
END:VEVENT
BEGIN:VEVENT
DTSTART;TZID=America/New_York:20260403T190000
DTEND;TZID=America/New_York:20260403T200000
DTSTAMP:20260423T020850
CREATED:20260402T154646Z
LAST-MODIFIED:20260402T154648Z
UID:10021530-1775242800-1775246400@stnicholasoftolentinebronx.org
SUMMARY:7:00 pm Good Friday Vietnamese Mass
DESCRIPTION:
URL:https://stnicholasoftolentinebronx.org/event/700-pm-good-friday-vietnamese-mass/
LOCATION:St Nicholas of Tolentine Church\, 2345 University Avenue\, Bronx\, NY\, 10468\, United States
END:VEVENT
BEGIN:VEVENT
DTSTART;TZID=America/New_York:20260404T090000
DTEND;TZID=America/New_York:20260404T100000
DTSTAMP:20260423T020850
CREATED:20260402T160351Z
LAST-MODIFIED:20260402T160352Z
UID:10021532-1775293200-1775296800@stnicholasoftolentinebronx.org
SUMMARY:9:00 am Despertar con Maria
DESCRIPTION:
URL:https://stnicholasoftolentinebronx.org/event/900-am-despertar-con-maria/
LOCATION:St Nicholas of Tolentine Church\, 2345 University Avenue\, Bronx\, NY\, 10468\, United States
END:VEVENT
BEGIN:VEVENT
DTSTART;TZID=America/New_York:20260404T200000
DTEND;TZID=America/New_York:20260404T223000
DTSTAMP:20260423T020850
CREATED:20260402T154734Z
LAST-MODIFIED:20260402T154735Z
UID:10021531-1775332800-1775341800@stnicholasoftolentinebronx.org
SUMMARY:8:00 pm Easter Vigil
DESCRIPTION:
URL:https://stnicholasoftolentinebronx.org/event/800-pm-easter-vigil/
LOCATION:St Nicholas of Tolentine Church\, 2345 University Avenue\, Bronx\, NY\, 10468\, United States
END:VEVENT
BEGIN:VEVENT
DTSTART;TZID=America/New_York:20260405T080000
DTEND;TZID=America/New_York:20260405T090000
DTSTAMP:20260423T020850
CREATED:20250313T023930Z
LAST-MODIFIED:20250418T035212Z
UID:10019457-1775376000-1775379600@stnicholasoftolentinebronx.org
SUMMARY:8:00 am English Mass
DESCRIPTION:
URL:https://stnicholasoftolentinebronx.org/event/800-am-english-mass/2026-04-05/
LOCATION:St Nicholas of Tolentine Church\, 2345 University Avenue\, Bronx\, NY\, 10468\, United States
END:VEVENT
BEGIN:VEVENT
DTSTART;TZID=America/New_York:20260405T093000
DTEND;TZID=America/New_York:20260405T110000
DTSTAMP:20260423T020850
CREATED:20250313T024022Z
LAST-MODIFIED:20250313T024024Z
UID:10019718-1775381400-1775386800@stnicholasoftolentinebronx.org
SUMMARY:9:30 am Spanish Mass
DESCRIPTION:
URL:https://stnicholasoftolentinebronx.org/event/930-am-spanish-mass/2026-04-05/
LOCATION:St Nicholas of Tolentine Church\, 2345 University Avenue\, Bronx\, NY\, 10468\, United States
END:VEVENT
BEGIN:VEVENT
DTSTART;TZID=America/New_York:20260405T113000
DTEND;TZID=America/New_York:20260405T123000
DTSTAMP:20260423T020850
CREATED:20250313T024110Z
LAST-MODIFIED:20250313T024112Z
UID:10019979-1775388600-1775392200@stnicholasoftolentinebronx.org
SUMMARY:11:30 am English Mass
DESCRIPTION:
URL:https://stnicholasoftolentinebronx.org/event/1130-am-english-mass/2026-04-05/
LOCATION:St Nicholas of Tolentine Church\, 2345 University Avenue\, Bronx\, NY\, 10468\, United States
END:VEVENT
BEGIN:VEVENT
DTSTART;TZID=America/New_York:20260405T133000
DTEND;TZID=America/New_York:20260405T143000
DTSTAMP:20260423T020850
CREATED:20250313T024158Z
LAST-MODIFIED:20250313T024339Z
UID:10020240-1775395800-1775399400@stnicholasoftolentinebronx.org
SUMMARY:1:30 pm Vietnamese Mass
DESCRIPTION:
URL:https://stnicholasoftolentinebronx.org/event/130-pm-vietnamese-mass/2026-04-05/
LOCATION:St Nicholas of Tolentine Church\, 2345 University Avenue\, Bronx\, NY\, 10468\, United States
END:VEVENT
BEGIN:VEVENT
DTSTART;TZID=America/New_York:20260406T090000
DTEND;TZID=America/New_York:20260406T100000
DTSTAMP:20260423T020850
CREATED:20260406T021714Z
LAST-MODIFIED:20260406T021715Z
UID:10021538-1775466000-1775469600@stnicholasoftolentinebronx.org
SUMMARY:9:00 am Bilingual Mass (Only mass today)
DESCRIPTION:
URL:https://stnicholasoftolentinebronx.org/event/900-am-bilingual-mass-only-mass-today-3/
LOCATION:St Nicholas of Tolentine Church\, 2345 University Avenue\, Bronx\, NY\, 10468\, United States
END:VEVENT
BEGIN:VEVENT
DTSTART;TZID=America/New_York:20260407T083000
DTEND;TZID=America/New_York:20260407T093000
DTSTAMP:20260423T020850
CREATED:20250305T035020Z
LAST-MODIFIED:20250305T035025Z
UID:10016011-1775550600-1775554200@stnicholasoftolentinebronx.org
SUMMARY:8:30 am Spanish Mass
DESCRIPTION:
URL:https://stnicholasoftolentinebronx.org/event/830-am-spanish-mass-3/2026-04-07/
LOCATION:St Nicholas of Tolentine Church\, 2345 University Avenue\, Bronx\, NY\, 10468\, United States
END:VEVENT
BEGIN:VEVENT
DTSTART;TZID=America/New_York:20260407T120000
DTEND;TZID=America/New_York:20260407T123000
DTSTAMP:20260423T020850
CREATED:20250305T040540Z
LAST-MODIFIED:20250305T040545Z
UID:10017315-1775563200-1775565000@stnicholasoftolentinebronx.org
SUMMARY:12:00 Noon English mass
DESCRIPTION:
URL:https://stnicholasoftolentinebronx.org/event/1200-noon-english-mass/2026-04-07/
LOCATION:St Nicholas of Tolentine Church\, 2345 University Avenue\, Bronx\, NY\, 10468\, United States
END:VEVENT
BEGIN:VEVENT
DTSTART;TZID=America/New_York:20260408T083000
DTEND;TZID=America/New_York:20260408T093000
DTSTAMP:20260423T020850
CREATED:20250305T035020Z
LAST-MODIFIED:20250305T035025Z
UID:10016012-1775637000-1775640600@stnicholasoftolentinebronx.org
SUMMARY:8:30 am Spanish Mass
DESCRIPTION:
URL:https://stnicholasoftolentinebronx.org/event/830-am-spanish-mass-3/2026-04-08/
LOCATION:St Nicholas of Tolentine Church\, 2345 University Avenue\, Bronx\, NY\, 10468\, United States
END:VEVENT
BEGIN:VEVENT
DTSTART;TZID=America/New_York:20260408T120000
DTEND;TZID=America/New_York:20260408T123000
DTSTAMP:20260423T020850
CREATED:20250305T040540Z
LAST-MODIFIED:20250305T040545Z
UID:10017316-1775649600-1775651400@stnicholasoftolentinebronx.org
SUMMARY:12:00 Noon English mass
DESCRIPTION:
URL:https://stnicholasoftolentinebronx.org/event/1200-noon-english-mass/2026-04-08/
LOCATION:St Nicholas of Tolentine Church\, 2345 University Avenue\, Bronx\, NY\, 10468\, United States
END:VEVENT
BEGIN:VEVENT
DTSTART;TZID=America/New_York:20260409T083000
DTEND;TZID=America/New_York:20260409T093000
DTSTAMP:20260423T020850
CREATED:20250305T035020Z
LAST-MODIFIED:20250305T035025Z
UID:10016013-1775723400-1775727000@stnicholasoftolentinebronx.org
SUMMARY:8:30 am Spanish Mass
DESCRIPTION:
URL:https://stnicholasoftolentinebronx.org/event/830-am-spanish-mass-3/2026-04-09/
LOCATION:St Nicholas of Tolentine Church\, 2345 University Avenue\, Bronx\, NY\, 10468\, United States
END:VEVENT
BEGIN:VEVENT
DTSTART;TZID=America/New_York:20260409T120000
DTEND;TZID=America/New_York:20260409T123000
DTSTAMP:20260423T020850
CREATED:20250305T040540Z
LAST-MODIFIED:20250305T040545Z
UID:10017317-1775736000-1775737800@stnicholasoftolentinebronx.org
SUMMARY:12:00 Noon English mass
DESCRIPTION:
URL:https://stnicholasoftolentinebronx.org/event/1200-noon-english-mass/2026-04-09/
LOCATION:St Nicholas of Tolentine Church\, 2345 University Avenue\, Bronx\, NY\, 10468\, United States
END:VEVENT
BEGIN:VEVENT
DTSTART;TZID=America/New_York:20260409T190000
DTEND;TZID=America/New_York:20260409T210000
DTSTAMP:20260423T020850
CREATED:20250305T041048Z
LAST-MODIFIED:20250306T225714Z
UID:10018394-1775761200-1775768400@stnicholasoftolentinebronx.org
SUMMARY:7:00 pm Círculo
DESCRIPTION:
URL:https://stnicholasoftolentinebronx.org/event/700-circulo/2026-04-09/
LOCATION:NY
END:VEVENT
BEGIN:VEVENT
DTSTART;TZID=America/New_York:20260410T083000
DTEND;TZID=America/New_York:20260410T093000
DTSTAMP:20260423T020850
CREATED:20250305T035020Z
LAST-MODIFIED:20250305T035025Z
UID:10016014-1775809800-1775813400@stnicholasoftolentinebronx.org
SUMMARY:8:30 am Spanish Mass
DESCRIPTION:
URL:https://stnicholasoftolentinebronx.org/event/830-am-spanish-mass-3/2026-04-10/
LOCATION:St Nicholas of Tolentine Church\, 2345 University Avenue\, Bronx\, NY\, 10468\, United States
END:VEVENT
BEGIN:VEVENT
DTSTART;TZID=America/New_York:20260410T120000
DTEND;TZID=America/New_York:20260410T123000
DTSTAMP:20260423T020850
CREATED:20250305T040540Z
LAST-MODIFIED:20250305T040545Z
UID:10017318-1775822400-1775824200@stnicholasoftolentinebronx.org
SUMMARY:12:00 Noon English mass
DESCRIPTION:
URL:https://stnicholasoftolentinebronx.org/event/1200-noon-english-mass/2026-04-10/
LOCATION:St Nicholas of Tolentine Church\, 2345 University Avenue\, Bronx\, NY\, 10468\, United States
END:VEVENT
BEGIN:VEVENT
DTSTART;TZID=America/New_York:20260411T074500
DTEND;TZID=America/New_York:20260411T083000
DTSTAMP:20260423T020850
CREATED:20250313T023643Z
LAST-MODIFIED:20250313T023646Z
UID:10018675-1775893500-1775896200@stnicholasoftolentinebronx.org
SUMMARY:7:45 am Vietnamese Mass
DESCRIPTION:
URL:https://stnicholasoftolentinebronx.org/event/745-am-vietnamese-mass/2026-04-11/
LOCATION:St Nicholas of Tolentine Church\, 2345 University Avenue\, Bronx\, NY\, 10468\, United States
END:VEVENT
END:VCALENDAR