BEGIN:VCALENDAR
VERSION:2.0
PRODID:-//St. Nicholas of Tolentine Church - ECPv6.15.20//NONSGML v1.0//EN
CALSCALE:GREGORIAN
METHOD:PUBLISH
X-ORIGINAL-URL:https://stnicholasoftolentinebronx.org
X-WR-CALDESC:Events for St. Nicholas of Tolentine Church
REFRESH-INTERVAL;VALUE=DURATION:PT1H
X-Robots-Tag:noindex
X-PUBLISHED-TTL:PT1H
BEGIN:VTIMEZONE
TZID:America/New_York
BEGIN:DAYLIGHT
TZOFFSETFROM:-0500
TZOFFSETTO:-0400
TZNAME:EDT
DTSTART:20260308T070000
END:DAYLIGHT
BEGIN:STANDARD
TZOFFSETFROM:-0400
TZOFFSETTO:-0500
TZNAME:EST
DTSTART:20261101T060000
END:STANDARD
BEGIN:DAYLIGHT
TZOFFSETFROM:-0500
TZOFFSETTO:-0400
TZNAME:EDT
DTSTART:20270314T070000
END:DAYLIGHT
BEGIN:STANDARD
TZOFFSETFROM:-0400
TZOFFSETTO:-0500
TZNAME:EST
DTSTART:20271107T060000
END:STANDARD
BEGIN:DAYLIGHT
TZOFFSETFROM:-0500
TZOFFSETTO:-0400
TZNAME:EDT
DTSTART:20280312T070000
END:DAYLIGHT
BEGIN:STANDARD
TZOFFSETFROM:-0400
TZOFFSETTO:-0500
TZNAME:EST
DTSTART:20281105T060000
END:STANDARD
END:VTIMEZONE
BEGIN:VEVENT
DTSTART;TZID=America/New_York:20270225T083000
DTEND;TZID=America/New_York:20270225T093000
DTSTAMP:20260423T234449
CREATED:20250305T035020Z
LAST-MODIFIED:20250305T035025Z
UID:10016243-1803544200-1803547800@stnicholasoftolentinebronx.org
SUMMARY:8:30 am Spanish Mass
DESCRIPTION:
URL:https://stnicholasoftolentinebronx.org/event/830-am-spanish-mass-3/2027-02-25/
LOCATION:St Nicholas of Tolentine Church\, 2345 University Avenue\, Bronx\, NY\, 10468\, United States
END:VEVENT
BEGIN:VEVENT
DTSTART;TZID=America/New_York:20270225T120000
DTEND;TZID=America/New_York:20270225T123000
DTSTAMP:20260423T234449
CREATED:20250305T040540Z
LAST-MODIFIED:20250305T040545Z
UID:10017547-1803556800-1803558600@stnicholasoftolentinebronx.org
SUMMARY:12:00 Noon English mass
DESCRIPTION:
URL:https://stnicholasoftolentinebronx.org/event/1200-noon-english-mass/2027-02-25/
LOCATION:St Nicholas of Tolentine Church\, 2345 University Avenue\, Bronx\, NY\, 10468\, United States
END:VEVENT
BEGIN:VEVENT
DTSTART;TZID=America/New_York:20270225T190000
DTEND;TZID=America/New_York:20270225T210000
DTSTAMP:20260423T234449
CREATED:20250305T041048Z
LAST-MODIFIED:20250306T225714Z
UID:10018440-1803582000-1803589200@stnicholasoftolentinebronx.org
SUMMARY:7:00 pm Círculo
DESCRIPTION:
URL:https://stnicholasoftolentinebronx.org/event/700-circulo/2027-02-25/
LOCATION:NY
END:VEVENT
BEGIN:VEVENT
DTSTART;TZID=America/New_York:20270226T083000
DTEND;TZID=America/New_York:20270226T093000
DTSTAMP:20260423T234449
CREATED:20250305T035020Z
LAST-MODIFIED:20250305T035025Z
UID:10016244-1803630600-1803634200@stnicholasoftolentinebronx.org
SUMMARY:8:30 am Spanish Mass
DESCRIPTION:
URL:https://stnicholasoftolentinebronx.org/event/830-am-spanish-mass-3/2027-02-26/
LOCATION:St Nicholas of Tolentine Church\, 2345 University Avenue\, Bronx\, NY\, 10468\, United States
END:VEVENT
BEGIN:VEVENT
DTSTART;TZID=America/New_York:20270226T120000
DTEND;TZID=America/New_York:20270226T123000
DTSTAMP:20260423T234449
CREATED:20250305T040540Z
LAST-MODIFIED:20250305T040545Z
UID:10017548-1803643200-1803645000@stnicholasoftolentinebronx.org
SUMMARY:12:00 Noon English mass
DESCRIPTION:
URL:https://stnicholasoftolentinebronx.org/event/1200-noon-english-mass/2027-02-26/
LOCATION:St Nicholas of Tolentine Church\, 2345 University Avenue\, Bronx\, NY\, 10468\, United States
END:VEVENT
BEGIN:VEVENT
DTSTART;TZID=America/New_York:20270227T074500
DTEND;TZID=America/New_York:20270227T083000
DTSTAMP:20260423T234449
CREATED:20250313T023643Z
LAST-MODIFIED:20250313T023646Z
UID:10018721-1803714300-1803717000@stnicholasoftolentinebronx.org
SUMMARY:7:45 am Vietnamese Mass
DESCRIPTION:
URL:https://stnicholasoftolentinebronx.org/event/745-am-vietnamese-mass/2027-02-27/
LOCATION:St Nicholas of Tolentine Church\, 2345 University Avenue\, Bronx\, NY\, 10468\, United States
END:VEVENT
BEGIN:VEVENT
DTSTART;TZID=America/New_York:20270227T173000
DTEND;TZID=America/New_York:20270227T183000
DTSTAMP:20260423T234449
CREATED:20250313T023751Z
LAST-MODIFIED:20250313T023752Z
UID:10018982-1803749400-1803753000@stnicholasoftolentinebronx.org
SUMMARY:5:30 pm Confessions
DESCRIPTION:
URL:https://stnicholasoftolentinebronx.org/event/530-pm-confessions/2027-02-27/
LOCATION:St Nicholas of Tolentine Church\, 2345 University Avenue\, Bronx\, NY\, 10468\, United States
END:VEVENT
BEGIN:VEVENT
DTSTART;TZID=America/New_York:20270227T190000
DTEND;TZID=America/New_York:20270227T200000
DTSTAMP:20260423T234449
CREATED:20250313T023841Z
LAST-MODIFIED:20250313T023842Z
UID:10019243-1803754800-1803758400@stnicholasoftolentinebronx.org
SUMMARY:7:00 pm Spanish Mass
DESCRIPTION:
URL:https://stnicholasoftolentinebronx.org/event/700-pm-spanish-mass/2027-02-27/
LOCATION:St Nicholas of Tolentine Church\, 2345 University Avenue\, Bronx\, NY\, 10468\, United States
END:VEVENT
BEGIN:VEVENT
DTSTART;TZID=America/New_York:20270228T080000
DTEND;TZID=America/New_York:20270228T090000
DTSTAMP:20260423T234449
CREATED:20250313T023930Z
LAST-MODIFIED:20250418T035212Z
UID:10019504-1803801600-1803805200@stnicholasoftolentinebronx.org
SUMMARY:8:00 am English Mass
DESCRIPTION:
URL:https://stnicholasoftolentinebronx.org/event/800-am-english-mass/2027-02-28/
LOCATION:St Nicholas of Tolentine Church\, 2345 University Avenue\, Bronx\, NY\, 10468\, United States
END:VEVENT
BEGIN:VEVENT
DTSTART;TZID=America/New_York:20270228T093000
DTEND;TZID=America/New_York:20270228T110000
DTSTAMP:20260423T234449
CREATED:20250313T024022Z
LAST-MODIFIED:20250313T024024Z
UID:10019765-1803807000-1803812400@stnicholasoftolentinebronx.org
SUMMARY:9:30 am Spanish Mass
DESCRIPTION:
URL:https://stnicholasoftolentinebronx.org/event/930-am-spanish-mass/2027-02-28/
LOCATION:St Nicholas of Tolentine Church\, 2345 University Avenue\, Bronx\, NY\, 10468\, United States
END:VEVENT
BEGIN:VEVENT
DTSTART;TZID=America/New_York:20270228T113000
DTEND;TZID=America/New_York:20270228T123000
DTSTAMP:20260423T234449
CREATED:20250313T024110Z
LAST-MODIFIED:20250313T024112Z
UID:10020026-1803814200-1803817800@stnicholasoftolentinebronx.org
SUMMARY:11:30 am English Mass
DESCRIPTION:
URL:https://stnicholasoftolentinebronx.org/event/1130-am-english-mass/2027-02-28/
LOCATION:St Nicholas of Tolentine Church\, 2345 University Avenue\, Bronx\, NY\, 10468\, United States
END:VEVENT
BEGIN:VEVENT
DTSTART;TZID=America/New_York:20270228T133000
DTEND;TZID=America/New_York:20270228T143000
DTSTAMP:20260423T234449
CREATED:20250313T024158Z
LAST-MODIFIED:20250313T024339Z
UID:10020287-1803821400-1803825000@stnicholasoftolentinebronx.org
SUMMARY:1:30 pm Vietnamese Mass
DESCRIPTION:
URL:https://stnicholasoftolentinebronx.org/event/130-pm-vietnamese-mass/2027-02-28/
LOCATION:St Nicholas of Tolentine Church\, 2345 University Avenue\, Bronx\, NY\, 10468\, United States
END:VEVENT
BEGIN:VEVENT
DTSTART;TZID=America/New_York:20270301T083000
DTEND;TZID=America/New_York:20270301T093000
DTSTAMP:20260423T234449
CREATED:20250305T035020Z
LAST-MODIFIED:20250305T035025Z
UID:10016245-1803889800-1803893400@stnicholasoftolentinebronx.org
SUMMARY:8:30 am Spanish Mass
DESCRIPTION:
URL:https://stnicholasoftolentinebronx.org/event/830-am-spanish-mass-3/2027-03-01/
LOCATION:St Nicholas of Tolentine Church\, 2345 University Avenue\, Bronx\, NY\, 10468\, United States
END:VEVENT
BEGIN:VEVENT
DTSTART;TZID=America/New_York:20270301T120000
DTEND;TZID=America/New_York:20270301T123000
DTSTAMP:20260423T234449
CREATED:20250305T040540Z
LAST-MODIFIED:20250305T040545Z
UID:10017549-1803902400-1803904200@stnicholasoftolentinebronx.org
SUMMARY:12:00 Noon English mass
DESCRIPTION:
URL:https://stnicholasoftolentinebronx.org/event/1200-noon-english-mass/2027-03-01/
LOCATION:St Nicholas of Tolentine Church\, 2345 University Avenue\, Bronx\, NY\, 10468\, United States
END:VEVENT
BEGIN:VEVENT
DTSTART;TZID=America/New_York:20270302T083000
DTEND;TZID=America/New_York:20270302T093000
DTSTAMP:20260423T234449
CREATED:20250305T035020Z
LAST-MODIFIED:20250305T035025Z
UID:10016246-1803976200-1803979800@stnicholasoftolentinebronx.org
SUMMARY:8:30 am Spanish Mass
DESCRIPTION:
URL:https://stnicholasoftolentinebronx.org/event/830-am-spanish-mass-3/2027-03-02/
LOCATION:St Nicholas of Tolentine Church\, 2345 University Avenue\, Bronx\, NY\, 10468\, United States
END:VEVENT
BEGIN:VEVENT
DTSTART;TZID=America/New_York:20270302T120000
DTEND;TZID=America/New_York:20270302T123000
DTSTAMP:20260423T234449
CREATED:20250305T040540Z
LAST-MODIFIED:20250305T040545Z
UID:10017550-1803988800-1803990600@stnicholasoftolentinebronx.org
SUMMARY:12:00 Noon English mass
DESCRIPTION:
URL:https://stnicholasoftolentinebronx.org/event/1200-noon-english-mass/2027-03-02/
LOCATION:St Nicholas of Tolentine Church\, 2345 University Avenue\, Bronx\, NY\, 10468\, United States
END:VEVENT
BEGIN:VEVENT
DTSTART;TZID=America/New_York:20270303T083000
DTEND;TZID=America/New_York:20270303T093000
DTSTAMP:20260423T234449
CREATED:20250305T035020Z
LAST-MODIFIED:20250305T035025Z
UID:10016247-1804062600-1804066200@stnicholasoftolentinebronx.org
SUMMARY:8:30 am Spanish Mass
DESCRIPTION:
URL:https://stnicholasoftolentinebronx.org/event/830-am-spanish-mass-3/2027-03-03/
LOCATION:St Nicholas of Tolentine Church\, 2345 University Avenue\, Bronx\, NY\, 10468\, United States
END:VEVENT
BEGIN:VEVENT
DTSTART;TZID=America/New_York:20270303T120000
DTEND;TZID=America/New_York:20270303T123000
DTSTAMP:20260423T234449
CREATED:20250305T040540Z
LAST-MODIFIED:20250305T040545Z
UID:10017551-1804075200-1804077000@stnicholasoftolentinebronx.org
SUMMARY:12:00 Noon English mass
DESCRIPTION:
URL:https://stnicholasoftolentinebronx.org/event/1200-noon-english-mass/2027-03-03/
LOCATION:St Nicholas of Tolentine Church\, 2345 University Avenue\, Bronx\, NY\, 10468\, United States
END:VEVENT
BEGIN:VEVENT
DTSTART;TZID=America/New_York:20270304T083000
DTEND;TZID=America/New_York:20270304T093000
DTSTAMP:20260423T234449
CREATED:20250305T035020Z
LAST-MODIFIED:20250305T035025Z
UID:10016248-1804149000-1804152600@stnicholasoftolentinebronx.org
SUMMARY:8:30 am Spanish Mass
DESCRIPTION:
URL:https://stnicholasoftolentinebronx.org/event/830-am-spanish-mass-3/2027-03-04/
LOCATION:St Nicholas of Tolentine Church\, 2345 University Avenue\, Bronx\, NY\, 10468\, United States
END:VEVENT
BEGIN:VEVENT
DTSTART;TZID=America/New_York:20270304T120000
DTEND;TZID=America/New_York:20270304T123000
DTSTAMP:20260423T234449
CREATED:20250305T040540Z
LAST-MODIFIED:20250305T040545Z
UID:10017552-1804161600-1804163400@stnicholasoftolentinebronx.org
SUMMARY:12:00 Noon English mass
DESCRIPTION:
URL:https://stnicholasoftolentinebronx.org/event/1200-noon-english-mass/2027-03-04/
LOCATION:St Nicholas of Tolentine Church\, 2345 University Avenue\, Bronx\, NY\, 10468\, United States
END:VEVENT
BEGIN:VEVENT
DTSTART;TZID=America/New_York:20270304T190000
DTEND;TZID=America/New_York:20270304T210000
DTSTAMP:20260423T234449
CREATED:20250305T041048Z
LAST-MODIFIED:20250306T225714Z
UID:10018441-1804186800-1804194000@stnicholasoftolentinebronx.org
SUMMARY:7:00 pm Círculo
DESCRIPTION:
URL:https://stnicholasoftolentinebronx.org/event/700-circulo/2027-03-04/
LOCATION:NY
END:VEVENT
BEGIN:VEVENT
DTSTART;TZID=America/New_York:20270305T083000
DTEND;TZID=America/New_York:20270305T093000
DTSTAMP:20260423T234449
CREATED:20250305T035020Z
LAST-MODIFIED:20250305T035025Z
UID:10016249-1804235400-1804239000@stnicholasoftolentinebronx.org
SUMMARY:8:30 am Spanish Mass
DESCRIPTION:
URL:https://stnicholasoftolentinebronx.org/event/830-am-spanish-mass-3/2027-03-05/
LOCATION:St Nicholas of Tolentine Church\, 2345 University Avenue\, Bronx\, NY\, 10468\, United States
END:VEVENT
BEGIN:VEVENT
DTSTART;TZID=America/New_York:20270305T120000
DTEND;TZID=America/New_York:20270305T123000
DTSTAMP:20260423T234449
CREATED:20250305T040540Z
LAST-MODIFIED:20250305T040545Z
UID:10017553-1804248000-1804249800@stnicholasoftolentinebronx.org
SUMMARY:12:00 Noon English mass
DESCRIPTION:
URL:https://stnicholasoftolentinebronx.org/event/1200-noon-english-mass/2027-03-05/
LOCATION:St Nicholas of Tolentine Church\, 2345 University Avenue\, Bronx\, NY\, 10468\, United States
END:VEVENT
BEGIN:VEVENT
DTSTART;TZID=America/New_York:20270306T074500
DTEND;TZID=America/New_York:20270306T083000
DTSTAMP:20260423T234449
CREATED:20250313T023643Z
LAST-MODIFIED:20250313T023646Z
UID:10018722-1804319100-1804321800@stnicholasoftolentinebronx.org
SUMMARY:7:45 am Vietnamese Mass
DESCRIPTION:
URL:https://stnicholasoftolentinebronx.org/event/745-am-vietnamese-mass/2027-03-06/
LOCATION:St Nicholas of Tolentine Church\, 2345 University Avenue\, Bronx\, NY\, 10468\, United States
END:VEVENT
BEGIN:VEVENT
DTSTART;TZID=America/New_York:20270306T173000
DTEND;TZID=America/New_York:20270306T183000
DTSTAMP:20260423T234449
CREATED:20250313T023751Z
LAST-MODIFIED:20250313T023752Z
UID:10018983-1804354200-1804357800@stnicholasoftolentinebronx.org
SUMMARY:5:30 pm Confessions
DESCRIPTION:
URL:https://stnicholasoftolentinebronx.org/event/530-pm-confessions/2027-03-06/
LOCATION:St Nicholas of Tolentine Church\, 2345 University Avenue\, Bronx\, NY\, 10468\, United States
END:VEVENT
BEGIN:VEVENT
DTSTART;TZID=America/New_York:20270306T190000
DTEND;TZID=America/New_York:20270306T200000
DTSTAMP:20260423T234449
CREATED:20250313T023841Z
LAST-MODIFIED:20250313T023842Z
UID:10019244-1804359600-1804363200@stnicholasoftolentinebronx.org
SUMMARY:7:00 pm Spanish Mass
DESCRIPTION:
URL:https://stnicholasoftolentinebronx.org/event/700-pm-spanish-mass/2027-03-06/
LOCATION:St Nicholas of Tolentine Church\, 2345 University Avenue\, Bronx\, NY\, 10468\, United States
END:VEVENT
BEGIN:VEVENT
DTSTART;TZID=America/New_York:20270307T080000
DTEND;TZID=America/New_York:20270307T090000
DTSTAMP:20260423T234449
CREATED:20250313T023930Z
LAST-MODIFIED:20250418T035212Z
UID:10019505-1804406400-1804410000@stnicholasoftolentinebronx.org
SUMMARY:8:00 am English Mass
DESCRIPTION:
URL:https://stnicholasoftolentinebronx.org/event/800-am-english-mass/2027-03-07/
LOCATION:St Nicholas of Tolentine Church\, 2345 University Avenue\, Bronx\, NY\, 10468\, United States
END:VEVENT
BEGIN:VEVENT
DTSTART;TZID=America/New_York:20270307T093000
DTEND;TZID=America/New_York:20270307T110000
DTSTAMP:20260423T234449
CREATED:20250313T024022Z
LAST-MODIFIED:20250313T024024Z
UID:10019766-1804411800-1804417200@stnicholasoftolentinebronx.org
SUMMARY:9:30 am Spanish Mass
DESCRIPTION:
URL:https://stnicholasoftolentinebronx.org/event/930-am-spanish-mass/2027-03-07/
LOCATION:St Nicholas of Tolentine Church\, 2345 University Avenue\, Bronx\, NY\, 10468\, United States
END:VEVENT
BEGIN:VEVENT
DTSTART;TZID=America/New_York:20270307T113000
DTEND;TZID=America/New_York:20270307T123000
DTSTAMP:20260423T234449
CREATED:20250313T024110Z
LAST-MODIFIED:20250313T024112Z
UID:10020027-1804419000-1804422600@stnicholasoftolentinebronx.org
SUMMARY:11:30 am English Mass
DESCRIPTION:
URL:https://stnicholasoftolentinebronx.org/event/1130-am-english-mass/2027-03-07/
LOCATION:St Nicholas of Tolentine Church\, 2345 University Avenue\, Bronx\, NY\, 10468\, United States
END:VEVENT
BEGIN:VEVENT
DTSTART;TZID=America/New_York:20270307T133000
DTEND;TZID=America/New_York:20270307T143000
DTSTAMP:20260423T234449
CREATED:20250313T024158Z
LAST-MODIFIED:20250313T024339Z
UID:10020288-1804426200-1804429800@stnicholasoftolentinebronx.org
SUMMARY:1:30 pm Vietnamese Mass
DESCRIPTION:
URL:https://stnicholasoftolentinebronx.org/event/130-pm-vietnamese-mass/2027-03-07/
LOCATION:St Nicholas of Tolentine Church\, 2345 University Avenue\, Bronx\, NY\, 10468\, United States
END:VEVENT
END:VCALENDAR