BEGIN:VCALENDAR
VERSION:2.0
PRODID:-//St. Nicholas of Tolentine Church - ECPv6.15.20//NONSGML v1.0//EN
CALSCALE:GREGORIAN
METHOD:PUBLISH
X-ORIGINAL-URL:https://stnicholasoftolentinebronx.org
X-WR-CALDESC:Events for St. Nicholas of Tolentine Church
REFRESH-INTERVAL;VALUE=DURATION:PT1H
X-Robots-Tag:noindex
X-PUBLISHED-TTL:PT1H
BEGIN:VTIMEZONE
TZID:America/New_York
BEGIN:DAYLIGHT
TZOFFSETFROM:-0500
TZOFFSETTO:-0400
TZNAME:EDT
DTSTART:20260308T070000
END:DAYLIGHT
BEGIN:STANDARD
TZOFFSETFROM:-0400
TZOFFSETTO:-0500
TZNAME:EST
DTSTART:20261101T060000
END:STANDARD
BEGIN:DAYLIGHT
TZOFFSETFROM:-0500
TZOFFSETTO:-0400
TZNAME:EDT
DTSTART:20270314T070000
END:DAYLIGHT
BEGIN:STANDARD
TZOFFSETFROM:-0400
TZOFFSETTO:-0500
TZNAME:EST
DTSTART:20271107T060000
END:STANDARD
BEGIN:DAYLIGHT
TZOFFSETFROM:-0500
TZOFFSETTO:-0400
TZNAME:EDT
DTSTART:20280312T070000
END:DAYLIGHT
BEGIN:STANDARD
TZOFFSETFROM:-0400
TZOFFSETTO:-0500
TZNAME:EST
DTSTART:20281105T060000
END:STANDARD
END:VTIMEZONE
BEGIN:VEVENT
DTSTART;TZID=America/New_York:20271203T083000
DTEND;TZID=America/New_York:20271203T093000
DTSTAMP:20260425T115456
CREATED:20250305T035020Z
LAST-MODIFIED:20250305T035025Z
UID:10016444-1827822600-1827826200@stnicholasoftolentinebronx.org
SUMMARY:8:30 am Spanish Mass
DESCRIPTION:
URL:https://stnicholasoftolentinebronx.org/event/830-am-spanish-mass-3/2027-12-03/
LOCATION:St Nicholas of Tolentine Church\, 2345 University Avenue\, Bronx\, NY\, 10468\, United States
END:VEVENT
BEGIN:VEVENT
DTSTART;TZID=America/New_York:20271203T120000
DTEND;TZID=America/New_York:20271203T123000
DTSTAMP:20260425T115456
CREATED:20250305T040540Z
LAST-MODIFIED:20250305T040545Z
UID:10017748-1827835200-1827837000@stnicholasoftolentinebronx.org
SUMMARY:12:00 Noon English mass
DESCRIPTION:
URL:https://stnicholasoftolentinebronx.org/event/1200-noon-english-mass/2027-12-03/
LOCATION:St Nicholas of Tolentine Church\, 2345 University Avenue\, Bronx\, NY\, 10468\, United States
END:VEVENT
BEGIN:VEVENT
DTSTART;TZID=America/New_York:20271204T074500
DTEND;TZID=America/New_York:20271204T083000
DTSTAMP:20260425T115456
CREATED:20250313T023643Z
LAST-MODIFIED:20250313T023646Z
UID:10018761-1827906300-1827909000@stnicholasoftolentinebronx.org
SUMMARY:7:45 am Vietnamese Mass
DESCRIPTION:
URL:https://stnicholasoftolentinebronx.org/event/745-am-vietnamese-mass/2027-12-04/
LOCATION:St Nicholas of Tolentine Church\, 2345 University Avenue\, Bronx\, NY\, 10468\, United States
END:VEVENT
BEGIN:VEVENT
DTSTART;TZID=America/New_York:20271204T173000
DTEND;TZID=America/New_York:20271204T183000
DTSTAMP:20260425T115456
CREATED:20250313T023751Z
LAST-MODIFIED:20250313T023752Z
UID:10019022-1827941400-1827945000@stnicholasoftolentinebronx.org
SUMMARY:5:30 pm Confessions
DESCRIPTION:
URL:https://stnicholasoftolentinebronx.org/event/530-pm-confessions/2027-12-04/
LOCATION:St Nicholas of Tolentine Church\, 2345 University Avenue\, Bronx\, NY\, 10468\, United States
END:VEVENT
BEGIN:VEVENT
DTSTART;TZID=America/New_York:20271204T190000
DTEND;TZID=America/New_York:20271204T200000
DTSTAMP:20260425T115456
CREATED:20250313T023841Z
LAST-MODIFIED:20250313T023842Z
UID:10019283-1827946800-1827950400@stnicholasoftolentinebronx.org
SUMMARY:7:00 pm Spanish Mass
DESCRIPTION:
URL:https://stnicholasoftolentinebronx.org/event/700-pm-spanish-mass/2027-12-04/
LOCATION:St Nicholas of Tolentine Church\, 2345 University Avenue\, Bronx\, NY\, 10468\, United States
END:VEVENT
BEGIN:VEVENT
DTSTART;TZID=America/New_York:20271205T080000
DTEND;TZID=America/New_York:20271205T090000
DTSTAMP:20260425T115456
CREATED:20250313T023930Z
LAST-MODIFIED:20250418T035212Z
UID:10019544-1827993600-1827997200@stnicholasoftolentinebronx.org
SUMMARY:8:00 am English Mass
DESCRIPTION:
URL:https://stnicholasoftolentinebronx.org/event/800-am-english-mass/2027-12-05/
LOCATION:St Nicholas of Tolentine Church\, 2345 University Avenue\, Bronx\, NY\, 10468\, United States
END:VEVENT
BEGIN:VEVENT
DTSTART;TZID=America/New_York:20271205T093000
DTEND;TZID=America/New_York:20271205T110000
DTSTAMP:20260425T115456
CREATED:20250313T024022Z
LAST-MODIFIED:20250313T024024Z
UID:10019805-1827999000-1828004400@stnicholasoftolentinebronx.org
SUMMARY:9:30 am Spanish Mass
DESCRIPTION:
URL:https://stnicholasoftolentinebronx.org/event/930-am-spanish-mass/2027-12-05/
LOCATION:St Nicholas of Tolentine Church\, 2345 University Avenue\, Bronx\, NY\, 10468\, United States
END:VEVENT
BEGIN:VEVENT
DTSTART;TZID=America/New_York:20271205T113000
DTEND;TZID=America/New_York:20271205T123000
DTSTAMP:20260425T115456
CREATED:20250313T024110Z
LAST-MODIFIED:20250313T024112Z
UID:10020066-1828006200-1828009800@stnicholasoftolentinebronx.org
SUMMARY:11:30 am English Mass
DESCRIPTION:
URL:https://stnicholasoftolentinebronx.org/event/1130-am-english-mass/2027-12-05/
LOCATION:St Nicholas of Tolentine Church\, 2345 University Avenue\, Bronx\, NY\, 10468\, United States
END:VEVENT
BEGIN:VEVENT
DTSTART;TZID=America/New_York:20271205T133000
DTEND;TZID=America/New_York:20271205T143000
DTSTAMP:20260425T115456
CREATED:20250313T024158Z
LAST-MODIFIED:20250313T024339Z
UID:10020327-1828013400-1828017000@stnicholasoftolentinebronx.org
SUMMARY:1:30 pm Vietnamese Mass
DESCRIPTION:
URL:https://stnicholasoftolentinebronx.org/event/130-pm-vietnamese-mass/2027-12-05/
LOCATION:St Nicholas of Tolentine Church\, 2345 University Avenue\, Bronx\, NY\, 10468\, United States
END:VEVENT
BEGIN:VEVENT
DTSTART;TZID=America/New_York:20271206T083000
DTEND;TZID=America/New_York:20271206T093000
DTSTAMP:20260425T115456
CREATED:20250305T035020Z
LAST-MODIFIED:20250305T035025Z
UID:10016445-1828081800-1828085400@stnicholasoftolentinebronx.org
SUMMARY:8:30 am Spanish Mass
DESCRIPTION:
URL:https://stnicholasoftolentinebronx.org/event/830-am-spanish-mass-3/2027-12-06/
LOCATION:St Nicholas of Tolentine Church\, 2345 University Avenue\, Bronx\, NY\, 10468\, United States
END:VEVENT
BEGIN:VEVENT
DTSTART;TZID=America/New_York:20271206T120000
DTEND;TZID=America/New_York:20271206T123000
DTSTAMP:20260425T115456
CREATED:20250305T040540Z
LAST-MODIFIED:20250305T040545Z
UID:10017749-1828094400-1828096200@stnicholasoftolentinebronx.org
SUMMARY:12:00 Noon English mass
DESCRIPTION:
URL:https://stnicholasoftolentinebronx.org/event/1200-noon-english-mass/2027-12-06/
LOCATION:St Nicholas of Tolentine Church\, 2345 University Avenue\, Bronx\, NY\, 10468\, United States
END:VEVENT
BEGIN:VEVENT
DTSTART;TZID=America/New_York:20271207T083000
DTEND;TZID=America/New_York:20271207T093000
DTSTAMP:20260425T115456
CREATED:20250305T035020Z
LAST-MODIFIED:20250305T035025Z
UID:10016446-1828168200-1828171800@stnicholasoftolentinebronx.org
SUMMARY:8:30 am Spanish Mass
DESCRIPTION:
URL:https://stnicholasoftolentinebronx.org/event/830-am-spanish-mass-3/2027-12-07/
LOCATION:St Nicholas of Tolentine Church\, 2345 University Avenue\, Bronx\, NY\, 10468\, United States
END:VEVENT
BEGIN:VEVENT
DTSTART;TZID=America/New_York:20271207T120000
DTEND;TZID=America/New_York:20271207T123000
DTSTAMP:20260425T115456
CREATED:20250305T040540Z
LAST-MODIFIED:20250305T040545Z
UID:10017750-1828180800-1828182600@stnicholasoftolentinebronx.org
SUMMARY:12:00 Noon English mass
DESCRIPTION:
URL:https://stnicholasoftolentinebronx.org/event/1200-noon-english-mass/2027-12-07/
LOCATION:St Nicholas of Tolentine Church\, 2345 University Avenue\, Bronx\, NY\, 10468\, United States
END:VEVENT
BEGIN:VEVENT
DTSTART;TZID=America/New_York:20271208T083000
DTEND;TZID=America/New_York:20271208T093000
DTSTAMP:20260425T115456
CREATED:20250305T035020Z
LAST-MODIFIED:20250305T035025Z
UID:10016447-1828254600-1828258200@stnicholasoftolentinebronx.org
SUMMARY:8:30 am Spanish Mass
DESCRIPTION:
URL:https://stnicholasoftolentinebronx.org/event/830-am-spanish-mass-3/2027-12-08/
LOCATION:St Nicholas of Tolentine Church\, 2345 University Avenue\, Bronx\, NY\, 10468\, United States
END:VEVENT
BEGIN:VEVENT
DTSTART;TZID=America/New_York:20271208T120000
DTEND;TZID=America/New_York:20271208T123000
DTSTAMP:20260425T115456
CREATED:20250305T040540Z
LAST-MODIFIED:20250305T040545Z
UID:10017751-1828267200-1828269000@stnicholasoftolentinebronx.org
SUMMARY:12:00 Noon English mass
DESCRIPTION:
URL:https://stnicholasoftolentinebronx.org/event/1200-noon-english-mass/2027-12-08/
LOCATION:St Nicholas of Tolentine Church\, 2345 University Avenue\, Bronx\, NY\, 10468\, United States
END:VEVENT
BEGIN:VEVENT
DTSTART;TZID=America/New_York:20271209T083000
DTEND;TZID=America/New_York:20271209T093000
DTSTAMP:20260425T115456
CREATED:20250305T035020Z
LAST-MODIFIED:20250305T035025Z
UID:10016448-1828341000-1828344600@stnicholasoftolentinebronx.org
SUMMARY:8:30 am Spanish Mass
DESCRIPTION:
URL:https://stnicholasoftolentinebronx.org/event/830-am-spanish-mass-3/2027-12-09/
LOCATION:St Nicholas of Tolentine Church\, 2345 University Avenue\, Bronx\, NY\, 10468\, United States
END:VEVENT
BEGIN:VEVENT
DTSTART;TZID=America/New_York:20271209T120000
DTEND;TZID=America/New_York:20271209T123000
DTSTAMP:20260425T115456
CREATED:20250305T040540Z
LAST-MODIFIED:20250305T040545Z
UID:10017752-1828353600-1828355400@stnicholasoftolentinebronx.org
SUMMARY:12:00 Noon English mass
DESCRIPTION:
URL:https://stnicholasoftolentinebronx.org/event/1200-noon-english-mass/2027-12-09/
LOCATION:St Nicholas of Tolentine Church\, 2345 University Avenue\, Bronx\, NY\, 10468\, United States
END:VEVENT
BEGIN:VEVENT
DTSTART;TZID=America/New_York:20271209T190000
DTEND;TZID=America/New_York:20271209T210000
DTSTAMP:20260425T115456
CREATED:20250305T041048Z
LAST-MODIFIED:20250306T225714Z
UID:10018481-1828378800-1828386000@stnicholasoftolentinebronx.org
SUMMARY:7:00 pm Círculo
DESCRIPTION:
URL:https://stnicholasoftolentinebronx.org/event/700-circulo/2027-12-09/
LOCATION:NY
END:VEVENT
BEGIN:VEVENT
DTSTART;TZID=America/New_York:20271210T083000
DTEND;TZID=America/New_York:20271210T093000
DTSTAMP:20260425T115456
CREATED:20250305T035020Z
LAST-MODIFIED:20250305T035025Z
UID:10016449-1828427400-1828431000@stnicholasoftolentinebronx.org
SUMMARY:8:30 am Spanish Mass
DESCRIPTION:
URL:https://stnicholasoftolentinebronx.org/event/830-am-spanish-mass-3/2027-12-10/
LOCATION:St Nicholas of Tolentine Church\, 2345 University Avenue\, Bronx\, NY\, 10468\, United States
END:VEVENT
BEGIN:VEVENT
DTSTART;TZID=America/New_York:20271210T120000
DTEND;TZID=America/New_York:20271210T123000
DTSTAMP:20260425T115456
CREATED:20250305T040540Z
LAST-MODIFIED:20250305T040545Z
UID:10017753-1828440000-1828441800@stnicholasoftolentinebronx.org
SUMMARY:12:00 Noon English mass
DESCRIPTION:
URL:https://stnicholasoftolentinebronx.org/event/1200-noon-english-mass/2027-12-10/
LOCATION:St Nicholas of Tolentine Church\, 2345 University Avenue\, Bronx\, NY\, 10468\, United States
END:VEVENT
BEGIN:VEVENT
DTSTART;TZID=America/New_York:20271211T074500
DTEND;TZID=America/New_York:20271211T083000
DTSTAMP:20260425T115456
CREATED:20250313T023643Z
LAST-MODIFIED:20250313T023646Z
UID:10018762-1828511100-1828513800@stnicholasoftolentinebronx.org
SUMMARY:7:45 am Vietnamese Mass
DESCRIPTION:
URL:https://stnicholasoftolentinebronx.org/event/745-am-vietnamese-mass/2027-12-11/
LOCATION:St Nicholas of Tolentine Church\, 2345 University Avenue\, Bronx\, NY\, 10468\, United States
END:VEVENT
BEGIN:VEVENT
DTSTART;TZID=America/New_York:20271211T173000
DTEND;TZID=America/New_York:20271211T183000
DTSTAMP:20260425T115456
CREATED:20250313T023751Z
LAST-MODIFIED:20250313T023752Z
UID:10019023-1828546200-1828549800@stnicholasoftolentinebronx.org
SUMMARY:5:30 pm Confessions
DESCRIPTION:
URL:https://stnicholasoftolentinebronx.org/event/530-pm-confessions/2027-12-11/
LOCATION:St Nicholas of Tolentine Church\, 2345 University Avenue\, Bronx\, NY\, 10468\, United States
END:VEVENT
BEGIN:VEVENT
DTSTART;TZID=America/New_York:20271211T190000
DTEND;TZID=America/New_York:20271211T200000
DTSTAMP:20260425T115456
CREATED:20250313T023841Z
LAST-MODIFIED:20250313T023842Z
UID:10019284-1828551600-1828555200@stnicholasoftolentinebronx.org
SUMMARY:7:00 pm Spanish Mass
DESCRIPTION:
URL:https://stnicholasoftolentinebronx.org/event/700-pm-spanish-mass/2027-12-11/
LOCATION:St Nicholas of Tolentine Church\, 2345 University Avenue\, Bronx\, NY\, 10468\, United States
END:VEVENT
BEGIN:VEVENT
DTSTART;TZID=America/New_York:20271212T080000
DTEND;TZID=America/New_York:20271212T090000
DTSTAMP:20260425T115456
CREATED:20250313T023930Z
LAST-MODIFIED:20250418T035212Z
UID:10019545-1828598400-1828602000@stnicholasoftolentinebronx.org
SUMMARY:8:00 am English Mass
DESCRIPTION:
URL:https://stnicholasoftolentinebronx.org/event/800-am-english-mass/2027-12-12/
LOCATION:St Nicholas of Tolentine Church\, 2345 University Avenue\, Bronx\, NY\, 10468\, United States
END:VEVENT
BEGIN:VEVENT
DTSTART;TZID=America/New_York:20271212T093000
DTEND;TZID=America/New_York:20271212T110000
DTSTAMP:20260425T115456
CREATED:20250313T024022Z
LAST-MODIFIED:20250313T024024Z
UID:10019806-1828603800-1828609200@stnicholasoftolentinebronx.org
SUMMARY:9:30 am Spanish Mass
DESCRIPTION:
URL:https://stnicholasoftolentinebronx.org/event/930-am-spanish-mass/2027-12-12/
LOCATION:St Nicholas of Tolentine Church\, 2345 University Avenue\, Bronx\, NY\, 10468\, United States
END:VEVENT
BEGIN:VEVENT
DTSTART;TZID=America/New_York:20271212T113000
DTEND;TZID=America/New_York:20271212T123000
DTSTAMP:20260425T115456
CREATED:20250313T024110Z
LAST-MODIFIED:20250313T024112Z
UID:10020067-1828611000-1828614600@stnicholasoftolentinebronx.org
SUMMARY:11:30 am English Mass
DESCRIPTION:
URL:https://stnicholasoftolentinebronx.org/event/1130-am-english-mass/2027-12-12/
LOCATION:St Nicholas of Tolentine Church\, 2345 University Avenue\, Bronx\, NY\, 10468\, United States
END:VEVENT
BEGIN:VEVENT
DTSTART;TZID=America/New_York:20271212T133000
DTEND;TZID=America/New_York:20271212T143000
DTSTAMP:20260425T115456
CREATED:20250313T024158Z
LAST-MODIFIED:20250313T024339Z
UID:10020328-1828618200-1828621800@stnicholasoftolentinebronx.org
SUMMARY:1:30 pm Vietnamese Mass
DESCRIPTION:
URL:https://stnicholasoftolentinebronx.org/event/130-pm-vietnamese-mass/2027-12-12/
LOCATION:St Nicholas of Tolentine Church\, 2345 University Avenue\, Bronx\, NY\, 10468\, United States
END:VEVENT
BEGIN:VEVENT
DTSTART;TZID=America/New_York:20271213T083000
DTEND;TZID=America/New_York:20271213T093000
DTSTAMP:20260425T115456
CREATED:20250305T035020Z
LAST-MODIFIED:20250305T035025Z
UID:10016450-1828686600-1828690200@stnicholasoftolentinebronx.org
SUMMARY:8:30 am Spanish Mass
DESCRIPTION:
URL:https://stnicholasoftolentinebronx.org/event/830-am-spanish-mass-3/2027-12-13/
LOCATION:St Nicholas of Tolentine Church\, 2345 University Avenue\, Bronx\, NY\, 10468\, United States
END:VEVENT
BEGIN:VEVENT
DTSTART;TZID=America/New_York:20271213T120000
DTEND;TZID=America/New_York:20271213T123000
DTSTAMP:20260425T115456
CREATED:20250305T040540Z
LAST-MODIFIED:20250305T040545Z
UID:10017754-1828699200-1828701000@stnicholasoftolentinebronx.org
SUMMARY:12:00 Noon English mass
DESCRIPTION:
URL:https://stnicholasoftolentinebronx.org/event/1200-noon-english-mass/2027-12-13/
LOCATION:St Nicholas of Tolentine Church\, 2345 University Avenue\, Bronx\, NY\, 10468\, United States
END:VEVENT
BEGIN:VEVENT
DTSTART;TZID=America/New_York:20271214T083000
DTEND;TZID=America/New_York:20271214T093000
DTSTAMP:20260425T115456
CREATED:20250305T035020Z
LAST-MODIFIED:20250305T035025Z
UID:10016451-1828773000-1828776600@stnicholasoftolentinebronx.org
SUMMARY:8:30 am Spanish Mass
DESCRIPTION:
URL:https://stnicholasoftolentinebronx.org/event/830-am-spanish-mass-3/2027-12-14/
LOCATION:St Nicholas of Tolentine Church\, 2345 University Avenue\, Bronx\, NY\, 10468\, United States
END:VEVENT
END:VCALENDAR