BEGIN:VCALENDAR
VERSION:2.0
PRODID:-//St. Nicholas of Tolentine Church - ECPv6.15.20//NONSGML v1.0//EN
CALSCALE:GREGORIAN
METHOD:PUBLISH
X-ORIGINAL-URL:https://stnicholasoftolentinebronx.org
X-WR-CALDESC:Events for St. Nicholas of Tolentine Church
REFRESH-INTERVAL;VALUE=DURATION:PT1H
X-Robots-Tag:noindex
X-PUBLISHED-TTL:PT1H
BEGIN:VTIMEZONE
TZID:America/New_York
BEGIN:DAYLIGHT
TZOFFSETFROM:-0500
TZOFFSETTO:-0400
TZNAME:EDT
DTSTART:20260308T070000
END:DAYLIGHT
BEGIN:STANDARD
TZOFFSETFROM:-0400
TZOFFSETTO:-0500
TZNAME:EST
DTSTART:20261101T060000
END:STANDARD
BEGIN:DAYLIGHT
TZOFFSETFROM:-0500
TZOFFSETTO:-0400
TZNAME:EDT
DTSTART:20270314T070000
END:DAYLIGHT
BEGIN:STANDARD
TZOFFSETFROM:-0400
TZOFFSETTO:-0500
TZNAME:EST
DTSTART:20271107T060000
END:STANDARD
BEGIN:DAYLIGHT
TZOFFSETFROM:-0500
TZOFFSETTO:-0400
TZNAME:EDT
DTSTART:20280312T070000
END:DAYLIGHT
BEGIN:STANDARD
TZOFFSETFROM:-0400
TZOFFSETTO:-0500
TZNAME:EST
DTSTART:20281105T060000
END:STANDARD
BEGIN:DAYLIGHT
TZOFFSETFROM:-0500
TZOFFSETTO:-0400
TZNAME:EDT
DTSTART:20290311T070000
END:DAYLIGHT
BEGIN:STANDARD
TZOFFSETFROM:-0400
TZOFFSETTO:-0500
TZNAME:EST
DTSTART:20291104T060000
END:STANDARD
END:VTIMEZONE
BEGIN:VEVENT
DTSTART;TZID=America/New_York:20271227T083000
DTEND;TZID=America/New_York:20271227T093000
DTSTAMP:20260425T114726
CREATED:20250305T035020Z
LAST-MODIFIED:20250305T035025Z
UID:10016460-1829896200-1829899800@stnicholasoftolentinebronx.org
SUMMARY:8:30 am Spanish Mass
DESCRIPTION:
URL:https://stnicholasoftolentinebronx.org/event/830-am-spanish-mass-3/2027-12-27/
LOCATION:St Nicholas of Tolentine Church\, 2345 University Avenue\, Bronx\, NY\, 10468\, United States
END:VEVENT
BEGIN:VEVENT
DTSTART;TZID=America/New_York:20271227T120000
DTEND;TZID=America/New_York:20271227T123000
DTSTAMP:20260425T114726
CREATED:20250305T040540Z
LAST-MODIFIED:20250305T040545Z
UID:10017764-1829908800-1829910600@stnicholasoftolentinebronx.org
SUMMARY:12:00 Noon English mass
DESCRIPTION:
URL:https://stnicholasoftolentinebronx.org/event/1200-noon-english-mass/2027-12-27/
LOCATION:St Nicholas of Tolentine Church\, 2345 University Avenue\, Bronx\, NY\, 10468\, United States
END:VEVENT
BEGIN:VEVENT
DTSTART;TZID=America/New_York:20271228T083000
DTEND;TZID=America/New_York:20271228T093000
DTSTAMP:20260425T114726
CREATED:20250305T035020Z
LAST-MODIFIED:20250305T035025Z
UID:10016461-1829982600-1829986200@stnicholasoftolentinebronx.org
SUMMARY:8:30 am Spanish Mass
DESCRIPTION:
URL:https://stnicholasoftolentinebronx.org/event/830-am-spanish-mass-3/2027-12-28/
LOCATION:St Nicholas of Tolentine Church\, 2345 University Avenue\, Bronx\, NY\, 10468\, United States
END:VEVENT
BEGIN:VEVENT
DTSTART;TZID=America/New_York:20271228T120000
DTEND;TZID=America/New_York:20271228T123000
DTSTAMP:20260425T114726
CREATED:20250305T040540Z
LAST-MODIFIED:20250305T040545Z
UID:10017765-1829995200-1829997000@stnicholasoftolentinebronx.org
SUMMARY:12:00 Noon English mass
DESCRIPTION:
URL:https://stnicholasoftolentinebronx.org/event/1200-noon-english-mass/2027-12-28/
LOCATION:St Nicholas of Tolentine Church\, 2345 University Avenue\, Bronx\, NY\, 10468\, United States
END:VEVENT
BEGIN:VEVENT
DTSTART;TZID=America/New_York:20271229T083000
DTEND;TZID=America/New_York:20271229T093000
DTSTAMP:20260425T114726
CREATED:20250305T035020Z
LAST-MODIFIED:20250305T035025Z
UID:10016462-1830069000-1830072600@stnicholasoftolentinebronx.org
SUMMARY:8:30 am Spanish Mass
DESCRIPTION:
URL:https://stnicholasoftolentinebronx.org/event/830-am-spanish-mass-3/2027-12-29/
LOCATION:St Nicholas of Tolentine Church\, 2345 University Avenue\, Bronx\, NY\, 10468\, United States
END:VEVENT
BEGIN:VEVENT
DTSTART;TZID=America/New_York:20271229T120000
DTEND;TZID=America/New_York:20271229T123000
DTSTAMP:20260425T114726
CREATED:20250305T040540Z
LAST-MODIFIED:20250305T040545Z
UID:10017766-1830081600-1830083400@stnicholasoftolentinebronx.org
SUMMARY:12:00 Noon English mass
DESCRIPTION:
URL:https://stnicholasoftolentinebronx.org/event/1200-noon-english-mass/2027-12-29/
LOCATION:St Nicholas of Tolentine Church\, 2345 University Avenue\, Bronx\, NY\, 10468\, United States
END:VEVENT
BEGIN:VEVENT
DTSTART;TZID=America/New_York:20271230T083000
DTEND;TZID=America/New_York:20271230T093000
DTSTAMP:20260425T114726
CREATED:20250305T035020Z
LAST-MODIFIED:20250305T035025Z
UID:10016463-1830155400-1830159000@stnicholasoftolentinebronx.org
SUMMARY:8:30 am Spanish Mass
DESCRIPTION:
URL:https://stnicholasoftolentinebronx.org/event/830-am-spanish-mass-3/2027-12-30/
LOCATION:St Nicholas of Tolentine Church\, 2345 University Avenue\, Bronx\, NY\, 10468\, United States
END:VEVENT
BEGIN:VEVENT
DTSTART;TZID=America/New_York:20271230T120000
DTEND;TZID=America/New_York:20271230T123000
DTSTAMP:20260425T114726
CREATED:20250305T040540Z
LAST-MODIFIED:20250305T040545Z
UID:10017767-1830168000-1830169800@stnicholasoftolentinebronx.org
SUMMARY:12:00 Noon English mass
DESCRIPTION:
URL:https://stnicholasoftolentinebronx.org/event/1200-noon-english-mass/2027-12-30/
LOCATION:St Nicholas of Tolentine Church\, 2345 University Avenue\, Bronx\, NY\, 10468\, United States
END:VEVENT
BEGIN:VEVENT
DTSTART;TZID=America/New_York:20271230T190000
DTEND;TZID=America/New_York:20271230T210000
DTSTAMP:20260425T114726
CREATED:20250305T041048Z
LAST-MODIFIED:20250306T225714Z
UID:10018484-1830193200-1830200400@stnicholasoftolentinebronx.org
SUMMARY:7:00 pm Círculo
DESCRIPTION:
URL:https://stnicholasoftolentinebronx.org/event/700-circulo/2027-12-30/
LOCATION:NY
END:VEVENT
BEGIN:VEVENT
DTSTART;TZID=America/New_York:20271231T083000
DTEND;TZID=America/New_York:20271231T093000
DTSTAMP:20260425T114726
CREATED:20250305T035020Z
LAST-MODIFIED:20250305T035025Z
UID:10016464-1830241800-1830245400@stnicholasoftolentinebronx.org
SUMMARY:8:30 am Spanish Mass
DESCRIPTION:
URL:https://stnicholasoftolentinebronx.org/event/830-am-spanish-mass-3/2027-12-31/
LOCATION:St Nicholas of Tolentine Church\, 2345 University Avenue\, Bronx\, NY\, 10468\, United States
END:VEVENT
BEGIN:VEVENT
DTSTART;TZID=America/New_York:20271231T120000
DTEND;TZID=America/New_York:20271231T123000
DTSTAMP:20260425T114726
CREATED:20250305T040540Z
LAST-MODIFIED:20250305T040545Z
UID:10017768-1830254400-1830256200@stnicholasoftolentinebronx.org
SUMMARY:12:00 Noon English mass
DESCRIPTION:
URL:https://stnicholasoftolentinebronx.org/event/1200-noon-english-mass/2027-12-31/
LOCATION:St Nicholas of Tolentine Church\, 2345 University Avenue\, Bronx\, NY\, 10468\, United States
END:VEVENT
BEGIN:VEVENT
DTSTART;TZID=America/New_York:20280101T074500
DTEND;TZID=America/New_York:20280101T083000
DTSTAMP:20260425T114726
CREATED:20250313T023643Z
LAST-MODIFIED:20250313T023646Z
UID:10018765-1830325500-1830328200@stnicholasoftolentinebronx.org
SUMMARY:7:45 am Vietnamese Mass
DESCRIPTION:
URL:https://stnicholasoftolentinebronx.org/event/745-am-vietnamese-mass/2028-01-01/
LOCATION:St Nicholas of Tolentine Church\, 2345 University Avenue\, Bronx\, NY\, 10468\, United States
END:VEVENT
BEGIN:VEVENT
DTSTART;TZID=America/New_York:20280101T173000
DTEND;TZID=America/New_York:20280101T183000
DTSTAMP:20260425T114726
CREATED:20250313T023751Z
LAST-MODIFIED:20250313T023752Z
UID:10019026-1830360600-1830364200@stnicholasoftolentinebronx.org
SUMMARY:5:30 pm Confessions
DESCRIPTION:
URL:https://stnicholasoftolentinebronx.org/event/530-pm-confessions/2028-01-01/
LOCATION:St Nicholas of Tolentine Church\, 2345 University Avenue\, Bronx\, NY\, 10468\, United States
END:VEVENT
BEGIN:VEVENT
DTSTART;TZID=America/New_York:20280101T190000
DTEND;TZID=America/New_York:20280101T200000
DTSTAMP:20260425T114726
CREATED:20250313T023841Z
LAST-MODIFIED:20250313T023842Z
UID:10019287-1830366000-1830369600@stnicholasoftolentinebronx.org
SUMMARY:7:00 pm Spanish Mass
DESCRIPTION:
URL:https://stnicholasoftolentinebronx.org/event/700-pm-spanish-mass/2028-01-01/
LOCATION:St Nicholas of Tolentine Church\, 2345 University Avenue\, Bronx\, NY\, 10468\, United States
END:VEVENT
BEGIN:VEVENT
DTSTART;TZID=America/New_York:20280102T080000
DTEND;TZID=America/New_York:20280102T090000
DTSTAMP:20260425T114726
CREATED:20250313T023930Z
LAST-MODIFIED:20250418T035212Z
UID:10019548-1830412800-1830416400@stnicholasoftolentinebronx.org
SUMMARY:8:00 am English Mass
DESCRIPTION:
URL:https://stnicholasoftolentinebronx.org/event/800-am-english-mass/2028-01-02/
LOCATION:St Nicholas of Tolentine Church\, 2345 University Avenue\, Bronx\, NY\, 10468\, United States
END:VEVENT
BEGIN:VEVENT
DTSTART;TZID=America/New_York:20280102T093000
DTEND;TZID=America/New_York:20280102T110000
DTSTAMP:20260425T114726
CREATED:20250313T024022Z
LAST-MODIFIED:20250313T024024Z
UID:10019809-1830418200-1830423600@stnicholasoftolentinebronx.org
SUMMARY:9:30 am Spanish Mass
DESCRIPTION:
URL:https://stnicholasoftolentinebronx.org/event/930-am-spanish-mass/2028-01-02/
LOCATION:St Nicholas of Tolentine Church\, 2345 University Avenue\, Bronx\, NY\, 10468\, United States
END:VEVENT
BEGIN:VEVENT
DTSTART;TZID=America/New_York:20280102T113000
DTEND;TZID=America/New_York:20280102T123000
DTSTAMP:20260425T114726
CREATED:20250313T024110Z
LAST-MODIFIED:20250313T024112Z
UID:10020070-1830425400-1830429000@stnicholasoftolentinebronx.org
SUMMARY:11:30 am English Mass
DESCRIPTION:
URL:https://stnicholasoftolentinebronx.org/event/1130-am-english-mass/2028-01-02/
LOCATION:St Nicholas of Tolentine Church\, 2345 University Avenue\, Bronx\, NY\, 10468\, United States
END:VEVENT
BEGIN:VEVENT
DTSTART;TZID=America/New_York:20280102T133000
DTEND;TZID=America/New_York:20280102T143000
DTSTAMP:20260425T114726
CREATED:20250313T024158Z
LAST-MODIFIED:20250313T024339Z
UID:10020331-1830432600-1830436200@stnicholasoftolentinebronx.org
SUMMARY:1:30 pm Vietnamese Mass
DESCRIPTION:
URL:https://stnicholasoftolentinebronx.org/event/130-pm-vietnamese-mass/2028-01-02/
LOCATION:St Nicholas of Tolentine Church\, 2345 University Avenue\, Bronx\, NY\, 10468\, United States
END:VEVENT
BEGIN:VEVENT
DTSTART;TZID=America/New_York:20280103T083000
DTEND;TZID=America/New_York:20280103T093000
DTSTAMP:20260425T114726
CREATED:20250305T035020Z
LAST-MODIFIED:20250305T035025Z
UID:10016465-1830501000-1830504600@stnicholasoftolentinebronx.org
SUMMARY:8:30 am Spanish Mass
DESCRIPTION:
URL:https://stnicholasoftolentinebronx.org/event/830-am-spanish-mass-3/2028-01-03/
LOCATION:St Nicholas of Tolentine Church\, 2345 University Avenue\, Bronx\, NY\, 10468\, United States
END:VEVENT
BEGIN:VEVENT
DTSTART;TZID=America/New_York:20280103T120000
DTEND;TZID=America/New_York:20280103T123000
DTSTAMP:20260425T114726
CREATED:20250305T040540Z
LAST-MODIFIED:20250305T040545Z
UID:10017769-1830513600-1830515400@stnicholasoftolentinebronx.org
SUMMARY:12:00 Noon English mass
DESCRIPTION:
URL:https://stnicholasoftolentinebronx.org/event/1200-noon-english-mass/2028-01-03/
LOCATION:St Nicholas of Tolentine Church\, 2345 University Avenue\, Bronx\, NY\, 10468\, United States
END:VEVENT
BEGIN:VEVENT
DTSTART;TZID=America/New_York:20280104T083000
DTEND;TZID=America/New_York:20280104T093000
DTSTAMP:20260425T114726
CREATED:20250305T035020Z
LAST-MODIFIED:20250305T035025Z
UID:10016466-1830587400-1830591000@stnicholasoftolentinebronx.org
SUMMARY:8:30 am Spanish Mass
DESCRIPTION:
URL:https://stnicholasoftolentinebronx.org/event/830-am-spanish-mass-3/2028-01-04/
LOCATION:St Nicholas of Tolentine Church\, 2345 University Avenue\, Bronx\, NY\, 10468\, United States
END:VEVENT
BEGIN:VEVENT
DTSTART;TZID=America/New_York:20280104T120000
DTEND;TZID=America/New_York:20280104T123000
DTSTAMP:20260425T114726
CREATED:20250305T040540Z
LAST-MODIFIED:20250305T040545Z
UID:10017770-1830600000-1830601800@stnicholasoftolentinebronx.org
SUMMARY:12:00 Noon English mass
DESCRIPTION:
URL:https://stnicholasoftolentinebronx.org/event/1200-noon-english-mass/2028-01-04/
LOCATION:St Nicholas of Tolentine Church\, 2345 University Avenue\, Bronx\, NY\, 10468\, United States
END:VEVENT
BEGIN:VEVENT
DTSTART;TZID=America/New_York:20280105T083000
DTEND;TZID=America/New_York:20280105T093000
DTSTAMP:20260425T114726
CREATED:20250305T035020Z
LAST-MODIFIED:20250305T035025Z
UID:10016467-1830673800-1830677400@stnicholasoftolentinebronx.org
SUMMARY:8:30 am Spanish Mass
DESCRIPTION:
URL:https://stnicholasoftolentinebronx.org/event/830-am-spanish-mass-3/2028-01-05/
LOCATION:St Nicholas of Tolentine Church\, 2345 University Avenue\, Bronx\, NY\, 10468\, United States
END:VEVENT
BEGIN:VEVENT
DTSTART;TZID=America/New_York:20280105T120000
DTEND;TZID=America/New_York:20280105T123000
DTSTAMP:20260425T114726
CREATED:20250305T040540Z
LAST-MODIFIED:20250305T040545Z
UID:10017771-1830686400-1830688200@stnicholasoftolentinebronx.org
SUMMARY:12:00 Noon English mass
DESCRIPTION:
URL:https://stnicholasoftolentinebronx.org/event/1200-noon-english-mass/2028-01-05/
LOCATION:St Nicholas of Tolentine Church\, 2345 University Avenue\, Bronx\, NY\, 10468\, United States
END:VEVENT
BEGIN:VEVENT
DTSTART;TZID=America/New_York:20280106T083000
DTEND;TZID=America/New_York:20280106T093000
DTSTAMP:20260425T114726
CREATED:20250305T035020Z
LAST-MODIFIED:20250305T035025Z
UID:10016468-1830760200-1830763800@stnicholasoftolentinebronx.org
SUMMARY:8:30 am Spanish Mass
DESCRIPTION:
URL:https://stnicholasoftolentinebronx.org/event/830-am-spanish-mass-3/2028-01-06/
LOCATION:St Nicholas of Tolentine Church\, 2345 University Avenue\, Bronx\, NY\, 10468\, United States
END:VEVENT
BEGIN:VEVENT
DTSTART;TZID=America/New_York:20280106T120000
DTEND;TZID=America/New_York:20280106T123000
DTSTAMP:20260425T114726
CREATED:20250305T040540Z
LAST-MODIFIED:20250305T040545Z
UID:10017772-1830772800-1830774600@stnicholasoftolentinebronx.org
SUMMARY:12:00 Noon English mass
DESCRIPTION:
URL:https://stnicholasoftolentinebronx.org/event/1200-noon-english-mass/2028-01-06/
LOCATION:St Nicholas of Tolentine Church\, 2345 University Avenue\, Bronx\, NY\, 10468\, United States
END:VEVENT
BEGIN:VEVENT
DTSTART;TZID=America/New_York:20280106T190000
DTEND;TZID=America/New_York:20280106T210000
DTSTAMP:20260425T114726
CREATED:20250305T041048Z
LAST-MODIFIED:20250306T225714Z
UID:10018485-1830798000-1830805200@stnicholasoftolentinebronx.org
SUMMARY:7:00 pm Círculo
DESCRIPTION:
URL:https://stnicholasoftolentinebronx.org/event/700-circulo/2028-01-06/
LOCATION:NY
END:VEVENT
BEGIN:VEVENT
DTSTART;TZID=America/New_York:20280107T083000
DTEND;TZID=America/New_York:20280107T093000
DTSTAMP:20260425T114726
CREATED:20250305T035020Z
LAST-MODIFIED:20250305T035025Z
UID:10016469-1830846600-1830850200@stnicholasoftolentinebronx.org
SUMMARY:8:30 am Spanish Mass
DESCRIPTION:
URL:https://stnicholasoftolentinebronx.org/event/830-am-spanish-mass-3/2028-01-07/
LOCATION:St Nicholas of Tolentine Church\, 2345 University Avenue\, Bronx\, NY\, 10468\, United States
END:VEVENT
BEGIN:VEVENT
DTSTART;TZID=America/New_York:20280107T120000
DTEND;TZID=America/New_York:20280107T123000
DTSTAMP:20260425T114726
CREATED:20250305T040540Z
LAST-MODIFIED:20250305T040545Z
UID:10017773-1830859200-1830861000@stnicholasoftolentinebronx.org
SUMMARY:12:00 Noon English mass
DESCRIPTION:
URL:https://stnicholasoftolentinebronx.org/event/1200-noon-english-mass/2028-01-07/
LOCATION:St Nicholas of Tolentine Church\, 2345 University Avenue\, Bronx\, NY\, 10468\, United States
END:VEVENT
BEGIN:VEVENT
DTSTART;TZID=America/New_York:20280108T074500
DTEND;TZID=America/New_York:20280108T083000
DTSTAMP:20260425T114726
CREATED:20250313T023643Z
LAST-MODIFIED:20250313T023646Z
UID:10018766-1830930300-1830933000@stnicholasoftolentinebronx.org
SUMMARY:7:45 am Vietnamese Mass
DESCRIPTION:
URL:https://stnicholasoftolentinebronx.org/event/745-am-vietnamese-mass/2028-01-08/
LOCATION:St Nicholas of Tolentine Church\, 2345 University Avenue\, Bronx\, NY\, 10468\, United States
END:VEVENT
END:VCALENDAR