BEGIN:VCALENDAR
VERSION:2.0
PRODID:-//St. Nicholas of Tolentine Church - ECPv6.15.20//NONSGML v1.0//EN
CALSCALE:GREGORIAN
METHOD:PUBLISH
X-WR-CALNAME:St. Nicholas of Tolentine Church
X-ORIGINAL-URL:https://stnicholasoftolentinebronx.org
X-WR-CALDESC:Events for St. Nicholas of Tolentine Church
REFRESH-INTERVAL;VALUE=DURATION:PT1H
X-Robots-Tag:noindex
X-PUBLISHED-TTL:PT1H
BEGIN:VTIMEZONE
TZID:America/New_York
BEGIN:DAYLIGHT
TZOFFSETFROM:-0500
TZOFFSETTO:-0400
TZNAME:EDT
DTSTART:20270314T070000
END:DAYLIGHT
BEGIN:STANDARD
TZOFFSETFROM:-0400
TZOFFSETTO:-0500
TZNAME:EST
DTSTART:20271107T060000
END:STANDARD
BEGIN:DAYLIGHT
TZOFFSETFROM:-0500
TZOFFSETTO:-0400
TZNAME:EDT
DTSTART:20280312T070000
END:DAYLIGHT
BEGIN:STANDARD
TZOFFSETFROM:-0400
TZOFFSETTO:-0500
TZNAME:EST
DTSTART:20281105T060000
END:STANDARD
BEGIN:DAYLIGHT
TZOFFSETFROM:-0500
TZOFFSETTO:-0400
TZNAME:EDT
DTSTART:20290311T070000
END:DAYLIGHT
BEGIN:STANDARD
TZOFFSETFROM:-0400
TZOFFSETTO:-0500
TZNAME:EST
DTSTART:20291104T060000
END:STANDARD
END:VTIMEZONE
BEGIN:VEVENT
DTSTART;TZID=America/New_York:20280202T120000
DTEND;TZID=America/New_York:20280202T123000
DTSTAMP:20260425T121930
CREATED:20250305T040540Z
LAST-MODIFIED:20250305T040545Z
UID:10017791-1833105600-1833107400@stnicholasoftolentinebronx.org
SUMMARY:12:00 Noon English mass
DESCRIPTION:
URL:https://stnicholasoftolentinebronx.org/event/1200-noon-english-mass/2028-02-02/
LOCATION:St Nicholas of Tolentine Church\, 2345 University Avenue\, Bronx\, NY\, 10468\, United States
END:VEVENT
BEGIN:VEVENT
DTSTART;TZID=America/New_York:20280203T083000
DTEND;TZID=America/New_York:20280203T093000
DTSTAMP:20260425T121930
CREATED:20250305T035020Z
LAST-MODIFIED:20250305T035025Z
UID:10016488-1833179400-1833183000@stnicholasoftolentinebronx.org
SUMMARY:8:30 am Spanish Mass
DESCRIPTION:
URL:https://stnicholasoftolentinebronx.org/event/830-am-spanish-mass-3/2028-02-03/
LOCATION:St Nicholas of Tolentine Church\, 2345 University Avenue\, Bronx\, NY\, 10468\, United States
END:VEVENT
BEGIN:VEVENT
DTSTART;TZID=America/New_York:20280203T120000
DTEND;TZID=America/New_York:20280203T123000
DTSTAMP:20260425T121930
CREATED:20250305T040540Z
LAST-MODIFIED:20250305T040545Z
UID:10017792-1833192000-1833193800@stnicholasoftolentinebronx.org
SUMMARY:12:00 Noon English mass
DESCRIPTION:
URL:https://stnicholasoftolentinebronx.org/event/1200-noon-english-mass/2028-02-03/
LOCATION:St Nicholas of Tolentine Church\, 2345 University Avenue\, Bronx\, NY\, 10468\, United States
END:VEVENT
BEGIN:VEVENT
DTSTART;TZID=America/New_York:20280203T190000
DTEND;TZID=America/New_York:20280203T210000
DTSTAMP:20260425T121930
CREATED:20250305T041048Z
LAST-MODIFIED:20250306T225714Z
UID:10018489-1833217200-1833224400@stnicholasoftolentinebronx.org
SUMMARY:7:00 pm Círculo
DESCRIPTION:
URL:https://stnicholasoftolentinebronx.org/event/700-circulo/2028-02-03/
LOCATION:NY
END:VEVENT
BEGIN:VEVENT
DTSTART;TZID=America/New_York:20280204T083000
DTEND;TZID=America/New_York:20280204T093000
DTSTAMP:20260425T121930
CREATED:20250305T035020Z
LAST-MODIFIED:20250305T035025Z
UID:10016489-1833265800-1833269400@stnicholasoftolentinebronx.org
SUMMARY:8:30 am Spanish Mass
DESCRIPTION:
URL:https://stnicholasoftolentinebronx.org/event/830-am-spanish-mass-3/2028-02-04/
LOCATION:St Nicholas of Tolentine Church\, 2345 University Avenue\, Bronx\, NY\, 10468\, United States
END:VEVENT
BEGIN:VEVENT
DTSTART;TZID=America/New_York:20280204T120000
DTEND;TZID=America/New_York:20280204T123000
DTSTAMP:20260425T121930
CREATED:20250305T040540Z
LAST-MODIFIED:20250305T040545Z
UID:10017793-1833278400-1833280200@stnicholasoftolentinebronx.org
SUMMARY:12:00 Noon English mass
DESCRIPTION:
URL:https://stnicholasoftolentinebronx.org/event/1200-noon-english-mass/2028-02-04/
LOCATION:St Nicholas of Tolentine Church\, 2345 University Avenue\, Bronx\, NY\, 10468\, United States
END:VEVENT
BEGIN:VEVENT
DTSTART;TZID=America/New_York:20280205T074500
DTEND;TZID=America/New_York:20280205T083000
DTSTAMP:20260425T121930
CREATED:20250313T023643Z
LAST-MODIFIED:20250313T023646Z
UID:10018770-1833349500-1833352200@stnicholasoftolentinebronx.org
SUMMARY:7:45 am Vietnamese Mass
DESCRIPTION:
URL:https://stnicholasoftolentinebronx.org/event/745-am-vietnamese-mass/2028-02-05/
LOCATION:St Nicholas of Tolentine Church\, 2345 University Avenue\, Bronx\, NY\, 10468\, United States
END:VEVENT
BEGIN:VEVENT
DTSTART;TZID=America/New_York:20280205T173000
DTEND;TZID=America/New_York:20280205T183000
DTSTAMP:20260425T121930
CREATED:20250313T023751Z
LAST-MODIFIED:20250313T023752Z
UID:10019031-1833384600-1833388200@stnicholasoftolentinebronx.org
SUMMARY:5:30 pm Confessions
DESCRIPTION:
URL:https://stnicholasoftolentinebronx.org/event/530-pm-confessions/2028-02-05/
LOCATION:St Nicholas of Tolentine Church\, 2345 University Avenue\, Bronx\, NY\, 10468\, United States
END:VEVENT
BEGIN:VEVENT
DTSTART;TZID=America/New_York:20280205T190000
DTEND;TZID=America/New_York:20280205T200000
DTSTAMP:20260425T121930
CREATED:20250313T023841Z
LAST-MODIFIED:20250313T023842Z
UID:10019292-1833390000-1833393600@stnicholasoftolentinebronx.org
SUMMARY:7:00 pm Spanish Mass
DESCRIPTION:
URL:https://stnicholasoftolentinebronx.org/event/700-pm-spanish-mass/2028-02-05/
LOCATION:St Nicholas of Tolentine Church\, 2345 University Avenue\, Bronx\, NY\, 10468\, United States
END:VEVENT
BEGIN:VEVENT
DTSTART;TZID=America/New_York:20280206T080000
DTEND;TZID=America/New_York:20280206T090000
DTSTAMP:20260425T121930
CREATED:20250313T023930Z
LAST-MODIFIED:20250418T035212Z
UID:10019553-1833436800-1833440400@stnicholasoftolentinebronx.org
SUMMARY:8:00 am English Mass
DESCRIPTION:
URL:https://stnicholasoftolentinebronx.org/event/800-am-english-mass/2028-02-06/
LOCATION:St Nicholas of Tolentine Church\, 2345 University Avenue\, Bronx\, NY\, 10468\, United States
END:VEVENT
BEGIN:VEVENT
DTSTART;TZID=America/New_York:20280206T093000
DTEND;TZID=America/New_York:20280206T110000
DTSTAMP:20260425T121930
CREATED:20250313T024022Z
LAST-MODIFIED:20250313T024024Z
UID:10019814-1833442200-1833447600@stnicholasoftolentinebronx.org
SUMMARY:9:30 am Spanish Mass
DESCRIPTION:
URL:https://stnicholasoftolentinebronx.org/event/930-am-spanish-mass/2028-02-06/
LOCATION:St Nicholas of Tolentine Church\, 2345 University Avenue\, Bronx\, NY\, 10468\, United States
END:VEVENT
BEGIN:VEVENT
DTSTART;TZID=America/New_York:20280206T113000
DTEND;TZID=America/New_York:20280206T123000
DTSTAMP:20260425T121930
CREATED:20250313T024110Z
LAST-MODIFIED:20250313T024112Z
UID:10020075-1833449400-1833453000@stnicholasoftolentinebronx.org
SUMMARY:11:30 am English Mass
DESCRIPTION:
URL:https://stnicholasoftolentinebronx.org/event/1130-am-english-mass/2028-02-06/
LOCATION:St Nicholas of Tolentine Church\, 2345 University Avenue\, Bronx\, NY\, 10468\, United States
END:VEVENT
BEGIN:VEVENT
DTSTART;TZID=America/New_York:20280206T133000
DTEND;TZID=America/New_York:20280206T143000
DTSTAMP:20260425T121930
CREATED:20250313T024158Z
LAST-MODIFIED:20250313T024339Z
UID:10020336-1833456600-1833460200@stnicholasoftolentinebronx.org
SUMMARY:1:30 pm Vietnamese Mass
DESCRIPTION:
URL:https://stnicholasoftolentinebronx.org/event/130-pm-vietnamese-mass/2028-02-06/
LOCATION:St Nicholas of Tolentine Church\, 2345 University Avenue\, Bronx\, NY\, 10468\, United States
END:VEVENT
BEGIN:VEVENT
DTSTART;TZID=America/New_York:20280207T083000
DTEND;TZID=America/New_York:20280207T093000
DTSTAMP:20260425T121930
CREATED:20250305T035020Z
LAST-MODIFIED:20250305T035025Z
UID:10016490-1833525000-1833528600@stnicholasoftolentinebronx.org
SUMMARY:8:30 am Spanish Mass
DESCRIPTION:
URL:https://stnicholasoftolentinebronx.org/event/830-am-spanish-mass-3/2028-02-07/
LOCATION:St Nicholas of Tolentine Church\, 2345 University Avenue\, Bronx\, NY\, 10468\, United States
END:VEVENT
BEGIN:VEVENT
DTSTART;TZID=America/New_York:20280207T120000
DTEND;TZID=America/New_York:20280207T123000
DTSTAMP:20260425T121930
CREATED:20250305T040540Z
LAST-MODIFIED:20250305T040545Z
UID:10017794-1833537600-1833539400@stnicholasoftolentinebronx.org
SUMMARY:12:00 Noon English mass
DESCRIPTION:
URL:https://stnicholasoftolentinebronx.org/event/1200-noon-english-mass/2028-02-07/
LOCATION:St Nicholas of Tolentine Church\, 2345 University Avenue\, Bronx\, NY\, 10468\, United States
END:VEVENT
BEGIN:VEVENT
DTSTART;TZID=America/New_York:20280208T083000
DTEND;TZID=America/New_York:20280208T093000
DTSTAMP:20260425T121930
CREATED:20250305T035020Z
LAST-MODIFIED:20250305T035025Z
UID:10016491-1833611400-1833615000@stnicholasoftolentinebronx.org
SUMMARY:8:30 am Spanish Mass
DESCRIPTION:
URL:https://stnicholasoftolentinebronx.org/event/830-am-spanish-mass-3/2028-02-08/
LOCATION:St Nicholas of Tolentine Church\, 2345 University Avenue\, Bronx\, NY\, 10468\, United States
END:VEVENT
BEGIN:VEVENT
DTSTART;TZID=America/New_York:20280208T120000
DTEND;TZID=America/New_York:20280208T123000
DTSTAMP:20260425T121930
CREATED:20250305T040540Z
LAST-MODIFIED:20250305T040545Z
UID:10017795-1833624000-1833625800@stnicholasoftolentinebronx.org
SUMMARY:12:00 Noon English mass
DESCRIPTION:
URL:https://stnicholasoftolentinebronx.org/event/1200-noon-english-mass/2028-02-08/
LOCATION:St Nicholas of Tolentine Church\, 2345 University Avenue\, Bronx\, NY\, 10468\, United States
END:VEVENT
BEGIN:VEVENT
DTSTART;TZID=America/New_York:20280209T083000
DTEND;TZID=America/New_York:20280209T093000
DTSTAMP:20260425T121930
CREATED:20250305T035020Z
LAST-MODIFIED:20250305T035025Z
UID:10016492-1833697800-1833701400@stnicholasoftolentinebronx.org
SUMMARY:8:30 am Spanish Mass
DESCRIPTION:
URL:https://stnicholasoftolentinebronx.org/event/830-am-spanish-mass-3/2028-02-09/
LOCATION:St Nicholas of Tolentine Church\, 2345 University Avenue\, Bronx\, NY\, 10468\, United States
END:VEVENT
BEGIN:VEVENT
DTSTART;TZID=America/New_York:20280209T120000
DTEND;TZID=America/New_York:20280209T123000
DTSTAMP:20260425T121930
CREATED:20250305T040540Z
LAST-MODIFIED:20250305T040545Z
UID:10017796-1833710400-1833712200@stnicholasoftolentinebronx.org
SUMMARY:12:00 Noon English mass
DESCRIPTION:
URL:https://stnicholasoftolentinebronx.org/event/1200-noon-english-mass/2028-02-09/
LOCATION:St Nicholas of Tolentine Church\, 2345 University Avenue\, Bronx\, NY\, 10468\, United States
END:VEVENT
BEGIN:VEVENT
DTSTART;TZID=America/New_York:20280210T083000
DTEND;TZID=America/New_York:20280210T093000
DTSTAMP:20260425T121930
CREATED:20250305T035020Z
LAST-MODIFIED:20250305T035025Z
UID:10016493-1833784200-1833787800@stnicholasoftolentinebronx.org
SUMMARY:8:30 am Spanish Mass
DESCRIPTION:
URL:https://stnicholasoftolentinebronx.org/event/830-am-spanish-mass-3/2028-02-10/
LOCATION:St Nicholas of Tolentine Church\, 2345 University Avenue\, Bronx\, NY\, 10468\, United States
END:VEVENT
BEGIN:VEVENT
DTSTART;TZID=America/New_York:20280210T120000
DTEND;TZID=America/New_York:20280210T123000
DTSTAMP:20260425T121930
CREATED:20250305T040540Z
LAST-MODIFIED:20250305T040545Z
UID:10017797-1833796800-1833798600@stnicholasoftolentinebronx.org
SUMMARY:12:00 Noon English mass
DESCRIPTION:
URL:https://stnicholasoftolentinebronx.org/event/1200-noon-english-mass/2028-02-10/
LOCATION:St Nicholas of Tolentine Church\, 2345 University Avenue\, Bronx\, NY\, 10468\, United States
END:VEVENT
BEGIN:VEVENT
DTSTART;TZID=America/New_York:20280210T190000
DTEND;TZID=America/New_York:20280210T210000
DTSTAMP:20260425T121930
CREATED:20250305T041048Z
LAST-MODIFIED:20250306T225714Z
UID:10018490-1833822000-1833829200@stnicholasoftolentinebronx.org
SUMMARY:7:00 pm Círculo
DESCRIPTION:
URL:https://stnicholasoftolentinebronx.org/event/700-circulo/2028-02-10/
LOCATION:NY
END:VEVENT
BEGIN:VEVENT
DTSTART;TZID=America/New_York:20280211T083000
DTEND;TZID=America/New_York:20280211T093000
DTSTAMP:20260425T121930
CREATED:20250305T035020Z
LAST-MODIFIED:20250305T035025Z
UID:10016494-1833870600-1833874200@stnicholasoftolentinebronx.org
SUMMARY:8:30 am Spanish Mass
DESCRIPTION:
URL:https://stnicholasoftolentinebronx.org/event/830-am-spanish-mass-3/2028-02-11/
LOCATION:St Nicholas of Tolentine Church\, 2345 University Avenue\, Bronx\, NY\, 10468\, United States
END:VEVENT
BEGIN:VEVENT
DTSTART;TZID=America/New_York:20280211T120000
DTEND;TZID=America/New_York:20280211T123000
DTSTAMP:20260425T121930
CREATED:20250305T040540Z
LAST-MODIFIED:20250305T040545Z
UID:10017798-1833883200-1833885000@stnicholasoftolentinebronx.org
SUMMARY:12:00 Noon English mass
DESCRIPTION:
URL:https://stnicholasoftolentinebronx.org/event/1200-noon-english-mass/2028-02-11/
LOCATION:St Nicholas of Tolentine Church\, 2345 University Avenue\, Bronx\, NY\, 10468\, United States
END:VEVENT
BEGIN:VEVENT
DTSTART;TZID=America/New_York:20280212T074500
DTEND;TZID=America/New_York:20280212T083000
DTSTAMP:20260425T121930
CREATED:20250313T023643Z
LAST-MODIFIED:20250313T023646Z
UID:10018771-1833954300-1833957000@stnicholasoftolentinebronx.org
SUMMARY:7:45 am Vietnamese Mass
DESCRIPTION:
URL:https://stnicholasoftolentinebronx.org/event/745-am-vietnamese-mass/2028-02-12/
LOCATION:St Nicholas of Tolentine Church\, 2345 University Avenue\, Bronx\, NY\, 10468\, United States
END:VEVENT
BEGIN:VEVENT
DTSTART;TZID=America/New_York:20280212T173000
DTEND;TZID=America/New_York:20280212T183000
DTSTAMP:20260425T121930
CREATED:20250313T023751Z
LAST-MODIFIED:20250313T023752Z
UID:10019032-1833989400-1833993000@stnicholasoftolentinebronx.org
SUMMARY:5:30 pm Confessions
DESCRIPTION:
URL:https://stnicholasoftolentinebronx.org/event/530-pm-confessions/2028-02-12/
LOCATION:St Nicholas of Tolentine Church\, 2345 University Avenue\, Bronx\, NY\, 10468\, United States
END:VEVENT
BEGIN:VEVENT
DTSTART;TZID=America/New_York:20280212T190000
DTEND;TZID=America/New_York:20280212T200000
DTSTAMP:20260425T121930
CREATED:20250313T023841Z
LAST-MODIFIED:20250313T023842Z
UID:10019293-1833994800-1833998400@stnicholasoftolentinebronx.org
SUMMARY:7:00 pm Spanish Mass
DESCRIPTION:
URL:https://stnicholasoftolentinebronx.org/event/700-pm-spanish-mass/2028-02-12/
LOCATION:St Nicholas of Tolentine Church\, 2345 University Avenue\, Bronx\, NY\, 10468\, United States
END:VEVENT
BEGIN:VEVENT
DTSTART;TZID=America/New_York:20280213T080000
DTEND;TZID=America/New_York:20280213T090000
DTSTAMP:20260425T121930
CREATED:20250313T023930Z
LAST-MODIFIED:20250418T035212Z
UID:10019554-1834041600-1834045200@stnicholasoftolentinebronx.org
SUMMARY:8:00 am English Mass
DESCRIPTION:
URL:https://stnicholasoftolentinebronx.org/event/800-am-english-mass/2028-02-13/
LOCATION:St Nicholas of Tolentine Church\, 2345 University Avenue\, Bronx\, NY\, 10468\, United States
END:VEVENT
BEGIN:VEVENT
DTSTART;TZID=America/New_York:20280213T093000
DTEND;TZID=America/New_York:20280213T110000
DTSTAMP:20260425T121930
CREATED:20250313T024022Z
LAST-MODIFIED:20250313T024024Z
UID:10019815-1834047000-1834052400@stnicholasoftolentinebronx.org
SUMMARY:9:30 am Spanish Mass
DESCRIPTION:
URL:https://stnicholasoftolentinebronx.org/event/930-am-spanish-mass/2028-02-13/
LOCATION:St Nicholas of Tolentine Church\, 2345 University Avenue\, Bronx\, NY\, 10468\, United States
END:VEVENT
BEGIN:VEVENT
DTSTART;TZID=America/New_York:20280213T113000
DTEND;TZID=America/New_York:20280213T123000
DTSTAMP:20260425T121930
CREATED:20250313T024110Z
LAST-MODIFIED:20250313T024112Z
UID:10020076-1834054200-1834057800@stnicholasoftolentinebronx.org
SUMMARY:11:30 am English Mass
DESCRIPTION:
URL:https://stnicholasoftolentinebronx.org/event/1130-am-english-mass/2028-02-13/
LOCATION:St Nicholas of Tolentine Church\, 2345 University Avenue\, Bronx\, NY\, 10468\, United States
END:VEVENT
END:VCALENDAR