BEGIN:VCALENDAR
VERSION:2.0
PRODID:-//St. Nicholas of Tolentine Church - ECPv6.15.20//NONSGML v1.0//EN
CALSCALE:GREGORIAN
METHOD:PUBLISH
X-ORIGINAL-URL:https://stnicholasoftolentinebronx.org
X-WR-CALDESC:Events for St. Nicholas of Tolentine Church
REFRESH-INTERVAL;VALUE=DURATION:PT1H
X-Robots-Tag:noindex
X-PUBLISHED-TTL:PT1H
BEGIN:VTIMEZONE
TZID:America/New_York
BEGIN:DAYLIGHT
TZOFFSETFROM:-0500
TZOFFSETTO:-0400
TZNAME:EDT
DTSTART:20270314T070000
END:DAYLIGHT
BEGIN:STANDARD
TZOFFSETFROM:-0400
TZOFFSETTO:-0500
TZNAME:EST
DTSTART:20271107T060000
END:STANDARD
BEGIN:DAYLIGHT
TZOFFSETFROM:-0500
TZOFFSETTO:-0400
TZNAME:EDT
DTSTART:20280312T070000
END:DAYLIGHT
BEGIN:STANDARD
TZOFFSETFROM:-0400
TZOFFSETTO:-0500
TZNAME:EST
DTSTART:20281105T060000
END:STANDARD
BEGIN:DAYLIGHT
TZOFFSETFROM:-0500
TZOFFSETTO:-0400
TZNAME:EDT
DTSTART:20290311T070000
END:DAYLIGHT
BEGIN:STANDARD
TZOFFSETFROM:-0400
TZOFFSETTO:-0500
TZNAME:EST
DTSTART:20291104T060000
END:STANDARD
END:VTIMEZONE
BEGIN:VEVENT
DTSTART;TZID=America/New_York:20280123T093000
DTEND;TZID=America/New_York:20280123T110000
DTSTAMP:20260425T082937
CREATED:20250313T024022Z
LAST-MODIFIED:20250313T024024Z
UID:10019812-1832232600-1832238000@stnicholasoftolentinebronx.org
SUMMARY:9:30 am Spanish Mass
DESCRIPTION:
URL:https://stnicholasoftolentinebronx.org/event/930-am-spanish-mass/2028-01-23/
LOCATION:St Nicholas of Tolentine Church\, 2345 University Avenue\, Bronx\, NY\, 10468\, United States
END:VEVENT
BEGIN:VEVENT
DTSTART;TZID=America/New_York:20280123T113000
DTEND;TZID=America/New_York:20280123T123000
DTSTAMP:20260425T082937
CREATED:20250313T024110Z
LAST-MODIFIED:20250313T024112Z
UID:10020073-1832239800-1832243400@stnicholasoftolentinebronx.org
SUMMARY:11:30 am English Mass
DESCRIPTION:
URL:https://stnicholasoftolentinebronx.org/event/1130-am-english-mass/2028-01-23/
LOCATION:St Nicholas of Tolentine Church\, 2345 University Avenue\, Bronx\, NY\, 10468\, United States
END:VEVENT
BEGIN:VEVENT
DTSTART;TZID=America/New_York:20280123T133000
DTEND;TZID=America/New_York:20280123T143000
DTSTAMP:20260425T082937
CREATED:20250313T024158Z
LAST-MODIFIED:20250313T024339Z
UID:10020334-1832247000-1832250600@stnicholasoftolentinebronx.org
SUMMARY:1:30 pm Vietnamese Mass
DESCRIPTION:
URL:https://stnicholasoftolentinebronx.org/event/130-pm-vietnamese-mass/2028-01-23/
LOCATION:St Nicholas of Tolentine Church\, 2345 University Avenue\, Bronx\, NY\, 10468\, United States
END:VEVENT
BEGIN:VEVENT
DTSTART;TZID=America/New_York:20280124T083000
DTEND;TZID=America/New_York:20280124T093000
DTSTAMP:20260425T082937
CREATED:20250305T035020Z
LAST-MODIFIED:20250305T035025Z
UID:10016480-1832315400-1832319000@stnicholasoftolentinebronx.org
SUMMARY:8:30 am Spanish Mass
DESCRIPTION:
URL:https://stnicholasoftolentinebronx.org/event/830-am-spanish-mass-3/2028-01-24/
LOCATION:St Nicholas of Tolentine Church\, 2345 University Avenue\, Bronx\, NY\, 10468\, United States
END:VEVENT
BEGIN:VEVENT
DTSTART;TZID=America/New_York:20280124T120000
DTEND;TZID=America/New_York:20280124T123000
DTSTAMP:20260425T082937
CREATED:20250305T040540Z
LAST-MODIFIED:20250305T040545Z
UID:10017784-1832328000-1832329800@stnicholasoftolentinebronx.org
SUMMARY:12:00 Noon English mass
DESCRIPTION:
URL:https://stnicholasoftolentinebronx.org/event/1200-noon-english-mass/2028-01-24/
LOCATION:St Nicholas of Tolentine Church\, 2345 University Avenue\, Bronx\, NY\, 10468\, United States
END:VEVENT
BEGIN:VEVENT
DTSTART;TZID=America/New_York:20280125T083000
DTEND;TZID=America/New_York:20280125T093000
DTSTAMP:20260425T082937
CREATED:20250305T035020Z
LAST-MODIFIED:20250305T035025Z
UID:10016481-1832401800-1832405400@stnicholasoftolentinebronx.org
SUMMARY:8:30 am Spanish Mass
DESCRIPTION:
URL:https://stnicholasoftolentinebronx.org/event/830-am-spanish-mass-3/2028-01-25/
LOCATION:St Nicholas of Tolentine Church\, 2345 University Avenue\, Bronx\, NY\, 10468\, United States
END:VEVENT
BEGIN:VEVENT
DTSTART;TZID=America/New_York:20280125T120000
DTEND;TZID=America/New_York:20280125T123000
DTSTAMP:20260425T082937
CREATED:20250305T040540Z
LAST-MODIFIED:20250305T040545Z
UID:10017785-1832414400-1832416200@stnicholasoftolentinebronx.org
SUMMARY:12:00 Noon English mass
DESCRIPTION:
URL:https://stnicholasoftolentinebronx.org/event/1200-noon-english-mass/2028-01-25/
LOCATION:St Nicholas of Tolentine Church\, 2345 University Avenue\, Bronx\, NY\, 10468\, United States
END:VEVENT
BEGIN:VEVENT
DTSTART;TZID=America/New_York:20280126T083000
DTEND;TZID=America/New_York:20280126T093000
DTSTAMP:20260425T082938
CREATED:20250305T035020Z
LAST-MODIFIED:20250305T035025Z
UID:10016482-1832488200-1832491800@stnicholasoftolentinebronx.org
SUMMARY:8:30 am Spanish Mass
DESCRIPTION:
URL:https://stnicholasoftolentinebronx.org/event/830-am-spanish-mass-3/2028-01-26/
LOCATION:St Nicholas of Tolentine Church\, 2345 University Avenue\, Bronx\, NY\, 10468\, United States
END:VEVENT
BEGIN:VEVENT
DTSTART;TZID=America/New_York:20280126T120000
DTEND;TZID=America/New_York:20280126T123000
DTSTAMP:20260425T082938
CREATED:20250305T040540Z
LAST-MODIFIED:20250305T040545Z
UID:10017786-1832500800-1832502600@stnicholasoftolentinebronx.org
SUMMARY:12:00 Noon English mass
DESCRIPTION:
URL:https://stnicholasoftolentinebronx.org/event/1200-noon-english-mass/2028-01-26/
LOCATION:St Nicholas of Tolentine Church\, 2345 University Avenue\, Bronx\, NY\, 10468\, United States
END:VEVENT
BEGIN:VEVENT
DTSTART;TZID=America/New_York:20280127T083000
DTEND;TZID=America/New_York:20280127T093000
DTSTAMP:20260425T082938
CREATED:20250305T035020Z
LAST-MODIFIED:20250305T035025Z
UID:10016483-1832574600-1832578200@stnicholasoftolentinebronx.org
SUMMARY:8:30 am Spanish Mass
DESCRIPTION:
URL:https://stnicholasoftolentinebronx.org/event/830-am-spanish-mass-3/2028-01-27/
LOCATION:St Nicholas of Tolentine Church\, 2345 University Avenue\, Bronx\, NY\, 10468\, United States
END:VEVENT
BEGIN:VEVENT
DTSTART;TZID=America/New_York:20280127T120000
DTEND;TZID=America/New_York:20280127T123000
DTSTAMP:20260425T082938
CREATED:20250305T040540Z
LAST-MODIFIED:20250305T040545Z
UID:10017787-1832587200-1832589000@stnicholasoftolentinebronx.org
SUMMARY:12:00 Noon English mass
DESCRIPTION:
URL:https://stnicholasoftolentinebronx.org/event/1200-noon-english-mass/2028-01-27/
LOCATION:St Nicholas of Tolentine Church\, 2345 University Avenue\, Bronx\, NY\, 10468\, United States
END:VEVENT
BEGIN:VEVENT
DTSTART;TZID=America/New_York:20280127T190000
DTEND;TZID=America/New_York:20280127T210000
DTSTAMP:20260425T082938
CREATED:20250305T041048Z
LAST-MODIFIED:20250306T225714Z
UID:10018488-1832612400-1832619600@stnicholasoftolentinebronx.org
SUMMARY:7:00 pm Círculo
DESCRIPTION:
URL:https://stnicholasoftolentinebronx.org/event/700-circulo/2028-01-27/
LOCATION:NY
END:VEVENT
BEGIN:VEVENT
DTSTART;TZID=America/New_York:20280128T083000
DTEND;TZID=America/New_York:20280128T093000
DTSTAMP:20260425T082938
CREATED:20250305T035020Z
LAST-MODIFIED:20250305T035025Z
UID:10016484-1832661000-1832664600@stnicholasoftolentinebronx.org
SUMMARY:8:30 am Spanish Mass
DESCRIPTION:
URL:https://stnicholasoftolentinebronx.org/event/830-am-spanish-mass-3/2028-01-28/
LOCATION:St Nicholas of Tolentine Church\, 2345 University Avenue\, Bronx\, NY\, 10468\, United States
END:VEVENT
BEGIN:VEVENT
DTSTART;TZID=America/New_York:20280128T120000
DTEND;TZID=America/New_York:20280128T123000
DTSTAMP:20260425T082938
CREATED:20250305T040540Z
LAST-MODIFIED:20250305T040545Z
UID:10017788-1832673600-1832675400@stnicholasoftolentinebronx.org
SUMMARY:12:00 Noon English mass
DESCRIPTION:
URL:https://stnicholasoftolentinebronx.org/event/1200-noon-english-mass/2028-01-28/
LOCATION:St Nicholas of Tolentine Church\, 2345 University Avenue\, Bronx\, NY\, 10468\, United States
END:VEVENT
BEGIN:VEVENT
DTSTART;TZID=America/New_York:20280129T074500
DTEND;TZID=America/New_York:20280129T083000
DTSTAMP:20260425T082938
CREATED:20250313T023643Z
LAST-MODIFIED:20250313T023646Z
UID:10018769-1832744700-1832747400@stnicholasoftolentinebronx.org
SUMMARY:7:45 am Vietnamese Mass
DESCRIPTION:
URL:https://stnicholasoftolentinebronx.org/event/745-am-vietnamese-mass/2028-01-29/
LOCATION:St Nicholas of Tolentine Church\, 2345 University Avenue\, Bronx\, NY\, 10468\, United States
END:VEVENT
BEGIN:VEVENT
DTSTART;TZID=America/New_York:20280129T173000
DTEND;TZID=America/New_York:20280129T183000
DTSTAMP:20260425T082938
CREATED:20250313T023751Z
LAST-MODIFIED:20250313T023752Z
UID:10019030-1832779800-1832783400@stnicholasoftolentinebronx.org
SUMMARY:5:30 pm Confessions
DESCRIPTION:
URL:https://stnicholasoftolentinebronx.org/event/530-pm-confessions/2028-01-29/
LOCATION:St Nicholas of Tolentine Church\, 2345 University Avenue\, Bronx\, NY\, 10468\, United States
END:VEVENT
BEGIN:VEVENT
DTSTART;TZID=America/New_York:20280129T190000
DTEND;TZID=America/New_York:20280129T200000
DTSTAMP:20260425T082938
CREATED:20250313T023841Z
LAST-MODIFIED:20250313T023842Z
UID:10019291-1832785200-1832788800@stnicholasoftolentinebronx.org
SUMMARY:7:00 pm Spanish Mass
DESCRIPTION:
URL:https://stnicholasoftolentinebronx.org/event/700-pm-spanish-mass/2028-01-29/
LOCATION:St Nicholas of Tolentine Church\, 2345 University Avenue\, Bronx\, NY\, 10468\, United States
END:VEVENT
BEGIN:VEVENT
DTSTART;TZID=America/New_York:20280130T080000
DTEND;TZID=America/New_York:20280130T090000
DTSTAMP:20260425T082938
CREATED:20250313T023930Z
LAST-MODIFIED:20250418T035212Z
UID:10019552-1832832000-1832835600@stnicholasoftolentinebronx.org
SUMMARY:8:00 am English Mass
DESCRIPTION:
URL:https://stnicholasoftolentinebronx.org/event/800-am-english-mass/2028-01-30/
LOCATION:St Nicholas of Tolentine Church\, 2345 University Avenue\, Bronx\, NY\, 10468\, United States
END:VEVENT
BEGIN:VEVENT
DTSTART;TZID=America/New_York:20280130T093000
DTEND;TZID=America/New_York:20280130T110000
DTSTAMP:20260425T082938
CREATED:20250313T024022Z
LAST-MODIFIED:20250313T024024Z
UID:10019813-1832837400-1832842800@stnicholasoftolentinebronx.org
SUMMARY:9:30 am Spanish Mass
DESCRIPTION:
URL:https://stnicholasoftolentinebronx.org/event/930-am-spanish-mass/2028-01-30/
LOCATION:St Nicholas of Tolentine Church\, 2345 University Avenue\, Bronx\, NY\, 10468\, United States
END:VEVENT
BEGIN:VEVENT
DTSTART;TZID=America/New_York:20280130T113000
DTEND;TZID=America/New_York:20280130T123000
DTSTAMP:20260425T082938
CREATED:20250313T024110Z
LAST-MODIFIED:20250313T024112Z
UID:10020074-1832844600-1832848200@stnicholasoftolentinebronx.org
SUMMARY:11:30 am English Mass
DESCRIPTION:
URL:https://stnicholasoftolentinebronx.org/event/1130-am-english-mass/2028-01-30/
LOCATION:St Nicholas of Tolentine Church\, 2345 University Avenue\, Bronx\, NY\, 10468\, United States
END:VEVENT
BEGIN:VEVENT
DTSTART;TZID=America/New_York:20280130T133000
DTEND;TZID=America/New_York:20280130T143000
DTSTAMP:20260425T082938
CREATED:20250313T024158Z
LAST-MODIFIED:20250313T024339Z
UID:10020335-1832851800-1832855400@stnicholasoftolentinebronx.org
SUMMARY:1:30 pm Vietnamese Mass
DESCRIPTION:
URL:https://stnicholasoftolentinebronx.org/event/130-pm-vietnamese-mass/2028-01-30/
LOCATION:St Nicholas of Tolentine Church\, 2345 University Avenue\, Bronx\, NY\, 10468\, United States
END:VEVENT
BEGIN:VEVENT
DTSTART;TZID=America/New_York:20280131T083000
DTEND;TZID=America/New_York:20280131T093000
DTSTAMP:20260425T082938
CREATED:20250305T035020Z
LAST-MODIFIED:20250305T035025Z
UID:10016485-1832920200-1832923800@stnicholasoftolentinebronx.org
SUMMARY:8:30 am Spanish Mass
DESCRIPTION:
URL:https://stnicholasoftolentinebronx.org/event/830-am-spanish-mass-3/2028-01-31/
LOCATION:St Nicholas of Tolentine Church\, 2345 University Avenue\, Bronx\, NY\, 10468\, United States
END:VEVENT
BEGIN:VEVENT
DTSTART;TZID=America/New_York:20280131T120000
DTEND;TZID=America/New_York:20280131T123000
DTSTAMP:20260425T082938
CREATED:20250305T040540Z
LAST-MODIFIED:20250305T040545Z
UID:10017789-1832932800-1832934600@stnicholasoftolentinebronx.org
SUMMARY:12:00 Noon English mass
DESCRIPTION:
URL:https://stnicholasoftolentinebronx.org/event/1200-noon-english-mass/2028-01-31/
LOCATION:St Nicholas of Tolentine Church\, 2345 University Avenue\, Bronx\, NY\, 10468\, United States
END:VEVENT
BEGIN:VEVENT
DTSTART;TZID=America/New_York:20280201T083000
DTEND;TZID=America/New_York:20280201T093000
DTSTAMP:20260425T082938
CREATED:20250305T035020Z
LAST-MODIFIED:20250305T035025Z
UID:10016486-1833006600-1833010200@stnicholasoftolentinebronx.org
SUMMARY:8:30 am Spanish Mass
DESCRIPTION:
URL:https://stnicholasoftolentinebronx.org/event/830-am-spanish-mass-3/2028-02-01/
LOCATION:St Nicholas of Tolentine Church\, 2345 University Avenue\, Bronx\, NY\, 10468\, United States
END:VEVENT
BEGIN:VEVENT
DTSTART;TZID=America/New_York:20280201T120000
DTEND;TZID=America/New_York:20280201T123000
DTSTAMP:20260425T082938
CREATED:20250305T040540Z
LAST-MODIFIED:20250305T040545Z
UID:10017790-1833019200-1833021000@stnicholasoftolentinebronx.org
SUMMARY:12:00 Noon English mass
DESCRIPTION:
URL:https://stnicholasoftolentinebronx.org/event/1200-noon-english-mass/2028-02-01/
LOCATION:St Nicholas of Tolentine Church\, 2345 University Avenue\, Bronx\, NY\, 10468\, United States
END:VEVENT
BEGIN:VEVENT
DTSTART;TZID=America/New_York:20280202T083000
DTEND;TZID=America/New_York:20280202T093000
DTSTAMP:20260425T082938
CREATED:20250305T035020Z
LAST-MODIFIED:20250305T035025Z
UID:10016487-1833093000-1833096600@stnicholasoftolentinebronx.org
SUMMARY:8:30 am Spanish Mass
DESCRIPTION:
URL:https://stnicholasoftolentinebronx.org/event/830-am-spanish-mass-3/2028-02-02/
LOCATION:St Nicholas of Tolentine Church\, 2345 University Avenue\, Bronx\, NY\, 10468\, United States
END:VEVENT
BEGIN:VEVENT
DTSTART;TZID=America/New_York:20280202T120000
DTEND;TZID=America/New_York:20280202T123000
DTSTAMP:20260425T082938
CREATED:20250305T040540Z
LAST-MODIFIED:20250305T040545Z
UID:10017791-1833105600-1833107400@stnicholasoftolentinebronx.org
SUMMARY:12:00 Noon English mass
DESCRIPTION:
URL:https://stnicholasoftolentinebronx.org/event/1200-noon-english-mass/2028-02-02/
LOCATION:St Nicholas of Tolentine Church\, 2345 University Avenue\, Bronx\, NY\, 10468\, United States
END:VEVENT
BEGIN:VEVENT
DTSTART;TZID=America/New_York:20280203T083000
DTEND;TZID=America/New_York:20280203T093000
DTSTAMP:20260425T082938
CREATED:20250305T035020Z
LAST-MODIFIED:20250305T035025Z
UID:10016488-1833179400-1833183000@stnicholasoftolentinebronx.org
SUMMARY:8:30 am Spanish Mass
DESCRIPTION:
URL:https://stnicholasoftolentinebronx.org/event/830-am-spanish-mass-3/2028-02-03/
LOCATION:St Nicholas of Tolentine Church\, 2345 University Avenue\, Bronx\, NY\, 10468\, United States
END:VEVENT
BEGIN:VEVENT
DTSTART;TZID=America/New_York:20280203T120000
DTEND;TZID=America/New_York:20280203T123000
DTSTAMP:20260425T082938
CREATED:20250305T040540Z
LAST-MODIFIED:20250305T040545Z
UID:10017792-1833192000-1833193800@stnicholasoftolentinebronx.org
SUMMARY:12:00 Noon English mass
DESCRIPTION:
URL:https://stnicholasoftolentinebronx.org/event/1200-noon-english-mass/2028-02-03/
LOCATION:St Nicholas of Tolentine Church\, 2345 University Avenue\, Bronx\, NY\, 10468\, United States
END:VEVENT
BEGIN:VEVENT
DTSTART;TZID=America/New_York:20280203T190000
DTEND;TZID=America/New_York:20280203T210000
DTSTAMP:20260425T082938
CREATED:20250305T041048Z
LAST-MODIFIED:20250306T225714Z
UID:10018489-1833217200-1833224400@stnicholasoftolentinebronx.org
SUMMARY:7:00 pm Círculo
DESCRIPTION:
URL:https://stnicholasoftolentinebronx.org/event/700-circulo/2028-02-03/
LOCATION:NY
END:VEVENT
END:VCALENDAR