BEGIN:VCALENDAR
VERSION:2.0
PRODID:-//St. Nicholas of Tolentine Church - ECPv6.15.20//NONSGML v1.0//EN
CALSCALE:GREGORIAN
METHOD:PUBLISH
X-ORIGINAL-URL:https://stnicholasoftolentinebronx.org
X-WR-CALDESC:Events for St. Nicholas of Tolentine Church
REFRESH-INTERVAL;VALUE=DURATION:PT1H
X-Robots-Tag:noindex
X-PUBLISHED-TTL:PT1H
BEGIN:VTIMEZONE
TZID:America/New_York
BEGIN:DAYLIGHT
TZOFFSETFROM:-0500
TZOFFSETTO:-0400
TZNAME:EDT
DTSTART:20270314T070000
END:DAYLIGHT
BEGIN:STANDARD
TZOFFSETFROM:-0400
TZOFFSETTO:-0500
TZNAME:EST
DTSTART:20271107T060000
END:STANDARD
BEGIN:DAYLIGHT
TZOFFSETFROM:-0500
TZOFFSETTO:-0400
TZNAME:EDT
DTSTART:20280312T070000
END:DAYLIGHT
BEGIN:STANDARD
TZOFFSETFROM:-0400
TZOFFSETTO:-0500
TZNAME:EST
DTSTART:20281105T060000
END:STANDARD
BEGIN:DAYLIGHT
TZOFFSETFROM:-0500
TZOFFSETTO:-0400
TZNAME:EDT
DTSTART:20290311T070000
END:DAYLIGHT
BEGIN:STANDARD
TZOFFSETFROM:-0400
TZOFFSETTO:-0500
TZNAME:EST
DTSTART:20291104T060000
END:STANDARD
END:VTIMEZONE
BEGIN:VEVENT
DTSTART;TZID=America/New_York:20280312T080000
DTEND;TZID=America/New_York:20280312T090000
DTSTAMP:20260425T153413
CREATED:20250313T023930Z
LAST-MODIFIED:20250418T035212Z
UID:10019558-1836460800-1836464400@stnicholasoftolentinebronx.org
SUMMARY:8:00 am English Mass
DESCRIPTION:
URL:https://stnicholasoftolentinebronx.org/event/800-am-english-mass/2028-03-12/
LOCATION:St Nicholas of Tolentine Church\, 2345 University Avenue\, Bronx\, NY\, 10468\, United States
END:VEVENT
BEGIN:VEVENT
DTSTART;TZID=America/New_York:20280312T093000
DTEND;TZID=America/New_York:20280312T110000
DTSTAMP:20260425T153413
CREATED:20250313T024022Z
LAST-MODIFIED:20250313T024024Z
UID:10019819-1836466200-1836471600@stnicholasoftolentinebronx.org
SUMMARY:9:30 am Spanish Mass
DESCRIPTION:
URL:https://stnicholasoftolentinebronx.org/event/930-am-spanish-mass/2028-03-12/
LOCATION:St Nicholas of Tolentine Church\, 2345 University Avenue\, Bronx\, NY\, 10468\, United States
END:VEVENT
BEGIN:VEVENT
DTSTART;TZID=America/New_York:20280312T113000
DTEND;TZID=America/New_York:20280312T123000
DTSTAMP:20260425T153413
CREATED:20250313T024110Z
LAST-MODIFIED:20250313T024112Z
UID:10020080-1836473400-1836477000@stnicholasoftolentinebronx.org
SUMMARY:11:30 am English Mass
DESCRIPTION:
URL:https://stnicholasoftolentinebronx.org/event/1130-am-english-mass/2028-03-12/
LOCATION:St Nicholas of Tolentine Church\, 2345 University Avenue\, Bronx\, NY\, 10468\, United States
END:VEVENT
BEGIN:VEVENT
DTSTART;TZID=America/New_York:20280312T133000
DTEND;TZID=America/New_York:20280312T143000
DTSTAMP:20260425T153413
CREATED:20250313T024158Z
LAST-MODIFIED:20250313T024339Z
UID:10020341-1836480600-1836484200@stnicholasoftolentinebronx.org
SUMMARY:1:30 pm Vietnamese Mass
DESCRIPTION:
URL:https://stnicholasoftolentinebronx.org/event/130-pm-vietnamese-mass/2028-03-12/
LOCATION:St Nicholas of Tolentine Church\, 2345 University Avenue\, Bronx\, NY\, 10468\, United States
END:VEVENT
BEGIN:VEVENT
DTSTART;TZID=America/New_York:20280313T083000
DTEND;TZID=America/New_York:20280313T093000
DTSTAMP:20260425T153413
CREATED:20250305T035020Z
LAST-MODIFIED:20250305T035025Z
UID:10016515-1836549000-1836552600@stnicholasoftolentinebronx.org
SUMMARY:8:30 am Spanish Mass
DESCRIPTION:
URL:https://stnicholasoftolentinebronx.org/event/830-am-spanish-mass-3/2028-03-13/
LOCATION:St Nicholas of Tolentine Church\, 2345 University Avenue\, Bronx\, NY\, 10468\, United States
END:VEVENT
BEGIN:VEVENT
DTSTART;TZID=America/New_York:20280313T120000
DTEND;TZID=America/New_York:20280313T123000
DTSTAMP:20260425T153413
CREATED:20250305T040540Z
LAST-MODIFIED:20250305T040545Z
UID:10017819-1836561600-1836563400@stnicholasoftolentinebronx.org
SUMMARY:12:00 Noon English mass
DESCRIPTION:
URL:https://stnicholasoftolentinebronx.org/event/1200-noon-english-mass/2028-03-13/
LOCATION:St Nicholas of Tolentine Church\, 2345 University Avenue\, Bronx\, NY\, 10468\, United States
END:VEVENT
BEGIN:VEVENT
DTSTART;TZID=America/New_York:20280314T083000
DTEND;TZID=America/New_York:20280314T093000
DTSTAMP:20260425T153413
CREATED:20250305T035020Z
LAST-MODIFIED:20250305T035025Z
UID:10016516-1836635400-1836639000@stnicholasoftolentinebronx.org
SUMMARY:8:30 am Spanish Mass
DESCRIPTION:
URL:https://stnicholasoftolentinebronx.org/event/830-am-spanish-mass-3/2028-03-14/
LOCATION:St Nicholas of Tolentine Church\, 2345 University Avenue\, Bronx\, NY\, 10468\, United States
END:VEVENT
BEGIN:VEVENT
DTSTART;TZID=America/New_York:20280314T120000
DTEND;TZID=America/New_York:20280314T123000
DTSTAMP:20260425T153413
CREATED:20250305T040540Z
LAST-MODIFIED:20250305T040545Z
UID:10017820-1836648000-1836649800@stnicholasoftolentinebronx.org
SUMMARY:12:00 Noon English mass
DESCRIPTION:
URL:https://stnicholasoftolentinebronx.org/event/1200-noon-english-mass/2028-03-14/
LOCATION:St Nicholas of Tolentine Church\, 2345 University Avenue\, Bronx\, NY\, 10468\, United States
END:VEVENT
BEGIN:VEVENT
DTSTART;TZID=America/New_York:20280315T083000
DTEND;TZID=America/New_York:20280315T093000
DTSTAMP:20260425T153413
CREATED:20250305T035020Z
LAST-MODIFIED:20250305T035025Z
UID:10016517-1836721800-1836725400@stnicholasoftolentinebronx.org
SUMMARY:8:30 am Spanish Mass
DESCRIPTION:
URL:https://stnicholasoftolentinebronx.org/event/830-am-spanish-mass-3/2028-03-15/
LOCATION:St Nicholas of Tolentine Church\, 2345 University Avenue\, Bronx\, NY\, 10468\, United States
END:VEVENT
BEGIN:VEVENT
DTSTART;TZID=America/New_York:20280315T120000
DTEND;TZID=America/New_York:20280315T123000
DTSTAMP:20260425T153413
CREATED:20250305T040540Z
LAST-MODIFIED:20250305T040545Z
UID:10017821-1836734400-1836736200@stnicholasoftolentinebronx.org
SUMMARY:12:00 Noon English mass
DESCRIPTION:
URL:https://stnicholasoftolentinebronx.org/event/1200-noon-english-mass/2028-03-15/
LOCATION:St Nicholas of Tolentine Church\, 2345 University Avenue\, Bronx\, NY\, 10468\, United States
END:VEVENT
BEGIN:VEVENT
DTSTART;TZID=America/New_York:20280316T083000
DTEND;TZID=America/New_York:20280316T093000
DTSTAMP:20260425T153413
CREATED:20250305T035020Z
LAST-MODIFIED:20250305T035025Z
UID:10016518-1836808200-1836811800@stnicholasoftolentinebronx.org
SUMMARY:8:30 am Spanish Mass
DESCRIPTION:
URL:https://stnicholasoftolentinebronx.org/event/830-am-spanish-mass-3/2028-03-16/
LOCATION:St Nicholas of Tolentine Church\, 2345 University Avenue\, Bronx\, NY\, 10468\, United States
END:VEVENT
BEGIN:VEVENT
DTSTART;TZID=America/New_York:20280316T120000
DTEND;TZID=America/New_York:20280316T123000
DTSTAMP:20260425T153413
CREATED:20250305T040540Z
LAST-MODIFIED:20250305T040545Z
UID:10017822-1836820800-1836822600@stnicholasoftolentinebronx.org
SUMMARY:12:00 Noon English mass
DESCRIPTION:
URL:https://stnicholasoftolentinebronx.org/event/1200-noon-english-mass/2028-03-16/
LOCATION:St Nicholas of Tolentine Church\, 2345 University Avenue\, Bronx\, NY\, 10468\, United States
END:VEVENT
BEGIN:VEVENT
DTSTART;TZID=America/New_York:20280316T190000
DTEND;TZID=America/New_York:20280316T210000
DTSTAMP:20260425T153413
CREATED:20250305T041048Z
LAST-MODIFIED:20250306T225714Z
UID:10018495-1836846000-1836853200@stnicholasoftolentinebronx.org
SUMMARY:7:00 pm Círculo
DESCRIPTION:
URL:https://stnicholasoftolentinebronx.org/event/700-circulo/2028-03-16/
LOCATION:NY
END:VEVENT
BEGIN:VEVENT
DTSTART;TZID=America/New_York:20280317T083000
DTEND;TZID=America/New_York:20280317T093000
DTSTAMP:20260425T153413
CREATED:20250305T035020Z
LAST-MODIFIED:20250305T035025Z
UID:10016519-1836894600-1836898200@stnicholasoftolentinebronx.org
SUMMARY:8:30 am Spanish Mass
DESCRIPTION:
URL:https://stnicholasoftolentinebronx.org/event/830-am-spanish-mass-3/2028-03-17/
LOCATION:St Nicholas of Tolentine Church\, 2345 University Avenue\, Bronx\, NY\, 10468\, United States
END:VEVENT
BEGIN:VEVENT
DTSTART;TZID=America/New_York:20280317T120000
DTEND;TZID=America/New_York:20280317T123000
DTSTAMP:20260425T153413
CREATED:20250305T040540Z
LAST-MODIFIED:20250305T040545Z
UID:10017823-1836907200-1836909000@stnicholasoftolentinebronx.org
SUMMARY:12:00 Noon English mass
DESCRIPTION:
URL:https://stnicholasoftolentinebronx.org/event/1200-noon-english-mass/2028-03-17/
LOCATION:St Nicholas of Tolentine Church\, 2345 University Avenue\, Bronx\, NY\, 10468\, United States
END:VEVENT
BEGIN:VEVENT
DTSTART;TZID=America/New_York:20280318T074500
DTEND;TZID=America/New_York:20280318T083000
DTSTAMP:20260425T153413
CREATED:20250313T023643Z
LAST-MODIFIED:20250313T023646Z
UID:10018776-1836978300-1836981000@stnicholasoftolentinebronx.org
SUMMARY:7:45 am Vietnamese Mass
DESCRIPTION:
URL:https://stnicholasoftolentinebronx.org/event/745-am-vietnamese-mass/2028-03-18/
LOCATION:St Nicholas of Tolentine Church\, 2345 University Avenue\, Bronx\, NY\, 10468\, United States
END:VEVENT
BEGIN:VEVENT
DTSTART;TZID=America/New_York:20280318T173000
DTEND;TZID=America/New_York:20280318T183000
DTSTAMP:20260425T153413
CREATED:20250313T023751Z
LAST-MODIFIED:20250313T023752Z
UID:10019037-1837013400-1837017000@stnicholasoftolentinebronx.org
SUMMARY:5:30 pm Confessions
DESCRIPTION:
URL:https://stnicholasoftolentinebronx.org/event/530-pm-confessions/2028-03-18/
LOCATION:St Nicholas of Tolentine Church\, 2345 University Avenue\, Bronx\, NY\, 10468\, United States
END:VEVENT
BEGIN:VEVENT
DTSTART;TZID=America/New_York:20280318T190000
DTEND;TZID=America/New_York:20280318T200000
DTSTAMP:20260425T153413
CREATED:20250313T023841Z
LAST-MODIFIED:20250313T023842Z
UID:10019298-1837018800-1837022400@stnicholasoftolentinebronx.org
SUMMARY:7:00 pm Spanish Mass
DESCRIPTION:
URL:https://stnicholasoftolentinebronx.org/event/700-pm-spanish-mass/2028-03-18/
LOCATION:St Nicholas of Tolentine Church\, 2345 University Avenue\, Bronx\, NY\, 10468\, United States
END:VEVENT
BEGIN:VEVENT
DTSTART;TZID=America/New_York:20280319T080000
DTEND;TZID=America/New_York:20280319T090000
DTSTAMP:20260425T153413
CREATED:20250313T023930Z
LAST-MODIFIED:20250418T035212Z
UID:10019559-1837065600-1837069200@stnicholasoftolentinebronx.org
SUMMARY:8:00 am English Mass
DESCRIPTION:
URL:https://stnicholasoftolentinebronx.org/event/800-am-english-mass/2028-03-19/
LOCATION:St Nicholas of Tolentine Church\, 2345 University Avenue\, Bronx\, NY\, 10468\, United States
END:VEVENT
BEGIN:VEVENT
DTSTART;TZID=America/New_York:20280319T093000
DTEND;TZID=America/New_York:20280319T110000
DTSTAMP:20260425T153413
CREATED:20250313T024022Z
LAST-MODIFIED:20250313T024024Z
UID:10019820-1837071000-1837076400@stnicholasoftolentinebronx.org
SUMMARY:9:30 am Spanish Mass
DESCRIPTION:
URL:https://stnicholasoftolentinebronx.org/event/930-am-spanish-mass/2028-03-19/
LOCATION:St Nicholas of Tolentine Church\, 2345 University Avenue\, Bronx\, NY\, 10468\, United States
END:VEVENT
BEGIN:VEVENT
DTSTART;TZID=America/New_York:20280319T113000
DTEND;TZID=America/New_York:20280319T123000
DTSTAMP:20260425T153413
CREATED:20250313T024110Z
LAST-MODIFIED:20250313T024112Z
UID:10020081-1837078200-1837081800@stnicholasoftolentinebronx.org
SUMMARY:11:30 am English Mass
DESCRIPTION:
URL:https://stnicholasoftolentinebronx.org/event/1130-am-english-mass/2028-03-19/
LOCATION:St Nicholas of Tolentine Church\, 2345 University Avenue\, Bronx\, NY\, 10468\, United States
END:VEVENT
BEGIN:VEVENT
DTSTART;TZID=America/New_York:20280319T133000
DTEND;TZID=America/New_York:20280319T143000
DTSTAMP:20260425T153413
CREATED:20250313T024158Z
LAST-MODIFIED:20250313T024339Z
UID:10020342-1837085400-1837089000@stnicholasoftolentinebronx.org
SUMMARY:1:30 pm Vietnamese Mass
DESCRIPTION:
URL:https://stnicholasoftolentinebronx.org/event/130-pm-vietnamese-mass/2028-03-19/
LOCATION:St Nicholas of Tolentine Church\, 2345 University Avenue\, Bronx\, NY\, 10468\, United States
END:VEVENT
BEGIN:VEVENT
DTSTART;TZID=America/New_York:20280320T083000
DTEND;TZID=America/New_York:20280320T093000
DTSTAMP:20260425T153413
CREATED:20250305T035020Z
LAST-MODIFIED:20250305T035025Z
UID:10016520-1837153800-1837157400@stnicholasoftolentinebronx.org
SUMMARY:8:30 am Spanish Mass
DESCRIPTION:
URL:https://stnicholasoftolentinebronx.org/event/830-am-spanish-mass-3/2028-03-20/
LOCATION:St Nicholas of Tolentine Church\, 2345 University Avenue\, Bronx\, NY\, 10468\, United States
END:VEVENT
BEGIN:VEVENT
DTSTART;TZID=America/New_York:20280320T120000
DTEND;TZID=America/New_York:20280320T123000
DTSTAMP:20260425T153413
CREATED:20250305T040540Z
LAST-MODIFIED:20250305T040545Z
UID:10017824-1837166400-1837168200@stnicholasoftolentinebronx.org
SUMMARY:12:00 Noon English mass
DESCRIPTION:
URL:https://stnicholasoftolentinebronx.org/event/1200-noon-english-mass/2028-03-20/
LOCATION:St Nicholas of Tolentine Church\, 2345 University Avenue\, Bronx\, NY\, 10468\, United States
END:VEVENT
BEGIN:VEVENT
DTSTART;TZID=America/New_York:20280321T083000
DTEND;TZID=America/New_York:20280321T093000
DTSTAMP:20260425T153413
CREATED:20250305T035020Z
LAST-MODIFIED:20250305T035025Z
UID:10016521-1837240200-1837243800@stnicholasoftolentinebronx.org
SUMMARY:8:30 am Spanish Mass
DESCRIPTION:
URL:https://stnicholasoftolentinebronx.org/event/830-am-spanish-mass-3/2028-03-21/
LOCATION:St Nicholas of Tolentine Church\, 2345 University Avenue\, Bronx\, NY\, 10468\, United States
END:VEVENT
BEGIN:VEVENT
DTSTART;TZID=America/New_York:20280321T120000
DTEND;TZID=America/New_York:20280321T123000
DTSTAMP:20260425T153413
CREATED:20250305T040540Z
LAST-MODIFIED:20250305T040545Z
UID:10017825-1837252800-1837254600@stnicholasoftolentinebronx.org
SUMMARY:12:00 Noon English mass
DESCRIPTION:
URL:https://stnicholasoftolentinebronx.org/event/1200-noon-english-mass/2028-03-21/
LOCATION:St Nicholas of Tolentine Church\, 2345 University Avenue\, Bronx\, NY\, 10468\, United States
END:VEVENT
BEGIN:VEVENT
DTSTART;TZID=America/New_York:20280322T083000
DTEND;TZID=America/New_York:20280322T093000
DTSTAMP:20260425T153413
CREATED:20250305T035020Z
LAST-MODIFIED:20250305T035025Z
UID:10016522-1837326600-1837330200@stnicholasoftolentinebronx.org
SUMMARY:8:30 am Spanish Mass
DESCRIPTION:
URL:https://stnicholasoftolentinebronx.org/event/830-am-spanish-mass-3/2028-03-22/
LOCATION:St Nicholas of Tolentine Church\, 2345 University Avenue\, Bronx\, NY\, 10468\, United States
END:VEVENT
BEGIN:VEVENT
DTSTART;TZID=America/New_York:20280322T120000
DTEND;TZID=America/New_York:20280322T123000
DTSTAMP:20260425T153413
CREATED:20250305T040540Z
LAST-MODIFIED:20250305T040545Z
UID:10017826-1837339200-1837341000@stnicholasoftolentinebronx.org
SUMMARY:12:00 Noon English mass
DESCRIPTION:
URL:https://stnicholasoftolentinebronx.org/event/1200-noon-english-mass/2028-03-22/
LOCATION:St Nicholas of Tolentine Church\, 2345 University Avenue\, Bronx\, NY\, 10468\, United States
END:VEVENT
BEGIN:VEVENT
DTSTART;TZID=America/New_York:20280323T083000
DTEND;TZID=America/New_York:20280323T093000
DTSTAMP:20260425T153413
CREATED:20250305T035020Z
LAST-MODIFIED:20250305T035025Z
UID:10016523-1837413000-1837416600@stnicholasoftolentinebronx.org
SUMMARY:8:30 am Spanish Mass
DESCRIPTION:
URL:https://stnicholasoftolentinebronx.org/event/830-am-spanish-mass-3/2028-03-23/
LOCATION:St Nicholas of Tolentine Church\, 2345 University Avenue\, Bronx\, NY\, 10468\, United States
END:VEVENT
BEGIN:VEVENT
DTSTART;TZID=America/New_York:20280323T120000
DTEND;TZID=America/New_York:20280323T123000
DTSTAMP:20260425T153413
CREATED:20250305T040540Z
LAST-MODIFIED:20250305T040545Z
UID:10017827-1837425600-1837427400@stnicholasoftolentinebronx.org
SUMMARY:12:00 Noon English mass
DESCRIPTION:
URL:https://stnicholasoftolentinebronx.org/event/1200-noon-english-mass/2028-03-23/
LOCATION:St Nicholas of Tolentine Church\, 2345 University Avenue\, Bronx\, NY\, 10468\, United States
END:VEVENT
END:VCALENDAR