BEGIN:VCALENDAR
VERSION:2.0
PRODID:-//St. Nicholas of Tolentine Church - ECPv6.15.20//NONSGML v1.0//EN
CALSCALE:GREGORIAN
METHOD:PUBLISH
X-ORIGINAL-URL:https://stnicholasoftolentinebronx.org
X-WR-CALDESC:Events for St. Nicholas of Tolentine Church
REFRESH-INTERVAL;VALUE=DURATION:PT1H
X-Robots-Tag:noindex
X-PUBLISHED-TTL:PT1H
BEGIN:VTIMEZONE
TZID:America/New_York
BEGIN:DAYLIGHT
TZOFFSETFROM:-0500
TZOFFSETTO:-0400
TZNAME:EDT
DTSTART:20270314T070000
END:DAYLIGHT
BEGIN:STANDARD
TZOFFSETFROM:-0400
TZOFFSETTO:-0500
TZNAME:EST
DTSTART:20271107T060000
END:STANDARD
BEGIN:DAYLIGHT
TZOFFSETFROM:-0500
TZOFFSETTO:-0400
TZNAME:EDT
DTSTART:20280312T070000
END:DAYLIGHT
BEGIN:STANDARD
TZOFFSETFROM:-0400
TZOFFSETTO:-0500
TZNAME:EST
DTSTART:20281105T060000
END:STANDARD
BEGIN:DAYLIGHT
TZOFFSETFROM:-0500
TZOFFSETTO:-0400
TZNAME:EDT
DTSTART:20290311T070000
END:DAYLIGHT
BEGIN:STANDARD
TZOFFSETFROM:-0400
TZOFFSETTO:-0500
TZNAME:EST
DTSTART:20291104T060000
END:STANDARD
END:VTIMEZONE
BEGIN:VEVENT
DTSTART;TZID=America/New_York:20280331T083000
DTEND;TZID=America/New_York:20280331T093000
DTSTAMP:20260425T122052
CREATED:20250305T035020Z
LAST-MODIFIED:20250305T035025Z
UID:10016529-1838104200-1838107800@stnicholasoftolentinebronx.org
SUMMARY:8:30 am Spanish Mass
DESCRIPTION:
URL:https://stnicholasoftolentinebronx.org/event/830-am-spanish-mass-3/2028-03-31/
LOCATION:St Nicholas of Tolentine Church\, 2345 University Avenue\, Bronx\, NY\, 10468\, United States
END:VEVENT
BEGIN:VEVENT
DTSTART;TZID=America/New_York:20280331T120000
DTEND;TZID=America/New_York:20280331T123000
DTSTAMP:20260425T122052
CREATED:20250305T040540Z
LAST-MODIFIED:20250305T040545Z
UID:10017833-1838116800-1838118600@stnicholasoftolentinebronx.org
SUMMARY:12:00 Noon English mass
DESCRIPTION:
URL:https://stnicholasoftolentinebronx.org/event/1200-noon-english-mass/2028-03-31/
LOCATION:St Nicholas of Tolentine Church\, 2345 University Avenue\, Bronx\, NY\, 10468\, United States
END:VEVENT
BEGIN:VEVENT
DTSTART;TZID=America/New_York:20280401T074500
DTEND;TZID=America/New_York:20280401T083000
DTSTAMP:20260425T122052
CREATED:20250313T023643Z
LAST-MODIFIED:20250313T023646Z
UID:10018778-1838187900-1838190600@stnicholasoftolentinebronx.org
SUMMARY:7:45 am Vietnamese Mass
DESCRIPTION:
URL:https://stnicholasoftolentinebronx.org/event/745-am-vietnamese-mass/2028-04-01/
LOCATION:St Nicholas of Tolentine Church\, 2345 University Avenue\, Bronx\, NY\, 10468\, United States
END:VEVENT
BEGIN:VEVENT
DTSTART;TZID=America/New_York:20280401T173000
DTEND;TZID=America/New_York:20280401T183000
DTSTAMP:20260425T122052
CREATED:20250313T023751Z
LAST-MODIFIED:20250313T023752Z
UID:10019039-1838223000-1838226600@stnicholasoftolentinebronx.org
SUMMARY:5:30 pm Confessions
DESCRIPTION:
URL:https://stnicholasoftolentinebronx.org/event/530-pm-confessions/2028-04-01/
LOCATION:St Nicholas of Tolentine Church\, 2345 University Avenue\, Bronx\, NY\, 10468\, United States
END:VEVENT
BEGIN:VEVENT
DTSTART;TZID=America/New_York:20280401T190000
DTEND;TZID=America/New_York:20280401T200000
DTSTAMP:20260425T122052
CREATED:20250313T023841Z
LAST-MODIFIED:20250313T023842Z
UID:10019300-1838228400-1838232000@stnicholasoftolentinebronx.org
SUMMARY:7:00 pm Spanish Mass
DESCRIPTION:
URL:https://stnicholasoftolentinebronx.org/event/700-pm-spanish-mass/2028-04-01/
LOCATION:St Nicholas of Tolentine Church\, 2345 University Avenue\, Bronx\, NY\, 10468\, United States
END:VEVENT
BEGIN:VEVENT
DTSTART;TZID=America/New_York:20280402T080000
DTEND;TZID=America/New_York:20280402T090000
DTSTAMP:20260425T122052
CREATED:20250313T023930Z
LAST-MODIFIED:20250418T035212Z
UID:10019561-1838275200-1838278800@stnicholasoftolentinebronx.org
SUMMARY:8:00 am English Mass
DESCRIPTION:
URL:https://stnicholasoftolentinebronx.org/event/800-am-english-mass/2028-04-02/
LOCATION:St Nicholas of Tolentine Church\, 2345 University Avenue\, Bronx\, NY\, 10468\, United States
END:VEVENT
BEGIN:VEVENT
DTSTART;TZID=America/New_York:20280402T093000
DTEND;TZID=America/New_York:20280402T110000
DTSTAMP:20260425T122052
CREATED:20250313T024022Z
LAST-MODIFIED:20250313T024024Z
UID:10019822-1838280600-1838286000@stnicholasoftolentinebronx.org
SUMMARY:9:30 am Spanish Mass
DESCRIPTION:
URL:https://stnicholasoftolentinebronx.org/event/930-am-spanish-mass/2028-04-02/
LOCATION:St Nicholas of Tolentine Church\, 2345 University Avenue\, Bronx\, NY\, 10468\, United States
END:VEVENT
BEGIN:VEVENT
DTSTART;TZID=America/New_York:20280402T113000
DTEND;TZID=America/New_York:20280402T123000
DTSTAMP:20260425T122052
CREATED:20250313T024110Z
LAST-MODIFIED:20250313T024112Z
UID:10020083-1838287800-1838291400@stnicholasoftolentinebronx.org
SUMMARY:11:30 am English Mass
DESCRIPTION:
URL:https://stnicholasoftolentinebronx.org/event/1130-am-english-mass/2028-04-02/
LOCATION:St Nicholas of Tolentine Church\, 2345 University Avenue\, Bronx\, NY\, 10468\, United States
END:VEVENT
BEGIN:VEVENT
DTSTART;TZID=America/New_York:20280402T133000
DTEND;TZID=America/New_York:20280402T143000
DTSTAMP:20260425T122052
CREATED:20250313T024158Z
LAST-MODIFIED:20250313T024339Z
UID:10020344-1838295000-1838298600@stnicholasoftolentinebronx.org
SUMMARY:1:30 pm Vietnamese Mass
DESCRIPTION:
URL:https://stnicholasoftolentinebronx.org/event/130-pm-vietnamese-mass/2028-04-02/
LOCATION:St Nicholas of Tolentine Church\, 2345 University Avenue\, Bronx\, NY\, 10468\, United States
END:VEVENT
BEGIN:VEVENT
DTSTART;TZID=America/New_York:20280403T083000
DTEND;TZID=America/New_York:20280403T093000
DTSTAMP:20260425T122052
CREATED:20250305T035020Z
LAST-MODIFIED:20250305T035025Z
UID:10016530-1838363400-1838367000@stnicholasoftolentinebronx.org
SUMMARY:8:30 am Spanish Mass
DESCRIPTION:
URL:https://stnicholasoftolentinebronx.org/event/830-am-spanish-mass-3/2028-04-03/
LOCATION:St Nicholas of Tolentine Church\, 2345 University Avenue\, Bronx\, NY\, 10468\, United States
END:VEVENT
BEGIN:VEVENT
DTSTART;TZID=America/New_York:20280403T120000
DTEND;TZID=America/New_York:20280403T123000
DTSTAMP:20260425T122052
CREATED:20250305T040540Z
LAST-MODIFIED:20250305T040545Z
UID:10017834-1838376000-1838377800@stnicholasoftolentinebronx.org
SUMMARY:12:00 Noon English mass
DESCRIPTION:
URL:https://stnicholasoftolentinebronx.org/event/1200-noon-english-mass/2028-04-03/
LOCATION:St Nicholas of Tolentine Church\, 2345 University Avenue\, Bronx\, NY\, 10468\, United States
END:VEVENT
BEGIN:VEVENT
DTSTART;TZID=America/New_York:20280404T083000
DTEND;TZID=America/New_York:20280404T093000
DTSTAMP:20260425T122052
CREATED:20250305T035020Z
LAST-MODIFIED:20250305T035025Z
UID:10016531-1838449800-1838453400@stnicholasoftolentinebronx.org
SUMMARY:8:30 am Spanish Mass
DESCRIPTION:
URL:https://stnicholasoftolentinebronx.org/event/830-am-spanish-mass-3/2028-04-04/
LOCATION:St Nicholas of Tolentine Church\, 2345 University Avenue\, Bronx\, NY\, 10468\, United States
END:VEVENT
BEGIN:VEVENT
DTSTART;TZID=America/New_York:20280404T120000
DTEND;TZID=America/New_York:20280404T123000
DTSTAMP:20260425T122052
CREATED:20250305T040540Z
LAST-MODIFIED:20250305T040545Z
UID:10017835-1838462400-1838464200@stnicholasoftolentinebronx.org
SUMMARY:12:00 Noon English mass
DESCRIPTION:
URL:https://stnicholasoftolentinebronx.org/event/1200-noon-english-mass/2028-04-04/
LOCATION:St Nicholas of Tolentine Church\, 2345 University Avenue\, Bronx\, NY\, 10468\, United States
END:VEVENT
BEGIN:VEVENT
DTSTART;TZID=America/New_York:20280405T083000
DTEND;TZID=America/New_York:20280405T093000
DTSTAMP:20260425T122052
CREATED:20250305T035020Z
LAST-MODIFIED:20250305T035025Z
UID:10016532-1838536200-1838539800@stnicholasoftolentinebronx.org
SUMMARY:8:30 am Spanish Mass
DESCRIPTION:
URL:https://stnicholasoftolentinebronx.org/event/830-am-spanish-mass-3/2028-04-05/
LOCATION:St Nicholas of Tolentine Church\, 2345 University Avenue\, Bronx\, NY\, 10468\, United States
END:VEVENT
BEGIN:VEVENT
DTSTART;TZID=America/New_York:20280405T120000
DTEND;TZID=America/New_York:20280405T123000
DTSTAMP:20260425T122052
CREATED:20250305T040540Z
LAST-MODIFIED:20250305T040545Z
UID:10017836-1838548800-1838550600@stnicholasoftolentinebronx.org
SUMMARY:12:00 Noon English mass
DESCRIPTION:
URL:https://stnicholasoftolentinebronx.org/event/1200-noon-english-mass/2028-04-05/
LOCATION:St Nicholas of Tolentine Church\, 2345 University Avenue\, Bronx\, NY\, 10468\, United States
END:VEVENT
BEGIN:VEVENT
DTSTART;TZID=America/New_York:20280406T083000
DTEND;TZID=America/New_York:20280406T093000
DTSTAMP:20260425T122052
CREATED:20250305T035020Z
LAST-MODIFIED:20250305T035025Z
UID:10016533-1838622600-1838626200@stnicholasoftolentinebronx.org
SUMMARY:8:30 am Spanish Mass
DESCRIPTION:
URL:https://stnicholasoftolentinebronx.org/event/830-am-spanish-mass-3/2028-04-06/
LOCATION:St Nicholas of Tolentine Church\, 2345 University Avenue\, Bronx\, NY\, 10468\, United States
END:VEVENT
BEGIN:VEVENT
DTSTART;TZID=America/New_York:20280406T120000
DTEND;TZID=America/New_York:20280406T123000
DTSTAMP:20260425T122052
CREATED:20250305T040540Z
LAST-MODIFIED:20250305T040545Z
UID:10017837-1838635200-1838637000@stnicholasoftolentinebronx.org
SUMMARY:12:00 Noon English mass
DESCRIPTION:
URL:https://stnicholasoftolentinebronx.org/event/1200-noon-english-mass/2028-04-06/
LOCATION:St Nicholas of Tolentine Church\, 2345 University Avenue\, Bronx\, NY\, 10468\, United States
END:VEVENT
BEGIN:VEVENT
DTSTART;TZID=America/New_York:20280406T190000
DTEND;TZID=America/New_York:20280406T210000
DTSTAMP:20260425T122052
CREATED:20250305T041048Z
LAST-MODIFIED:20250306T225714Z
UID:10018498-1838660400-1838667600@stnicholasoftolentinebronx.org
SUMMARY:7:00 pm Círculo
DESCRIPTION:
URL:https://stnicholasoftolentinebronx.org/event/700-circulo/2028-04-06/
LOCATION:NY
END:VEVENT
BEGIN:VEVENT
DTSTART;TZID=America/New_York:20280407T083000
DTEND;TZID=America/New_York:20280407T093000
DTSTAMP:20260425T122052
CREATED:20250305T035020Z
LAST-MODIFIED:20250305T035025Z
UID:10016534-1838709000-1838712600@stnicholasoftolentinebronx.org
SUMMARY:8:30 am Spanish Mass
DESCRIPTION:
URL:https://stnicholasoftolentinebronx.org/event/830-am-spanish-mass-3/2028-04-07/
LOCATION:St Nicholas of Tolentine Church\, 2345 University Avenue\, Bronx\, NY\, 10468\, United States
END:VEVENT
BEGIN:VEVENT
DTSTART;TZID=America/New_York:20280407T120000
DTEND;TZID=America/New_York:20280407T123000
DTSTAMP:20260425T122052
CREATED:20250305T040540Z
LAST-MODIFIED:20250305T040545Z
UID:10017838-1838721600-1838723400@stnicholasoftolentinebronx.org
SUMMARY:12:00 Noon English mass
DESCRIPTION:
URL:https://stnicholasoftolentinebronx.org/event/1200-noon-english-mass/2028-04-07/
LOCATION:St Nicholas of Tolentine Church\, 2345 University Avenue\, Bronx\, NY\, 10468\, United States
END:VEVENT
BEGIN:VEVENT
DTSTART;TZID=America/New_York:20280408T074500
DTEND;TZID=America/New_York:20280408T083000
DTSTAMP:20260425T122052
CREATED:20250313T023643Z
LAST-MODIFIED:20250313T023646Z
UID:10018779-1838792700-1838795400@stnicholasoftolentinebronx.org
SUMMARY:7:45 am Vietnamese Mass
DESCRIPTION:
URL:https://stnicholasoftolentinebronx.org/event/745-am-vietnamese-mass/2028-04-08/
LOCATION:St Nicholas of Tolentine Church\, 2345 University Avenue\, Bronx\, NY\, 10468\, United States
END:VEVENT
BEGIN:VEVENT
DTSTART;TZID=America/New_York:20280408T173000
DTEND;TZID=America/New_York:20280408T183000
DTSTAMP:20260425T122052
CREATED:20250313T023751Z
LAST-MODIFIED:20250313T023752Z
UID:10019040-1838827800-1838831400@stnicholasoftolentinebronx.org
SUMMARY:5:30 pm Confessions
DESCRIPTION:
URL:https://stnicholasoftolentinebronx.org/event/530-pm-confessions/2028-04-08/
LOCATION:St Nicholas of Tolentine Church\, 2345 University Avenue\, Bronx\, NY\, 10468\, United States
END:VEVENT
BEGIN:VEVENT
DTSTART;TZID=America/New_York:20280408T190000
DTEND;TZID=America/New_York:20280408T200000
DTSTAMP:20260425T122052
CREATED:20250313T023841Z
LAST-MODIFIED:20250313T023842Z
UID:10019301-1838833200-1838836800@stnicholasoftolentinebronx.org
SUMMARY:7:00 pm Spanish Mass
DESCRIPTION:
URL:https://stnicholasoftolentinebronx.org/event/700-pm-spanish-mass/2028-04-08/
LOCATION:St Nicholas of Tolentine Church\, 2345 University Avenue\, Bronx\, NY\, 10468\, United States
END:VEVENT
BEGIN:VEVENT
DTSTART;TZID=America/New_York:20280409T080000
DTEND;TZID=America/New_York:20280409T090000
DTSTAMP:20260425T122052
CREATED:20250313T023930Z
LAST-MODIFIED:20250418T035212Z
UID:10019562-1838880000-1838883600@stnicholasoftolentinebronx.org
SUMMARY:8:00 am English Mass
DESCRIPTION:
URL:https://stnicholasoftolentinebronx.org/event/800-am-english-mass/2028-04-09/
LOCATION:St Nicholas of Tolentine Church\, 2345 University Avenue\, Bronx\, NY\, 10468\, United States
END:VEVENT
BEGIN:VEVENT
DTSTART;TZID=America/New_York:20280409T093000
DTEND;TZID=America/New_York:20280409T110000
DTSTAMP:20260425T122052
CREATED:20250313T024022Z
LAST-MODIFIED:20250313T024024Z
UID:10019823-1838885400-1838890800@stnicholasoftolentinebronx.org
SUMMARY:9:30 am Spanish Mass
DESCRIPTION:
URL:https://stnicholasoftolentinebronx.org/event/930-am-spanish-mass/2028-04-09/
LOCATION:St Nicholas of Tolentine Church\, 2345 University Avenue\, Bronx\, NY\, 10468\, United States
END:VEVENT
BEGIN:VEVENT
DTSTART;TZID=America/New_York:20280409T113000
DTEND;TZID=America/New_York:20280409T123000
DTSTAMP:20260425T122052
CREATED:20250313T024110Z
LAST-MODIFIED:20250313T024112Z
UID:10020084-1838892600-1838896200@stnicholasoftolentinebronx.org
SUMMARY:11:30 am English Mass
DESCRIPTION:
URL:https://stnicholasoftolentinebronx.org/event/1130-am-english-mass/2028-04-09/
LOCATION:St Nicholas of Tolentine Church\, 2345 University Avenue\, Bronx\, NY\, 10468\, United States
END:VEVENT
BEGIN:VEVENT
DTSTART;TZID=America/New_York:20280409T133000
DTEND;TZID=America/New_York:20280409T143000
DTSTAMP:20260425T122052
CREATED:20250313T024158Z
LAST-MODIFIED:20250313T024339Z
UID:10020345-1838899800-1838903400@stnicholasoftolentinebronx.org
SUMMARY:1:30 pm Vietnamese Mass
DESCRIPTION:
URL:https://stnicholasoftolentinebronx.org/event/130-pm-vietnamese-mass/2028-04-09/
LOCATION:St Nicholas of Tolentine Church\, 2345 University Avenue\, Bronx\, NY\, 10468\, United States
END:VEVENT
BEGIN:VEVENT
DTSTART;TZID=America/New_York:20280410T083000
DTEND;TZID=America/New_York:20280410T093000
DTSTAMP:20260425T122052
CREATED:20250305T035020Z
LAST-MODIFIED:20250305T035025Z
UID:10016535-1838968200-1838971800@stnicholasoftolentinebronx.org
SUMMARY:8:30 am Spanish Mass
DESCRIPTION:
URL:https://stnicholasoftolentinebronx.org/event/830-am-spanish-mass-3/2028-04-10/
LOCATION:St Nicholas of Tolentine Church\, 2345 University Avenue\, Bronx\, NY\, 10468\, United States
END:VEVENT
BEGIN:VEVENT
DTSTART;TZID=America/New_York:20280410T120000
DTEND;TZID=America/New_York:20280410T123000
DTSTAMP:20260425T122052
CREATED:20250305T040540Z
LAST-MODIFIED:20250305T040545Z
UID:10017839-1838980800-1838982600@stnicholasoftolentinebronx.org
SUMMARY:12:00 Noon English mass
DESCRIPTION:
URL:https://stnicholasoftolentinebronx.org/event/1200-noon-english-mass/2028-04-10/
LOCATION:St Nicholas of Tolentine Church\, 2345 University Avenue\, Bronx\, NY\, 10468\, United States
END:VEVENT
BEGIN:VEVENT
DTSTART;TZID=America/New_York:20280411T083000
DTEND;TZID=America/New_York:20280411T093000
DTSTAMP:20260425T122052
CREATED:20250305T035020Z
LAST-MODIFIED:20250305T035025Z
UID:10016536-1839054600-1839058200@stnicholasoftolentinebronx.org
SUMMARY:8:30 am Spanish Mass
DESCRIPTION:
URL:https://stnicholasoftolentinebronx.org/event/830-am-spanish-mass-3/2028-04-11/
LOCATION:St Nicholas of Tolentine Church\, 2345 University Avenue\, Bronx\, NY\, 10468\, United States
END:VEVENT
END:VCALENDAR