BEGIN:VCALENDAR
VERSION:2.0
PRODID:-//St. Nicholas of Tolentine Church - ECPv6.15.20//NONSGML v1.0//EN
CALSCALE:GREGORIAN
METHOD:PUBLISH
X-ORIGINAL-URL:https://stnicholasoftolentinebronx.org
X-WR-CALDESC:Events for St. Nicholas of Tolentine Church
REFRESH-INTERVAL;VALUE=DURATION:PT1H
X-Robots-Tag:noindex
X-PUBLISHED-TTL:PT1H
BEGIN:VTIMEZONE
TZID:America/New_York
BEGIN:DAYLIGHT
TZOFFSETFROM:-0500
TZOFFSETTO:-0400
TZNAME:EDT
DTSTART:20270314T070000
END:DAYLIGHT
BEGIN:STANDARD
TZOFFSETFROM:-0400
TZOFFSETTO:-0500
TZNAME:EST
DTSTART:20271107T060000
END:STANDARD
BEGIN:DAYLIGHT
TZOFFSETFROM:-0500
TZOFFSETTO:-0400
TZNAME:EDT
DTSTART:20280312T070000
END:DAYLIGHT
BEGIN:STANDARD
TZOFFSETFROM:-0400
TZOFFSETTO:-0500
TZNAME:EST
DTSTART:20281105T060000
END:STANDARD
BEGIN:DAYLIGHT
TZOFFSETFROM:-0500
TZOFFSETTO:-0400
TZNAME:EDT
DTSTART:20290311T070000
END:DAYLIGHT
BEGIN:STANDARD
TZOFFSETFROM:-0400
TZOFFSETTO:-0500
TZNAME:EST
DTSTART:20291104T060000
END:STANDARD
END:VTIMEZONE
BEGIN:VEVENT
DTSTART;TZID=America/New_York:20280504T083000
DTEND;TZID=America/New_York:20280504T093000
DTSTAMP:20260425T121255
CREATED:20250305T035020Z
LAST-MODIFIED:20250305T035025Z
UID:10016553-1841041800-1841045400@stnicholasoftolentinebronx.org
SUMMARY:8:30 am Spanish Mass
DESCRIPTION:
URL:https://stnicholasoftolentinebronx.org/event/830-am-spanish-mass-3/2028-05-04/
LOCATION:St Nicholas of Tolentine Church\, 2345 University Avenue\, Bronx\, NY\, 10468\, United States
END:VEVENT
BEGIN:VEVENT
DTSTART;TZID=America/New_York:20280504T120000
DTEND;TZID=America/New_York:20280504T123000
DTSTAMP:20260425T121255
CREATED:20250305T040540Z
LAST-MODIFIED:20250305T040545Z
UID:10017857-1841054400-1841056200@stnicholasoftolentinebronx.org
SUMMARY:12:00 Noon English mass
DESCRIPTION:
URL:https://stnicholasoftolentinebronx.org/event/1200-noon-english-mass/2028-05-04/
LOCATION:St Nicholas of Tolentine Church\, 2345 University Avenue\, Bronx\, NY\, 10468\, United States
END:VEVENT
BEGIN:VEVENT
DTSTART;TZID=America/New_York:20280504T190000
DTEND;TZID=America/New_York:20280504T210000
DTSTAMP:20260425T121255
CREATED:20250305T041048Z
LAST-MODIFIED:20250306T225714Z
UID:10018502-1841079600-1841086800@stnicholasoftolentinebronx.org
SUMMARY:7:00 pm Círculo
DESCRIPTION:
URL:https://stnicholasoftolentinebronx.org/event/700-circulo/2028-05-04/
LOCATION:NY
END:VEVENT
BEGIN:VEVENT
DTSTART;TZID=America/New_York:20280505T083000
DTEND;TZID=America/New_York:20280505T093000
DTSTAMP:20260425T121255
CREATED:20250305T035020Z
LAST-MODIFIED:20250305T035025Z
UID:10016554-1841128200-1841131800@stnicholasoftolentinebronx.org
SUMMARY:8:30 am Spanish Mass
DESCRIPTION:
URL:https://stnicholasoftolentinebronx.org/event/830-am-spanish-mass-3/2028-05-05/
LOCATION:St Nicholas of Tolentine Church\, 2345 University Avenue\, Bronx\, NY\, 10468\, United States
END:VEVENT
BEGIN:VEVENT
DTSTART;TZID=America/New_York:20280505T120000
DTEND;TZID=America/New_York:20280505T123000
DTSTAMP:20260425T121255
CREATED:20250305T040540Z
LAST-MODIFIED:20250305T040545Z
UID:10017858-1841140800-1841142600@stnicholasoftolentinebronx.org
SUMMARY:12:00 Noon English mass
DESCRIPTION:
URL:https://stnicholasoftolentinebronx.org/event/1200-noon-english-mass/2028-05-05/
LOCATION:St Nicholas of Tolentine Church\, 2345 University Avenue\, Bronx\, NY\, 10468\, United States
END:VEVENT
BEGIN:VEVENT
DTSTART;TZID=America/New_York:20280506T074500
DTEND;TZID=America/New_York:20280506T083000
DTSTAMP:20260425T121255
CREATED:20250313T023643Z
LAST-MODIFIED:20250313T023646Z
UID:10018783-1841211900-1841214600@stnicholasoftolentinebronx.org
SUMMARY:7:45 am Vietnamese Mass
DESCRIPTION:
URL:https://stnicholasoftolentinebronx.org/event/745-am-vietnamese-mass/2028-05-06/
LOCATION:St Nicholas of Tolentine Church\, 2345 University Avenue\, Bronx\, NY\, 10468\, United States
END:VEVENT
BEGIN:VEVENT
DTSTART;TZID=America/New_York:20280506T173000
DTEND;TZID=America/New_York:20280506T183000
DTSTAMP:20260425T121255
CREATED:20250313T023751Z
LAST-MODIFIED:20250313T023752Z
UID:10019044-1841247000-1841250600@stnicholasoftolentinebronx.org
SUMMARY:5:30 pm Confessions
DESCRIPTION:
URL:https://stnicholasoftolentinebronx.org/event/530-pm-confessions/2028-05-06/
LOCATION:St Nicholas of Tolentine Church\, 2345 University Avenue\, Bronx\, NY\, 10468\, United States
END:VEVENT
BEGIN:VEVENT
DTSTART;TZID=America/New_York:20280506T190000
DTEND;TZID=America/New_York:20280506T200000
DTSTAMP:20260425T121255
CREATED:20250313T023841Z
LAST-MODIFIED:20250313T023842Z
UID:10019305-1841252400-1841256000@stnicholasoftolentinebronx.org
SUMMARY:7:00 pm Spanish Mass
DESCRIPTION:
URL:https://stnicholasoftolentinebronx.org/event/700-pm-spanish-mass/2028-05-06/
LOCATION:St Nicholas of Tolentine Church\, 2345 University Avenue\, Bronx\, NY\, 10468\, United States
END:VEVENT
BEGIN:VEVENT
DTSTART;TZID=America/New_York:20280507T080000
DTEND;TZID=America/New_York:20280507T090000
DTSTAMP:20260425T121255
CREATED:20250313T023930Z
LAST-MODIFIED:20250418T035212Z
UID:10019566-1841299200-1841302800@stnicholasoftolentinebronx.org
SUMMARY:8:00 am English Mass
DESCRIPTION:
URL:https://stnicholasoftolentinebronx.org/event/800-am-english-mass/2028-05-07/
LOCATION:St Nicholas of Tolentine Church\, 2345 University Avenue\, Bronx\, NY\, 10468\, United States
END:VEVENT
BEGIN:VEVENT
DTSTART;TZID=America/New_York:20280507T093000
DTEND;TZID=America/New_York:20280507T110000
DTSTAMP:20260425T121255
CREATED:20250313T024022Z
LAST-MODIFIED:20250313T024024Z
UID:10019827-1841304600-1841310000@stnicholasoftolentinebronx.org
SUMMARY:9:30 am Spanish Mass
DESCRIPTION:
URL:https://stnicholasoftolentinebronx.org/event/930-am-spanish-mass/2028-05-07/
LOCATION:St Nicholas of Tolentine Church\, 2345 University Avenue\, Bronx\, NY\, 10468\, United States
END:VEVENT
BEGIN:VEVENT
DTSTART;TZID=America/New_York:20280507T113000
DTEND;TZID=America/New_York:20280507T123000
DTSTAMP:20260425T121255
CREATED:20250313T024110Z
LAST-MODIFIED:20250313T024112Z
UID:10020088-1841311800-1841315400@stnicholasoftolentinebronx.org
SUMMARY:11:30 am English Mass
DESCRIPTION:
URL:https://stnicholasoftolentinebronx.org/event/1130-am-english-mass/2028-05-07/
LOCATION:St Nicholas of Tolentine Church\, 2345 University Avenue\, Bronx\, NY\, 10468\, United States
END:VEVENT
BEGIN:VEVENT
DTSTART;TZID=America/New_York:20280507T133000
DTEND;TZID=America/New_York:20280507T143000
DTSTAMP:20260425T121255
CREATED:20250313T024158Z
LAST-MODIFIED:20250313T024339Z
UID:10020349-1841319000-1841322600@stnicholasoftolentinebronx.org
SUMMARY:1:30 pm Vietnamese Mass
DESCRIPTION:
URL:https://stnicholasoftolentinebronx.org/event/130-pm-vietnamese-mass/2028-05-07/
LOCATION:St Nicholas of Tolentine Church\, 2345 University Avenue\, Bronx\, NY\, 10468\, United States
END:VEVENT
BEGIN:VEVENT
DTSTART;TZID=America/New_York:20280508T083000
DTEND;TZID=America/New_York:20280508T093000
DTSTAMP:20260425T121255
CREATED:20250305T035020Z
LAST-MODIFIED:20250305T035025Z
UID:10016555-1841387400-1841391000@stnicholasoftolentinebronx.org
SUMMARY:8:30 am Spanish Mass
DESCRIPTION:
URL:https://stnicholasoftolentinebronx.org/event/830-am-spanish-mass-3/2028-05-08/
LOCATION:St Nicholas of Tolentine Church\, 2345 University Avenue\, Bronx\, NY\, 10468\, United States
END:VEVENT
BEGIN:VEVENT
DTSTART;TZID=America/New_York:20280508T120000
DTEND;TZID=America/New_York:20280508T123000
DTSTAMP:20260425T121255
CREATED:20250305T040540Z
LAST-MODIFIED:20250305T040545Z
UID:10017859-1841400000-1841401800@stnicholasoftolentinebronx.org
SUMMARY:12:00 Noon English mass
DESCRIPTION:
URL:https://stnicholasoftolentinebronx.org/event/1200-noon-english-mass/2028-05-08/
LOCATION:St Nicholas of Tolentine Church\, 2345 University Avenue\, Bronx\, NY\, 10468\, United States
END:VEVENT
BEGIN:VEVENT
DTSTART;TZID=America/New_York:20280509T083000
DTEND;TZID=America/New_York:20280509T093000
DTSTAMP:20260425T121255
CREATED:20250305T035020Z
LAST-MODIFIED:20250305T035025Z
UID:10016556-1841473800-1841477400@stnicholasoftolentinebronx.org
SUMMARY:8:30 am Spanish Mass
DESCRIPTION:
URL:https://stnicholasoftolentinebronx.org/event/830-am-spanish-mass-3/2028-05-09/
LOCATION:St Nicholas of Tolentine Church\, 2345 University Avenue\, Bronx\, NY\, 10468\, United States
END:VEVENT
BEGIN:VEVENT
DTSTART;TZID=America/New_York:20280509T120000
DTEND;TZID=America/New_York:20280509T123000
DTSTAMP:20260425T121255
CREATED:20250305T040540Z
LAST-MODIFIED:20250305T040545Z
UID:10017860-1841486400-1841488200@stnicholasoftolentinebronx.org
SUMMARY:12:00 Noon English mass
DESCRIPTION:
URL:https://stnicholasoftolentinebronx.org/event/1200-noon-english-mass/2028-05-09/
LOCATION:St Nicholas of Tolentine Church\, 2345 University Avenue\, Bronx\, NY\, 10468\, United States
END:VEVENT
BEGIN:VEVENT
DTSTART;TZID=America/New_York:20280510T083000
DTEND;TZID=America/New_York:20280510T093000
DTSTAMP:20260425T121255
CREATED:20250305T035020Z
LAST-MODIFIED:20250305T035025Z
UID:10016557-1841560200-1841563800@stnicholasoftolentinebronx.org
SUMMARY:8:30 am Spanish Mass
DESCRIPTION:
URL:https://stnicholasoftolentinebronx.org/event/830-am-spanish-mass-3/2028-05-10/
LOCATION:St Nicholas of Tolentine Church\, 2345 University Avenue\, Bronx\, NY\, 10468\, United States
END:VEVENT
BEGIN:VEVENT
DTSTART;TZID=America/New_York:20280510T120000
DTEND;TZID=America/New_York:20280510T123000
DTSTAMP:20260425T121255
CREATED:20250305T040540Z
LAST-MODIFIED:20250305T040545Z
UID:10017861-1841572800-1841574600@stnicholasoftolentinebronx.org
SUMMARY:12:00 Noon English mass
DESCRIPTION:
URL:https://stnicholasoftolentinebronx.org/event/1200-noon-english-mass/2028-05-10/
LOCATION:St Nicholas of Tolentine Church\, 2345 University Avenue\, Bronx\, NY\, 10468\, United States
END:VEVENT
BEGIN:VEVENT
DTSTART;TZID=America/New_York:20280511T083000
DTEND;TZID=America/New_York:20280511T093000
DTSTAMP:20260425T121255
CREATED:20250305T035020Z
LAST-MODIFIED:20250305T035025Z
UID:10016558-1841646600-1841650200@stnicholasoftolentinebronx.org
SUMMARY:8:30 am Spanish Mass
DESCRIPTION:
URL:https://stnicholasoftolentinebronx.org/event/830-am-spanish-mass-3/2028-05-11/
LOCATION:St Nicholas of Tolentine Church\, 2345 University Avenue\, Bronx\, NY\, 10468\, United States
END:VEVENT
BEGIN:VEVENT
DTSTART;TZID=America/New_York:20280511T120000
DTEND;TZID=America/New_York:20280511T123000
DTSTAMP:20260425T121255
CREATED:20250305T040540Z
LAST-MODIFIED:20250305T040545Z
UID:10017862-1841659200-1841661000@stnicholasoftolentinebronx.org
SUMMARY:12:00 Noon English mass
DESCRIPTION:
URL:https://stnicholasoftolentinebronx.org/event/1200-noon-english-mass/2028-05-11/
LOCATION:St Nicholas of Tolentine Church\, 2345 University Avenue\, Bronx\, NY\, 10468\, United States
END:VEVENT
BEGIN:VEVENT
DTSTART;TZID=America/New_York:20280511T190000
DTEND;TZID=America/New_York:20280511T210000
DTSTAMP:20260425T121255
CREATED:20250305T041048Z
LAST-MODIFIED:20250306T225714Z
UID:10018503-1841684400-1841691600@stnicholasoftolentinebronx.org
SUMMARY:7:00 pm Círculo
DESCRIPTION:
URL:https://stnicholasoftolentinebronx.org/event/700-circulo/2028-05-11/
LOCATION:NY
END:VEVENT
BEGIN:VEVENT
DTSTART;TZID=America/New_York:20280512T083000
DTEND;TZID=America/New_York:20280512T093000
DTSTAMP:20260425T121255
CREATED:20250305T035020Z
LAST-MODIFIED:20250305T035025Z
UID:10016559-1841733000-1841736600@stnicholasoftolentinebronx.org
SUMMARY:8:30 am Spanish Mass
DESCRIPTION:
URL:https://stnicholasoftolentinebronx.org/event/830-am-spanish-mass-3/2028-05-12/
LOCATION:St Nicholas of Tolentine Church\, 2345 University Avenue\, Bronx\, NY\, 10468\, United States
END:VEVENT
BEGIN:VEVENT
DTSTART;TZID=America/New_York:20280512T120000
DTEND;TZID=America/New_York:20280512T123000
DTSTAMP:20260425T121255
CREATED:20250305T040540Z
LAST-MODIFIED:20250305T040545Z
UID:10017863-1841745600-1841747400@stnicholasoftolentinebronx.org
SUMMARY:12:00 Noon English mass
DESCRIPTION:
URL:https://stnicholasoftolentinebronx.org/event/1200-noon-english-mass/2028-05-12/
LOCATION:St Nicholas of Tolentine Church\, 2345 University Avenue\, Bronx\, NY\, 10468\, United States
END:VEVENT
BEGIN:VEVENT
DTSTART;TZID=America/New_York:20280513T074500
DTEND;TZID=America/New_York:20280513T083000
DTSTAMP:20260425T121255
CREATED:20250313T023643Z
LAST-MODIFIED:20250313T023646Z
UID:10018784-1841816700-1841819400@stnicholasoftolentinebronx.org
SUMMARY:7:45 am Vietnamese Mass
DESCRIPTION:
URL:https://stnicholasoftolentinebronx.org/event/745-am-vietnamese-mass/2028-05-13/
LOCATION:St Nicholas of Tolentine Church\, 2345 University Avenue\, Bronx\, NY\, 10468\, United States
END:VEVENT
BEGIN:VEVENT
DTSTART;TZID=America/New_York:20280513T173000
DTEND;TZID=America/New_York:20280513T183000
DTSTAMP:20260425T121255
CREATED:20250313T023751Z
LAST-MODIFIED:20250313T023752Z
UID:10019045-1841851800-1841855400@stnicholasoftolentinebronx.org
SUMMARY:5:30 pm Confessions
DESCRIPTION:
URL:https://stnicholasoftolentinebronx.org/event/530-pm-confessions/2028-05-13/
LOCATION:St Nicholas of Tolentine Church\, 2345 University Avenue\, Bronx\, NY\, 10468\, United States
END:VEVENT
BEGIN:VEVENT
DTSTART;TZID=America/New_York:20280513T190000
DTEND;TZID=America/New_York:20280513T200000
DTSTAMP:20260425T121255
CREATED:20250313T023841Z
LAST-MODIFIED:20250313T023842Z
UID:10019306-1841857200-1841860800@stnicholasoftolentinebronx.org
SUMMARY:7:00 pm Spanish Mass
DESCRIPTION:
URL:https://stnicholasoftolentinebronx.org/event/700-pm-spanish-mass/2028-05-13/
LOCATION:St Nicholas of Tolentine Church\, 2345 University Avenue\, Bronx\, NY\, 10468\, United States
END:VEVENT
BEGIN:VEVENT
DTSTART;TZID=America/New_York:20280514T080000
DTEND;TZID=America/New_York:20280514T090000
DTSTAMP:20260425T121255
CREATED:20250313T023930Z
LAST-MODIFIED:20250418T035212Z
UID:10019567-1841904000-1841907600@stnicholasoftolentinebronx.org
SUMMARY:8:00 am English Mass
DESCRIPTION:
URL:https://stnicholasoftolentinebronx.org/event/800-am-english-mass/2028-05-14/
LOCATION:St Nicholas of Tolentine Church\, 2345 University Avenue\, Bronx\, NY\, 10468\, United States
END:VEVENT
BEGIN:VEVENT
DTSTART;TZID=America/New_York:20280514T093000
DTEND;TZID=America/New_York:20280514T110000
DTSTAMP:20260425T121255
CREATED:20250313T024022Z
LAST-MODIFIED:20250313T024024Z
UID:10019828-1841909400-1841914800@stnicholasoftolentinebronx.org
SUMMARY:9:30 am Spanish Mass
DESCRIPTION:
URL:https://stnicholasoftolentinebronx.org/event/930-am-spanish-mass/2028-05-14/
LOCATION:St Nicholas of Tolentine Church\, 2345 University Avenue\, Bronx\, NY\, 10468\, United States
END:VEVENT
BEGIN:VEVENT
DTSTART;TZID=America/New_York:20280514T113000
DTEND;TZID=America/New_York:20280514T123000
DTSTAMP:20260425T121255
CREATED:20250313T024110Z
LAST-MODIFIED:20250313T024112Z
UID:10020089-1841916600-1841920200@stnicholasoftolentinebronx.org
SUMMARY:11:30 am English Mass
DESCRIPTION:
URL:https://stnicholasoftolentinebronx.org/event/1130-am-english-mass/2028-05-14/
LOCATION:St Nicholas of Tolentine Church\, 2345 University Avenue\, Bronx\, NY\, 10468\, United States
END:VEVENT
BEGIN:VEVENT
DTSTART;TZID=America/New_York:20280514T133000
DTEND;TZID=America/New_York:20280514T143000
DTSTAMP:20260425T121255
CREATED:20250313T024158Z
LAST-MODIFIED:20250313T024339Z
UID:10020350-1841923800-1841927400@stnicholasoftolentinebronx.org
SUMMARY:1:30 pm Vietnamese Mass
DESCRIPTION:
URL:https://stnicholasoftolentinebronx.org/event/130-pm-vietnamese-mass/2028-05-14/
LOCATION:St Nicholas of Tolentine Church\, 2345 University Avenue\, Bronx\, NY\, 10468\, United States
END:VEVENT
END:VCALENDAR