BEGIN:VCALENDAR
VERSION:2.0
PRODID:-//St. Nicholas of Tolentine Church - ECPv6.15.20//NONSGML v1.0//EN
CALSCALE:GREGORIAN
METHOD:PUBLISH
X-ORIGINAL-URL:https://stnicholasoftolentinebronx.org
X-WR-CALDESC:Events for St. Nicholas of Tolentine Church
REFRESH-INTERVAL;VALUE=DURATION:PT1H
X-Robots-Tag:noindex
X-PUBLISHED-TTL:PT1H
BEGIN:VTIMEZONE
TZID:America/New_York
BEGIN:DAYLIGHT
TZOFFSETFROM:-0500
TZOFFSETTO:-0400
TZNAME:EDT
DTSTART:20260308T070000
END:DAYLIGHT
BEGIN:STANDARD
TZOFFSETFROM:-0400
TZOFFSETTO:-0500
TZNAME:EST
DTSTART:20261101T060000
END:STANDARD
BEGIN:DAYLIGHT
TZOFFSETFROM:-0500
TZOFFSETTO:-0400
TZNAME:EDT
DTSTART:20270314T070000
END:DAYLIGHT
BEGIN:STANDARD
TZOFFSETFROM:-0400
TZOFFSETTO:-0500
TZNAME:EST
DTSTART:20271107T060000
END:STANDARD
BEGIN:DAYLIGHT
TZOFFSETFROM:-0500
TZOFFSETTO:-0400
TZNAME:EDT
DTSTART:20280312T070000
END:DAYLIGHT
BEGIN:STANDARD
TZOFFSETFROM:-0400
TZOFFSETTO:-0500
TZNAME:EST
DTSTART:20281105T060000
END:STANDARD
END:VTIMEZONE
BEGIN:VEVENT
DTSTART;TZID=America/New_York:20271009T173000
DTEND;TZID=America/New_York:20271009T183000
DTSTAMP:20260424T121203
CREATED:20250313T023751Z
LAST-MODIFIED:20250313T023752Z
UID:10019014-1823103000-1823106600@stnicholasoftolentinebronx.org
SUMMARY:5:30 pm Confessions
DESCRIPTION:
URL:https://stnicholasoftolentinebronx.org/event/530-pm-confessions/2027-10-09/
LOCATION:St Nicholas of Tolentine Church\, 2345 University Avenue\, Bronx\, NY\, 10468\, United States
END:VEVENT
BEGIN:VEVENT
DTSTART;TZID=America/New_York:20271009T190000
DTEND;TZID=America/New_York:20271009T200000
DTSTAMP:20260424T121203
CREATED:20250313T023841Z
LAST-MODIFIED:20250313T023842Z
UID:10019275-1823108400-1823112000@stnicholasoftolentinebronx.org
SUMMARY:7:00 pm Spanish Mass
DESCRIPTION:
URL:https://stnicholasoftolentinebronx.org/event/700-pm-spanish-mass/2027-10-09/
LOCATION:St Nicholas of Tolentine Church\, 2345 University Avenue\, Bronx\, NY\, 10468\, United States
END:VEVENT
BEGIN:VEVENT
DTSTART;TZID=America/New_York:20271010T080000
DTEND;TZID=America/New_York:20271010T090000
DTSTAMP:20260424T121203
CREATED:20250313T023930Z
LAST-MODIFIED:20250418T035212Z
UID:10019536-1823155200-1823158800@stnicholasoftolentinebronx.org
SUMMARY:8:00 am English Mass
DESCRIPTION:
URL:https://stnicholasoftolentinebronx.org/event/800-am-english-mass/2027-10-10/
LOCATION:St Nicholas of Tolentine Church\, 2345 University Avenue\, Bronx\, NY\, 10468\, United States
END:VEVENT
BEGIN:VEVENT
DTSTART;TZID=America/New_York:20271010T093000
DTEND;TZID=America/New_York:20271010T110000
DTSTAMP:20260424T121203
CREATED:20250313T024022Z
LAST-MODIFIED:20250313T024024Z
UID:10019797-1823160600-1823166000@stnicholasoftolentinebronx.org
SUMMARY:9:30 am Spanish Mass
DESCRIPTION:
URL:https://stnicholasoftolentinebronx.org/event/930-am-spanish-mass/2027-10-10/
LOCATION:St Nicholas of Tolentine Church\, 2345 University Avenue\, Bronx\, NY\, 10468\, United States
END:VEVENT
BEGIN:VEVENT
DTSTART;TZID=America/New_York:20271010T113000
DTEND;TZID=America/New_York:20271010T123000
DTSTAMP:20260424T121203
CREATED:20250313T024110Z
LAST-MODIFIED:20250313T024112Z
UID:10020058-1823167800-1823171400@stnicholasoftolentinebronx.org
SUMMARY:11:30 am English Mass
DESCRIPTION:
URL:https://stnicholasoftolentinebronx.org/event/1130-am-english-mass/2027-10-10/
LOCATION:St Nicholas of Tolentine Church\, 2345 University Avenue\, Bronx\, NY\, 10468\, United States
END:VEVENT
BEGIN:VEVENT
DTSTART;TZID=America/New_York:20271010T133000
DTEND;TZID=America/New_York:20271010T143000
DTSTAMP:20260424T121203
CREATED:20250313T024158Z
LAST-MODIFIED:20250313T024339Z
UID:10020319-1823175000-1823178600@stnicholasoftolentinebronx.org
SUMMARY:1:30 pm Vietnamese Mass
DESCRIPTION:
URL:https://stnicholasoftolentinebronx.org/event/130-pm-vietnamese-mass/2027-10-10/
LOCATION:St Nicholas of Tolentine Church\, 2345 University Avenue\, Bronx\, NY\, 10468\, United States
END:VEVENT
BEGIN:VEVENT
DTSTART;TZID=America/New_York:20271011T083000
DTEND;TZID=America/New_York:20271011T093000
DTSTAMP:20260424T121203
CREATED:20250305T035020Z
LAST-MODIFIED:20250305T035025Z
UID:10016405-1823243400-1823247000@stnicholasoftolentinebronx.org
SUMMARY:8:30 am Spanish Mass
DESCRIPTION:
URL:https://stnicholasoftolentinebronx.org/event/830-am-spanish-mass-3/2027-10-11/
LOCATION:St Nicholas of Tolentine Church\, 2345 University Avenue\, Bronx\, NY\, 10468\, United States
END:VEVENT
BEGIN:VEVENT
DTSTART;TZID=America/New_York:20271011T120000
DTEND;TZID=America/New_York:20271011T123000
DTSTAMP:20260424T121203
CREATED:20250305T040540Z
LAST-MODIFIED:20250305T040545Z
UID:10017709-1823256000-1823257800@stnicholasoftolentinebronx.org
SUMMARY:12:00 Noon English mass
DESCRIPTION:
URL:https://stnicholasoftolentinebronx.org/event/1200-noon-english-mass/2027-10-11/
LOCATION:St Nicholas of Tolentine Church\, 2345 University Avenue\, Bronx\, NY\, 10468\, United States
END:VEVENT
BEGIN:VEVENT
DTSTART;TZID=America/New_York:20271012T083000
DTEND;TZID=America/New_York:20271012T093000
DTSTAMP:20260424T121203
CREATED:20250305T035020Z
LAST-MODIFIED:20250305T035025Z
UID:10016406-1823329800-1823333400@stnicholasoftolentinebronx.org
SUMMARY:8:30 am Spanish Mass
DESCRIPTION:
URL:https://stnicholasoftolentinebronx.org/event/830-am-spanish-mass-3/2027-10-12/
LOCATION:St Nicholas of Tolentine Church\, 2345 University Avenue\, Bronx\, NY\, 10468\, United States
END:VEVENT
BEGIN:VEVENT
DTSTART;TZID=America/New_York:20271012T120000
DTEND;TZID=America/New_York:20271012T123000
DTSTAMP:20260424T121203
CREATED:20250305T040540Z
LAST-MODIFIED:20250305T040545Z
UID:10017710-1823342400-1823344200@stnicholasoftolentinebronx.org
SUMMARY:12:00 Noon English mass
DESCRIPTION:
URL:https://stnicholasoftolentinebronx.org/event/1200-noon-english-mass/2027-10-12/
LOCATION:St Nicholas of Tolentine Church\, 2345 University Avenue\, Bronx\, NY\, 10468\, United States
END:VEVENT
BEGIN:VEVENT
DTSTART;TZID=America/New_York:20271013T083000
DTEND;TZID=America/New_York:20271013T093000
DTSTAMP:20260424T121203
CREATED:20250305T035020Z
LAST-MODIFIED:20250305T035025Z
UID:10016407-1823416200-1823419800@stnicholasoftolentinebronx.org
SUMMARY:8:30 am Spanish Mass
DESCRIPTION:
URL:https://stnicholasoftolentinebronx.org/event/830-am-spanish-mass-3/2027-10-13/
LOCATION:St Nicholas of Tolentine Church\, 2345 University Avenue\, Bronx\, NY\, 10468\, United States
END:VEVENT
BEGIN:VEVENT
DTSTART;TZID=America/New_York:20271013T120000
DTEND;TZID=America/New_York:20271013T123000
DTSTAMP:20260424T121203
CREATED:20250305T040540Z
LAST-MODIFIED:20250305T040545Z
UID:10017711-1823428800-1823430600@stnicholasoftolentinebronx.org
SUMMARY:12:00 Noon English mass
DESCRIPTION:
URL:https://stnicholasoftolentinebronx.org/event/1200-noon-english-mass/2027-10-13/
LOCATION:St Nicholas of Tolentine Church\, 2345 University Avenue\, Bronx\, NY\, 10468\, United States
END:VEVENT
BEGIN:VEVENT
DTSTART;TZID=America/New_York:20271014T083000
DTEND;TZID=America/New_York:20271014T093000
DTSTAMP:20260424T121203
CREATED:20250305T035020Z
LAST-MODIFIED:20250305T035025Z
UID:10016408-1823502600-1823506200@stnicholasoftolentinebronx.org
SUMMARY:8:30 am Spanish Mass
DESCRIPTION:
URL:https://stnicholasoftolentinebronx.org/event/830-am-spanish-mass-3/2027-10-14/
LOCATION:St Nicholas of Tolentine Church\, 2345 University Avenue\, Bronx\, NY\, 10468\, United States
END:VEVENT
BEGIN:VEVENT
DTSTART;TZID=America/New_York:20271014T120000
DTEND;TZID=America/New_York:20271014T123000
DTSTAMP:20260424T121203
CREATED:20250305T040540Z
LAST-MODIFIED:20250305T040545Z
UID:10017712-1823515200-1823517000@stnicholasoftolentinebronx.org
SUMMARY:12:00 Noon English mass
DESCRIPTION:
URL:https://stnicholasoftolentinebronx.org/event/1200-noon-english-mass/2027-10-14/
LOCATION:St Nicholas of Tolentine Church\, 2345 University Avenue\, Bronx\, NY\, 10468\, United States
END:VEVENT
BEGIN:VEVENT
DTSTART;TZID=America/New_York:20271014T190000
DTEND;TZID=America/New_York:20271014T210000
DTSTAMP:20260424T121203
CREATED:20250305T041048Z
LAST-MODIFIED:20250306T225714Z
UID:10018473-1823540400-1823547600@stnicholasoftolentinebronx.org
SUMMARY:7:00 pm Círculo
DESCRIPTION:
URL:https://stnicholasoftolentinebronx.org/event/700-circulo/2027-10-14/
LOCATION:NY
END:VEVENT
BEGIN:VEVENT
DTSTART;TZID=America/New_York:20271015T083000
DTEND;TZID=America/New_York:20271015T093000
DTSTAMP:20260424T121203
CREATED:20250305T035020Z
LAST-MODIFIED:20250305T035025Z
UID:10016409-1823589000-1823592600@stnicholasoftolentinebronx.org
SUMMARY:8:30 am Spanish Mass
DESCRIPTION:
URL:https://stnicholasoftolentinebronx.org/event/830-am-spanish-mass-3/2027-10-15/
LOCATION:St Nicholas of Tolentine Church\, 2345 University Avenue\, Bronx\, NY\, 10468\, United States
END:VEVENT
BEGIN:VEVENT
DTSTART;TZID=America/New_York:20271015T120000
DTEND;TZID=America/New_York:20271015T123000
DTSTAMP:20260424T121203
CREATED:20250305T040540Z
LAST-MODIFIED:20250305T040545Z
UID:10017713-1823601600-1823603400@stnicholasoftolentinebronx.org
SUMMARY:12:00 Noon English mass
DESCRIPTION:
URL:https://stnicholasoftolentinebronx.org/event/1200-noon-english-mass/2027-10-15/
LOCATION:St Nicholas of Tolentine Church\, 2345 University Avenue\, Bronx\, NY\, 10468\, United States
END:VEVENT
BEGIN:VEVENT
DTSTART;TZID=America/New_York:20271016T074500
DTEND;TZID=America/New_York:20271016T083000
DTSTAMP:20260424T121203
CREATED:20250313T023643Z
LAST-MODIFIED:20250313T023646Z
UID:10018754-1823672700-1823675400@stnicholasoftolentinebronx.org
SUMMARY:7:45 am Vietnamese Mass
DESCRIPTION:
URL:https://stnicholasoftolentinebronx.org/event/745-am-vietnamese-mass/2027-10-16/
LOCATION:St Nicholas of Tolentine Church\, 2345 University Avenue\, Bronx\, NY\, 10468\, United States
END:VEVENT
BEGIN:VEVENT
DTSTART;TZID=America/New_York:20271016T173000
DTEND;TZID=America/New_York:20271016T183000
DTSTAMP:20260424T121203
CREATED:20250313T023751Z
LAST-MODIFIED:20250313T023752Z
UID:10019015-1823707800-1823711400@stnicholasoftolentinebronx.org
SUMMARY:5:30 pm Confessions
DESCRIPTION:
URL:https://stnicholasoftolentinebronx.org/event/530-pm-confessions/2027-10-16/
LOCATION:St Nicholas of Tolentine Church\, 2345 University Avenue\, Bronx\, NY\, 10468\, United States
END:VEVENT
BEGIN:VEVENT
DTSTART;TZID=America/New_York:20271016T190000
DTEND;TZID=America/New_York:20271016T200000
DTSTAMP:20260424T121203
CREATED:20250313T023841Z
LAST-MODIFIED:20250313T023842Z
UID:10019276-1823713200-1823716800@stnicholasoftolentinebronx.org
SUMMARY:7:00 pm Spanish Mass
DESCRIPTION:
URL:https://stnicholasoftolentinebronx.org/event/700-pm-spanish-mass/2027-10-16/
LOCATION:St Nicholas of Tolentine Church\, 2345 University Avenue\, Bronx\, NY\, 10468\, United States
END:VEVENT
BEGIN:VEVENT
DTSTART;TZID=America/New_York:20271017T080000
DTEND;TZID=America/New_York:20271017T090000
DTSTAMP:20260424T121203
CREATED:20250313T023930Z
LAST-MODIFIED:20250418T035212Z
UID:10019537-1823760000-1823763600@stnicholasoftolentinebronx.org
SUMMARY:8:00 am English Mass
DESCRIPTION:
URL:https://stnicholasoftolentinebronx.org/event/800-am-english-mass/2027-10-17/
LOCATION:St Nicholas of Tolentine Church\, 2345 University Avenue\, Bronx\, NY\, 10468\, United States
END:VEVENT
BEGIN:VEVENT
DTSTART;TZID=America/New_York:20271017T093000
DTEND;TZID=America/New_York:20271017T110000
DTSTAMP:20260424T121203
CREATED:20250313T024022Z
LAST-MODIFIED:20250313T024024Z
UID:10019798-1823765400-1823770800@stnicholasoftolentinebronx.org
SUMMARY:9:30 am Spanish Mass
DESCRIPTION:
URL:https://stnicholasoftolentinebronx.org/event/930-am-spanish-mass/2027-10-17/
LOCATION:St Nicholas of Tolentine Church\, 2345 University Avenue\, Bronx\, NY\, 10468\, United States
END:VEVENT
BEGIN:VEVENT
DTSTART;TZID=America/New_York:20271017T113000
DTEND;TZID=America/New_York:20271017T123000
DTSTAMP:20260424T121203
CREATED:20250313T024110Z
LAST-MODIFIED:20250313T024112Z
UID:10020059-1823772600-1823776200@stnicholasoftolentinebronx.org
SUMMARY:11:30 am English Mass
DESCRIPTION:
URL:https://stnicholasoftolentinebronx.org/event/1130-am-english-mass/2027-10-17/
LOCATION:St Nicholas of Tolentine Church\, 2345 University Avenue\, Bronx\, NY\, 10468\, United States
END:VEVENT
BEGIN:VEVENT
DTSTART;TZID=America/New_York:20271017T133000
DTEND;TZID=America/New_York:20271017T143000
DTSTAMP:20260424T121203
CREATED:20250313T024158Z
LAST-MODIFIED:20250313T024339Z
UID:10020320-1823779800-1823783400@stnicholasoftolentinebronx.org
SUMMARY:1:30 pm Vietnamese Mass
DESCRIPTION:
URL:https://stnicholasoftolentinebronx.org/event/130-pm-vietnamese-mass/2027-10-17/
LOCATION:St Nicholas of Tolentine Church\, 2345 University Avenue\, Bronx\, NY\, 10468\, United States
END:VEVENT
BEGIN:VEVENT
DTSTART;TZID=America/New_York:20271018T083000
DTEND;TZID=America/New_York:20271018T093000
DTSTAMP:20260424T121203
CREATED:20250305T035020Z
LAST-MODIFIED:20250305T035025Z
UID:10016410-1823848200-1823851800@stnicholasoftolentinebronx.org
SUMMARY:8:30 am Spanish Mass
DESCRIPTION:
URL:https://stnicholasoftolentinebronx.org/event/830-am-spanish-mass-3/2027-10-18/
LOCATION:St Nicholas of Tolentine Church\, 2345 University Avenue\, Bronx\, NY\, 10468\, United States
END:VEVENT
BEGIN:VEVENT
DTSTART;TZID=America/New_York:20271018T120000
DTEND;TZID=America/New_York:20271018T123000
DTSTAMP:20260424T121203
CREATED:20250305T040540Z
LAST-MODIFIED:20250305T040545Z
UID:10017714-1823860800-1823862600@stnicholasoftolentinebronx.org
SUMMARY:12:00 Noon English mass
DESCRIPTION:
URL:https://stnicholasoftolentinebronx.org/event/1200-noon-english-mass/2027-10-18/
LOCATION:St Nicholas of Tolentine Church\, 2345 University Avenue\, Bronx\, NY\, 10468\, United States
END:VEVENT
BEGIN:VEVENT
DTSTART;TZID=America/New_York:20271019T083000
DTEND;TZID=America/New_York:20271019T093000
DTSTAMP:20260424T121203
CREATED:20250305T035020Z
LAST-MODIFIED:20250305T035025Z
UID:10016411-1823934600-1823938200@stnicholasoftolentinebronx.org
SUMMARY:8:30 am Spanish Mass
DESCRIPTION:
URL:https://stnicholasoftolentinebronx.org/event/830-am-spanish-mass-3/2027-10-19/
LOCATION:St Nicholas of Tolentine Church\, 2345 University Avenue\, Bronx\, NY\, 10468\, United States
END:VEVENT
BEGIN:VEVENT
DTSTART;TZID=America/New_York:20271019T120000
DTEND;TZID=America/New_York:20271019T123000
DTSTAMP:20260424T121203
CREATED:20250305T040540Z
LAST-MODIFIED:20250305T040545Z
UID:10017715-1823947200-1823949000@stnicholasoftolentinebronx.org
SUMMARY:12:00 Noon English mass
DESCRIPTION:
URL:https://stnicholasoftolentinebronx.org/event/1200-noon-english-mass/2027-10-19/
LOCATION:St Nicholas of Tolentine Church\, 2345 University Avenue\, Bronx\, NY\, 10468\, United States
END:VEVENT
BEGIN:VEVENT
DTSTART;TZID=America/New_York:20271020T083000
DTEND;TZID=America/New_York:20271020T093000
DTSTAMP:20260424T121203
CREATED:20250305T035020Z
LAST-MODIFIED:20250305T035025Z
UID:10016412-1824021000-1824024600@stnicholasoftolentinebronx.org
SUMMARY:8:30 am Spanish Mass
DESCRIPTION:
URL:https://stnicholasoftolentinebronx.org/event/830-am-spanish-mass-3/2027-10-20/
LOCATION:St Nicholas of Tolentine Church\, 2345 University Avenue\, Bronx\, NY\, 10468\, United States
END:VEVENT
BEGIN:VEVENT
DTSTART;TZID=America/New_York:20271020T120000
DTEND;TZID=America/New_York:20271020T123000
DTSTAMP:20260424T121203
CREATED:20250305T040540Z
LAST-MODIFIED:20250305T040545Z
UID:10017716-1824033600-1824035400@stnicholasoftolentinebronx.org
SUMMARY:12:00 Noon English mass
DESCRIPTION:
URL:https://stnicholasoftolentinebronx.org/event/1200-noon-english-mass/2027-10-20/
LOCATION:St Nicholas of Tolentine Church\, 2345 University Avenue\, Bronx\, NY\, 10468\, United States
END:VEVENT
END:VCALENDAR