BEGIN:VCALENDAR
VERSION:2.0
PRODID:-//St. Nicholas of Tolentine Church - ECPv6.15.20//NONSGML v1.0//EN
CALSCALE:GREGORIAN
METHOD:PUBLISH
X-WR-CALNAME:St. Nicholas of Tolentine Church
X-ORIGINAL-URL:https://stnicholasoftolentinebronx.org
X-WR-CALDESC:Events for St. Nicholas of Tolentine Church
REFRESH-INTERVAL;VALUE=DURATION:PT1H
X-Robots-Tag:noindex
X-PUBLISHED-TTL:PT1H
BEGIN:VTIMEZONE
TZID:America/New_York
BEGIN:DAYLIGHT
TZOFFSETFROM:-0500
TZOFFSETTO:-0400
TZNAME:EDT
DTSTART:20270314T070000
END:DAYLIGHT
BEGIN:STANDARD
TZOFFSETFROM:-0400
TZOFFSETTO:-0500
TZNAME:EST
DTSTART:20271107T060000
END:STANDARD
BEGIN:DAYLIGHT
TZOFFSETFROM:-0500
TZOFFSETTO:-0400
TZNAME:EDT
DTSTART:20280312T070000
END:DAYLIGHT
BEGIN:STANDARD
TZOFFSETFROM:-0400
TZOFFSETTO:-0500
TZNAME:EST
DTSTART:20281105T060000
END:STANDARD
BEGIN:DAYLIGHT
TZOFFSETFROM:-0500
TZOFFSETTO:-0400
TZNAME:EDT
DTSTART:20290311T070000
END:DAYLIGHT
BEGIN:STANDARD
TZOFFSETFROM:-0400
TZOFFSETTO:-0500
TZNAME:EST
DTSTART:20291104T060000
END:STANDARD
END:VTIMEZONE
BEGIN:VEVENT
DTSTART;TZID=America/New_York:20280810T083000
DTEND;TZID=America/New_York:20280810T093000
DTSTAMP:20260425T151829
CREATED:20250305T035020Z
LAST-MODIFIED:20250305T035025Z
UID:10016623-1849509000-1849512600@stnicholasoftolentinebronx.org
SUMMARY:8:30 am Spanish Mass
DESCRIPTION:
URL:https://stnicholasoftolentinebronx.org/event/830-am-spanish-mass-3/2028-08-10/
LOCATION:St Nicholas of Tolentine Church\, 2345 University Avenue\, Bronx\, NY\, 10468\, United States
END:VEVENT
BEGIN:VEVENT
DTSTART;TZID=America/New_York:20280810T120000
DTEND;TZID=America/New_York:20280810T123000
DTSTAMP:20260425T151829
CREATED:20250305T040540Z
LAST-MODIFIED:20250305T040545Z
UID:10017927-1849521600-1849523400@stnicholasoftolentinebronx.org
SUMMARY:12:00 Noon English mass
DESCRIPTION:
URL:https://stnicholasoftolentinebronx.org/event/1200-noon-english-mass/2028-08-10/
LOCATION:St Nicholas of Tolentine Church\, 2345 University Avenue\, Bronx\, NY\, 10468\, United States
END:VEVENT
BEGIN:VEVENT
DTSTART;TZID=America/New_York:20280810T190000
DTEND;TZID=America/New_York:20280810T210000
DTSTAMP:20260425T151829
CREATED:20250305T041048Z
LAST-MODIFIED:20250306T225714Z
UID:10018516-1849546800-1849554000@stnicholasoftolentinebronx.org
SUMMARY:7:00 pm Círculo
DESCRIPTION:
URL:https://stnicholasoftolentinebronx.org/event/700-circulo/2028-08-10/
LOCATION:NY
END:VEVENT
BEGIN:VEVENT
DTSTART;TZID=America/New_York:20280811T083000
DTEND;TZID=America/New_York:20280811T093000
DTSTAMP:20260425T151829
CREATED:20250305T035020Z
LAST-MODIFIED:20250305T035025Z
UID:10016624-1849595400-1849599000@stnicholasoftolentinebronx.org
SUMMARY:8:30 am Spanish Mass
DESCRIPTION:
URL:https://stnicholasoftolentinebronx.org/event/830-am-spanish-mass-3/2028-08-11/
LOCATION:St Nicholas of Tolentine Church\, 2345 University Avenue\, Bronx\, NY\, 10468\, United States
END:VEVENT
BEGIN:VEVENT
DTSTART;TZID=America/New_York:20280811T120000
DTEND;TZID=America/New_York:20280811T123000
DTSTAMP:20260425T151829
CREATED:20250305T040540Z
LAST-MODIFIED:20250305T040545Z
UID:10017928-1849608000-1849609800@stnicholasoftolentinebronx.org
SUMMARY:12:00 Noon English mass
DESCRIPTION:
URL:https://stnicholasoftolentinebronx.org/event/1200-noon-english-mass/2028-08-11/
LOCATION:St Nicholas of Tolentine Church\, 2345 University Avenue\, Bronx\, NY\, 10468\, United States
END:VEVENT
BEGIN:VEVENT
DTSTART;TZID=America/New_York:20280812T074500
DTEND;TZID=America/New_York:20280812T083000
DTSTAMP:20260425T151829
CREATED:20250313T023643Z
LAST-MODIFIED:20250313T023646Z
UID:10018797-1849679100-1849681800@stnicholasoftolentinebronx.org
SUMMARY:7:45 am Vietnamese Mass
DESCRIPTION:
URL:https://stnicholasoftolentinebronx.org/event/745-am-vietnamese-mass/2028-08-12/
LOCATION:St Nicholas of Tolentine Church\, 2345 University Avenue\, Bronx\, NY\, 10468\, United States
END:VEVENT
BEGIN:VEVENT
DTSTART;TZID=America/New_York:20280812T173000
DTEND;TZID=America/New_York:20280812T183000
DTSTAMP:20260425T151829
CREATED:20250313T023751Z
LAST-MODIFIED:20250313T023752Z
UID:10019058-1849714200-1849717800@stnicholasoftolentinebronx.org
SUMMARY:5:30 pm Confessions
DESCRIPTION:
URL:https://stnicholasoftolentinebronx.org/event/530-pm-confessions/2028-08-12/
LOCATION:St Nicholas of Tolentine Church\, 2345 University Avenue\, Bronx\, NY\, 10468\, United States
END:VEVENT
BEGIN:VEVENT
DTSTART;TZID=America/New_York:20280812T190000
DTEND;TZID=America/New_York:20280812T200000
DTSTAMP:20260425T151829
CREATED:20250313T023841Z
LAST-MODIFIED:20250313T023842Z
UID:10019319-1849719600-1849723200@stnicholasoftolentinebronx.org
SUMMARY:7:00 pm Spanish Mass
DESCRIPTION:
URL:https://stnicholasoftolentinebronx.org/event/700-pm-spanish-mass/2028-08-12/
LOCATION:St Nicholas of Tolentine Church\, 2345 University Avenue\, Bronx\, NY\, 10468\, United States
END:VEVENT
BEGIN:VEVENT
DTSTART;TZID=America/New_York:20280813T080000
DTEND;TZID=America/New_York:20280813T090000
DTSTAMP:20260425T151829
CREATED:20250313T023930Z
LAST-MODIFIED:20250418T035212Z
UID:10019580-1849766400-1849770000@stnicholasoftolentinebronx.org
SUMMARY:8:00 am English Mass
DESCRIPTION:
URL:https://stnicholasoftolentinebronx.org/event/800-am-english-mass/2028-08-13/
LOCATION:St Nicholas of Tolentine Church\, 2345 University Avenue\, Bronx\, NY\, 10468\, United States
END:VEVENT
BEGIN:VEVENT
DTSTART;TZID=America/New_York:20280813T093000
DTEND;TZID=America/New_York:20280813T110000
DTSTAMP:20260425T151829
CREATED:20250313T024022Z
LAST-MODIFIED:20250313T024024Z
UID:10019841-1849771800-1849777200@stnicholasoftolentinebronx.org
SUMMARY:9:30 am Spanish Mass
DESCRIPTION:
URL:https://stnicholasoftolentinebronx.org/event/930-am-spanish-mass/2028-08-13/
LOCATION:St Nicholas of Tolentine Church\, 2345 University Avenue\, Bronx\, NY\, 10468\, United States
END:VEVENT
BEGIN:VEVENT
DTSTART;TZID=America/New_York:20280813T113000
DTEND;TZID=America/New_York:20280813T123000
DTSTAMP:20260425T151829
CREATED:20250313T024110Z
LAST-MODIFIED:20250313T024112Z
UID:10020102-1849779000-1849782600@stnicholasoftolentinebronx.org
SUMMARY:11:30 am English Mass
DESCRIPTION:
URL:https://stnicholasoftolentinebronx.org/event/1130-am-english-mass/2028-08-13/
LOCATION:St Nicholas of Tolentine Church\, 2345 University Avenue\, Bronx\, NY\, 10468\, United States
END:VEVENT
BEGIN:VEVENT
DTSTART;TZID=America/New_York:20280813T133000
DTEND;TZID=America/New_York:20280813T143000
DTSTAMP:20260425T151829
CREATED:20250313T024158Z
LAST-MODIFIED:20250313T024339Z
UID:10020363-1849786200-1849789800@stnicholasoftolentinebronx.org
SUMMARY:1:30 pm Vietnamese Mass
DESCRIPTION:
URL:https://stnicholasoftolentinebronx.org/event/130-pm-vietnamese-mass/2028-08-13/
LOCATION:St Nicholas of Tolentine Church\, 2345 University Avenue\, Bronx\, NY\, 10468\, United States
END:VEVENT
BEGIN:VEVENT
DTSTART;TZID=America/New_York:20280814T083000
DTEND;TZID=America/New_York:20280814T093000
DTSTAMP:20260425T151829
CREATED:20250305T035020Z
LAST-MODIFIED:20250305T035025Z
UID:10016625-1849854600-1849858200@stnicholasoftolentinebronx.org
SUMMARY:8:30 am Spanish Mass
DESCRIPTION:
URL:https://stnicholasoftolentinebronx.org/event/830-am-spanish-mass-3/2028-08-14/
LOCATION:St Nicholas of Tolentine Church\, 2345 University Avenue\, Bronx\, NY\, 10468\, United States
END:VEVENT
BEGIN:VEVENT
DTSTART;TZID=America/New_York:20280814T120000
DTEND;TZID=America/New_York:20280814T123000
DTSTAMP:20260425T151829
CREATED:20250305T040540Z
LAST-MODIFIED:20250305T040545Z
UID:10017929-1849867200-1849869000@stnicholasoftolentinebronx.org
SUMMARY:12:00 Noon English mass
DESCRIPTION:
URL:https://stnicholasoftolentinebronx.org/event/1200-noon-english-mass/2028-08-14/
LOCATION:St Nicholas of Tolentine Church\, 2345 University Avenue\, Bronx\, NY\, 10468\, United States
END:VEVENT
BEGIN:VEVENT
DTSTART;TZID=America/New_York:20280815T083000
DTEND;TZID=America/New_York:20280815T093000
DTSTAMP:20260425T151829
CREATED:20250305T035020Z
LAST-MODIFIED:20250305T035025Z
UID:10016626-1849941000-1849944600@stnicholasoftolentinebronx.org
SUMMARY:8:30 am Spanish Mass
DESCRIPTION:
URL:https://stnicholasoftolentinebronx.org/event/830-am-spanish-mass-3/2028-08-15/
LOCATION:St Nicholas of Tolentine Church\, 2345 University Avenue\, Bronx\, NY\, 10468\, United States
END:VEVENT
BEGIN:VEVENT
DTSTART;TZID=America/New_York:20280815T120000
DTEND;TZID=America/New_York:20280815T123000
DTSTAMP:20260425T151829
CREATED:20250305T040540Z
LAST-MODIFIED:20250305T040545Z
UID:10017930-1849953600-1849955400@stnicholasoftolentinebronx.org
SUMMARY:12:00 Noon English mass
DESCRIPTION:
URL:https://stnicholasoftolentinebronx.org/event/1200-noon-english-mass/2028-08-15/
LOCATION:St Nicholas of Tolentine Church\, 2345 University Avenue\, Bronx\, NY\, 10468\, United States
END:VEVENT
BEGIN:VEVENT
DTSTART;TZID=America/New_York:20280816T083000
DTEND;TZID=America/New_York:20280816T093000
DTSTAMP:20260425T151829
CREATED:20250305T035020Z
LAST-MODIFIED:20250305T035025Z
UID:10016627-1850027400-1850031000@stnicholasoftolentinebronx.org
SUMMARY:8:30 am Spanish Mass
DESCRIPTION:
URL:https://stnicholasoftolentinebronx.org/event/830-am-spanish-mass-3/2028-08-16/
LOCATION:St Nicholas of Tolentine Church\, 2345 University Avenue\, Bronx\, NY\, 10468\, United States
END:VEVENT
BEGIN:VEVENT
DTSTART;TZID=America/New_York:20280816T120000
DTEND;TZID=America/New_York:20280816T123000
DTSTAMP:20260425T151829
CREATED:20250305T040540Z
LAST-MODIFIED:20250305T040545Z
UID:10017931-1850040000-1850041800@stnicholasoftolentinebronx.org
SUMMARY:12:00 Noon English mass
DESCRIPTION:
URL:https://stnicholasoftolentinebronx.org/event/1200-noon-english-mass/2028-08-16/
LOCATION:St Nicholas of Tolentine Church\, 2345 University Avenue\, Bronx\, NY\, 10468\, United States
END:VEVENT
BEGIN:VEVENT
DTSTART;TZID=America/New_York:20280817T083000
DTEND;TZID=America/New_York:20280817T093000
DTSTAMP:20260425T151829
CREATED:20250305T035020Z
LAST-MODIFIED:20250305T035025Z
UID:10016628-1850113800-1850117400@stnicholasoftolentinebronx.org
SUMMARY:8:30 am Spanish Mass
DESCRIPTION:
URL:https://stnicholasoftolentinebronx.org/event/830-am-spanish-mass-3/2028-08-17/
LOCATION:St Nicholas of Tolentine Church\, 2345 University Avenue\, Bronx\, NY\, 10468\, United States
END:VEVENT
BEGIN:VEVENT
DTSTART;TZID=America/New_York:20280817T120000
DTEND;TZID=America/New_York:20280817T123000
DTSTAMP:20260425T151829
CREATED:20250305T040540Z
LAST-MODIFIED:20250305T040545Z
UID:10017932-1850126400-1850128200@stnicholasoftolentinebronx.org
SUMMARY:12:00 Noon English mass
DESCRIPTION:
URL:https://stnicholasoftolentinebronx.org/event/1200-noon-english-mass/2028-08-17/
LOCATION:St Nicholas of Tolentine Church\, 2345 University Avenue\, Bronx\, NY\, 10468\, United States
END:VEVENT
BEGIN:VEVENT
DTSTART;TZID=America/New_York:20280817T190000
DTEND;TZID=America/New_York:20280817T210000
DTSTAMP:20260425T151829
CREATED:20250305T041048Z
LAST-MODIFIED:20250306T225714Z
UID:10018517-1850151600-1850158800@stnicholasoftolentinebronx.org
SUMMARY:7:00 pm Círculo
DESCRIPTION:
URL:https://stnicholasoftolentinebronx.org/event/700-circulo/2028-08-17/
LOCATION:NY
END:VEVENT
BEGIN:VEVENT
DTSTART;TZID=America/New_York:20280818T083000
DTEND;TZID=America/New_York:20280818T093000
DTSTAMP:20260425T151829
CREATED:20250305T035020Z
LAST-MODIFIED:20250305T035025Z
UID:10016629-1850200200-1850203800@stnicholasoftolentinebronx.org
SUMMARY:8:30 am Spanish Mass
DESCRIPTION:
URL:https://stnicholasoftolentinebronx.org/event/830-am-spanish-mass-3/2028-08-18/
LOCATION:St Nicholas of Tolentine Church\, 2345 University Avenue\, Bronx\, NY\, 10468\, United States
END:VEVENT
BEGIN:VEVENT
DTSTART;TZID=America/New_York:20280818T120000
DTEND;TZID=America/New_York:20280818T123000
DTSTAMP:20260425T151829
CREATED:20250305T040540Z
LAST-MODIFIED:20250305T040545Z
UID:10017933-1850212800-1850214600@stnicholasoftolentinebronx.org
SUMMARY:12:00 Noon English mass
DESCRIPTION:
URL:https://stnicholasoftolentinebronx.org/event/1200-noon-english-mass/2028-08-18/
LOCATION:St Nicholas of Tolentine Church\, 2345 University Avenue\, Bronx\, NY\, 10468\, United States
END:VEVENT
BEGIN:VEVENT
DTSTART;TZID=America/New_York:20280819T074500
DTEND;TZID=America/New_York:20280819T083000
DTSTAMP:20260425T151829
CREATED:20250313T023643Z
LAST-MODIFIED:20250313T023646Z
UID:10018798-1850283900-1850286600@stnicholasoftolentinebronx.org
SUMMARY:7:45 am Vietnamese Mass
DESCRIPTION:
URL:https://stnicholasoftolentinebronx.org/event/745-am-vietnamese-mass/2028-08-19/
LOCATION:St Nicholas of Tolentine Church\, 2345 University Avenue\, Bronx\, NY\, 10468\, United States
END:VEVENT
BEGIN:VEVENT
DTSTART;TZID=America/New_York:20280819T173000
DTEND;TZID=America/New_York:20280819T183000
DTSTAMP:20260425T151829
CREATED:20250313T023751Z
LAST-MODIFIED:20250313T023752Z
UID:10019059-1850319000-1850322600@stnicholasoftolentinebronx.org
SUMMARY:5:30 pm Confessions
DESCRIPTION:
URL:https://stnicholasoftolentinebronx.org/event/530-pm-confessions/2028-08-19/
LOCATION:St Nicholas of Tolentine Church\, 2345 University Avenue\, Bronx\, NY\, 10468\, United States
END:VEVENT
BEGIN:VEVENT
DTSTART;TZID=America/New_York:20280819T190000
DTEND;TZID=America/New_York:20280819T200000
DTSTAMP:20260425T151829
CREATED:20250313T023841Z
LAST-MODIFIED:20250313T023842Z
UID:10019320-1850324400-1850328000@stnicholasoftolentinebronx.org
SUMMARY:7:00 pm Spanish Mass
DESCRIPTION:
URL:https://stnicholasoftolentinebronx.org/event/700-pm-spanish-mass/2028-08-19/
LOCATION:St Nicholas of Tolentine Church\, 2345 University Avenue\, Bronx\, NY\, 10468\, United States
END:VEVENT
BEGIN:VEVENT
DTSTART;TZID=America/New_York:20280820T080000
DTEND;TZID=America/New_York:20280820T090000
DTSTAMP:20260425T151829
CREATED:20250313T023930Z
LAST-MODIFIED:20250418T035212Z
UID:10019581-1850371200-1850374800@stnicholasoftolentinebronx.org
SUMMARY:8:00 am English Mass
DESCRIPTION:
URL:https://stnicholasoftolentinebronx.org/event/800-am-english-mass/2028-08-20/
LOCATION:St Nicholas of Tolentine Church\, 2345 University Avenue\, Bronx\, NY\, 10468\, United States
END:VEVENT
BEGIN:VEVENT
DTSTART;TZID=America/New_York:20280820T093000
DTEND;TZID=America/New_York:20280820T110000
DTSTAMP:20260425T151829
CREATED:20250313T024022Z
LAST-MODIFIED:20250313T024024Z
UID:10019842-1850376600-1850382000@stnicholasoftolentinebronx.org
SUMMARY:9:30 am Spanish Mass
DESCRIPTION:
URL:https://stnicholasoftolentinebronx.org/event/930-am-spanish-mass/2028-08-20/
LOCATION:St Nicholas of Tolentine Church\, 2345 University Avenue\, Bronx\, NY\, 10468\, United States
END:VEVENT
BEGIN:VEVENT
DTSTART;TZID=America/New_York:20280820T113000
DTEND;TZID=America/New_York:20280820T123000
DTSTAMP:20260425T151829
CREATED:20250313T024110Z
LAST-MODIFIED:20250313T024112Z
UID:10020103-1850383800-1850387400@stnicholasoftolentinebronx.org
SUMMARY:11:30 am English Mass
DESCRIPTION:
URL:https://stnicholasoftolentinebronx.org/event/1130-am-english-mass/2028-08-20/
LOCATION:St Nicholas of Tolentine Church\, 2345 University Avenue\, Bronx\, NY\, 10468\, United States
END:VEVENT
BEGIN:VEVENT
DTSTART;TZID=America/New_York:20280820T133000
DTEND;TZID=America/New_York:20280820T143000
DTSTAMP:20260425T151829
CREATED:20250313T024158Z
LAST-MODIFIED:20250313T024339Z
UID:10020364-1850391000-1850394600@stnicholasoftolentinebronx.org
SUMMARY:1:30 pm Vietnamese Mass
DESCRIPTION:
URL:https://stnicholasoftolentinebronx.org/event/130-pm-vietnamese-mass/2028-08-20/
LOCATION:St Nicholas of Tolentine Church\, 2345 University Avenue\, Bronx\, NY\, 10468\, United States
END:VEVENT
END:VCALENDAR