BEGIN:VCALENDAR
VERSION:2.0
PRODID:-//St. Nicholas of Tolentine Church - ECPv6.15.20//NONSGML v1.0//EN
CALSCALE:GREGORIAN
METHOD:PUBLISH
X-WR-CALNAME:St. Nicholas of Tolentine Church
X-ORIGINAL-URL:https://stnicholasoftolentinebronx.org
X-WR-CALDESC:Events for St. Nicholas of Tolentine Church
REFRESH-INTERVAL;VALUE=DURATION:PT1H
X-Robots-Tag:noindex
X-PUBLISHED-TTL:PT1H
BEGIN:VTIMEZONE
TZID:America/New_York
BEGIN:DAYLIGHT
TZOFFSETFROM:-0500
TZOFFSETTO:-0400
TZNAME:EDT
DTSTART:20240310T070000
END:DAYLIGHT
BEGIN:STANDARD
TZOFFSETFROM:-0400
TZOFFSETTO:-0500
TZNAME:EST
DTSTART:20241103T060000
END:STANDARD
BEGIN:DAYLIGHT
TZOFFSETFROM:-0500
TZOFFSETTO:-0400
TZNAME:EDT
DTSTART:20250309T070000
END:DAYLIGHT
BEGIN:STANDARD
TZOFFSETFROM:-0400
TZOFFSETTO:-0500
TZNAME:EST
DTSTART:20251102T060000
END:STANDARD
BEGIN:DAYLIGHT
TZOFFSETFROM:-0500
TZOFFSETTO:-0400
TZNAME:EDT
DTSTART:20260308T070000
END:DAYLIGHT
BEGIN:STANDARD
TZOFFSETFROM:-0400
TZOFFSETTO:-0500
TZNAME:EST
DTSTART:20261101T060000
END:STANDARD
END:VTIMEZONE
BEGIN:VEVENT
DTSTART;TZID=America/New_York:20250829T120000
DTEND;TZID=America/New_York:20250829T123000
DTSTAMP:20260423T063435
CREATED:20250305T040540Z
LAST-MODIFIED:20250305T040545Z
UID:10017158-1756468800-1756470600@stnicholasoftolentinebronx.org
SUMMARY:12:00 Noon English mass
DESCRIPTION:
URL:https://stnicholasoftolentinebronx.org/event/1200-noon-english-mass/2025-08-29/
LOCATION:St Nicholas of Tolentine Church\, 2345 University Avenue\, Bronx\, NY\, 10468\, United States
END:VEVENT
BEGIN:VEVENT
DTSTART;TZID=America/New_York:20250830T074500
DTEND;TZID=America/New_York:20250830T083000
DTSTAMP:20260423T063435
CREATED:20250313T023643Z
LAST-MODIFIED:20250313T023646Z
UID:10018643-1756539900-1756542600@stnicholasoftolentinebronx.org
SUMMARY:7:45 am Vietnamese Mass
DESCRIPTION:
URL:https://stnicholasoftolentinebronx.org/event/745-am-vietnamese-mass/2025-08-30/
LOCATION:St Nicholas of Tolentine Church\, 2345 University Avenue\, Bronx\, NY\, 10468\, United States
END:VEVENT
BEGIN:VEVENT
DTSTART;TZID=America/New_York:20250830T173000
DTEND;TZID=America/New_York:20250830T183000
DTSTAMP:20260423T063435
CREATED:20250313T023751Z
LAST-MODIFIED:20250313T023752Z
UID:10018904-1756575000-1756578600@stnicholasoftolentinebronx.org
SUMMARY:5:30 pm Confessions
DESCRIPTION:
URL:https://stnicholasoftolentinebronx.org/event/530-pm-confessions/2025-08-30/
LOCATION:St Nicholas of Tolentine Church\, 2345 University Avenue\, Bronx\, NY\, 10468\, United States
END:VEVENT
BEGIN:VEVENT
DTSTART;TZID=America/New_York:20250830T190000
DTEND;TZID=America/New_York:20250830T200000
DTSTAMP:20260423T063435
CREATED:20250313T023841Z
LAST-MODIFIED:20250313T023842Z
UID:10019165-1756580400-1756584000@stnicholasoftolentinebronx.org
SUMMARY:7:00 pm Spanish Mass
DESCRIPTION:
URL:https://stnicholasoftolentinebronx.org/event/700-pm-spanish-mass/2025-08-30/
LOCATION:St Nicholas of Tolentine Church\, 2345 University Avenue\, Bronx\, NY\, 10468\, United States
END:VEVENT
BEGIN:VEVENT
DTSTART;TZID=America/New_York:20250831T080000
DTEND;TZID=America/New_York:20250831T090000
DTSTAMP:20260423T063435
CREATED:20250313T023930Z
LAST-MODIFIED:20250418T035212Z
UID:10019426-1756627200-1756630800@stnicholasoftolentinebronx.org
SUMMARY:8:00 am English Mass
DESCRIPTION:
URL:https://stnicholasoftolentinebronx.org/event/800-am-english-mass/2025-08-31/
LOCATION:St Nicholas of Tolentine Church\, 2345 University Avenue\, Bronx\, NY\, 10468\, United States
END:VEVENT
BEGIN:VEVENT
DTSTART;TZID=America/New_York:20250831T093000
DTEND;TZID=America/New_York:20250831T110000
DTSTAMP:20260423T063435
CREATED:20250313T024022Z
LAST-MODIFIED:20250313T024024Z
UID:10019687-1756632600-1756638000@stnicholasoftolentinebronx.org
SUMMARY:9:30 am Spanish Mass
DESCRIPTION:
URL:https://stnicholasoftolentinebronx.org/event/930-am-spanish-mass/2025-08-31/
LOCATION:St Nicholas of Tolentine Church\, 2345 University Avenue\, Bronx\, NY\, 10468\, United States
END:VEVENT
BEGIN:VEVENT
DTSTART;TZID=America/New_York:20250831T113000
DTEND;TZID=America/New_York:20250831T123000
DTSTAMP:20260423T063435
CREATED:20250313T024110Z
LAST-MODIFIED:20250313T024112Z
UID:10019948-1756639800-1756643400@stnicholasoftolentinebronx.org
SUMMARY:11:30 am English Mass
DESCRIPTION:
URL:https://stnicholasoftolentinebronx.org/event/1130-am-english-mass/2025-08-31/
LOCATION:St Nicholas of Tolentine Church\, 2345 University Avenue\, Bronx\, NY\, 10468\, United States
END:VEVENT
BEGIN:VEVENT
DTSTART;TZID=America/New_York:20250831T133000
DTEND;TZID=America/New_York:20250831T143000
DTSTAMP:20260423T063435
CREATED:20250313T024158Z
LAST-MODIFIED:20250313T024339Z
UID:10020209-1756647000-1756650600@stnicholasoftolentinebronx.org
SUMMARY:1:30 pm Vietnamese Mass
DESCRIPTION:
URL:https://stnicholasoftolentinebronx.org/event/130-pm-vietnamese-mass/2025-08-31/
LOCATION:St Nicholas of Tolentine Church\, 2345 University Avenue\, Bronx\, NY\, 10468\, United States
END:VEVENT
BEGIN:VEVENT
DTSTART;TZID=America/New_York:20250901T090000
DTEND;TZID=America/New_York:20250901T100000
DTSTAMP:20260423T063435
CREATED:20250830T114417Z
LAST-MODIFIED:20250830T114419Z
UID:10020767-1756717200-1756720800@stnicholasoftolentinebronx.org
SUMMARY:9:00 am Labor Day Mass (only Mass today)
DESCRIPTION:
URL:https://stnicholasoftolentinebronx.org/event/900-am-labor-day-mass-only-mass-today/
LOCATION:St Nicholas of Tolentine Church\, 2345 University Avenue\, Bronx\, NY\, 10468\, United States
END:VEVENT
BEGIN:VEVENT
DTSTART;TZID=America/New_York:20250902T083000
DTEND;TZID=America/New_York:20250902T093000
DTSTAMP:20260423T063435
CREATED:20250305T035020Z
LAST-MODIFIED:20250305T035025Z
UID:10015856-1756801800-1756805400@stnicholasoftolentinebronx.org
SUMMARY:8:30 am Spanish Mass
DESCRIPTION:
URL:https://stnicholasoftolentinebronx.org/event/830-am-spanish-mass-3/2025-09-02/
LOCATION:St Nicholas of Tolentine Church\, 2345 University Avenue\, Bronx\, NY\, 10468\, United States
END:VEVENT
BEGIN:VEVENT
DTSTART;TZID=America/New_York:20250902T120000
DTEND;TZID=America/New_York:20250902T123000
DTSTAMP:20260423T063435
CREATED:20250305T040540Z
LAST-MODIFIED:20250305T040545Z
UID:10017160-1756814400-1756816200@stnicholasoftolentinebronx.org
SUMMARY:12:00 Noon English mass
DESCRIPTION:
URL:https://stnicholasoftolentinebronx.org/event/1200-noon-english-mass/2025-09-02/
LOCATION:St Nicholas of Tolentine Church\, 2345 University Avenue\, Bronx\, NY\, 10468\, United States
END:VEVENT
BEGIN:VEVENT
DTSTART;TZID=America/New_York:20250903T083000
DTEND;TZID=America/New_York:20250903T093000
DTSTAMP:20260423T063435
CREATED:20250305T035020Z
LAST-MODIFIED:20250305T035025Z
UID:10015857-1756888200-1756891800@stnicholasoftolentinebronx.org
SUMMARY:8:30 am Spanish Mass
DESCRIPTION:
URL:https://stnicholasoftolentinebronx.org/event/830-am-spanish-mass-3/2025-09-03/
LOCATION:St Nicholas of Tolentine Church\, 2345 University Avenue\, Bronx\, NY\, 10468\, United States
END:VEVENT
BEGIN:VEVENT
DTSTART;TZID=America/New_York:20250903T120000
DTEND;TZID=America/New_York:20250903T123000
DTSTAMP:20260423T063435
CREATED:20250305T040540Z
LAST-MODIFIED:20250305T040545Z
UID:10017161-1756900800-1756902600@stnicholasoftolentinebronx.org
SUMMARY:12:00 Noon English mass
DESCRIPTION:
URL:https://stnicholasoftolentinebronx.org/event/1200-noon-english-mass/2025-09-03/
LOCATION:St Nicholas of Tolentine Church\, 2345 University Avenue\, Bronx\, NY\, 10468\, United States
END:VEVENT
BEGIN:VEVENT
DTSTART;TZID=America/New_York:20250904T083000
DTEND;TZID=America/New_York:20250904T093000
DTSTAMP:20260423T063435
CREATED:20250305T035020Z
LAST-MODIFIED:20250305T035025Z
UID:10015858-1756974600-1756978200@stnicholasoftolentinebronx.org
SUMMARY:8:30 am Spanish Mass
DESCRIPTION:
URL:https://stnicholasoftolentinebronx.org/event/830-am-spanish-mass-3/2025-09-04/
LOCATION:St Nicholas of Tolentine Church\, 2345 University Avenue\, Bronx\, NY\, 10468\, United States
END:VEVENT
BEGIN:VEVENT
DTSTART;TZID=America/New_York:20250904T120000
DTEND;TZID=America/New_York:20250904T123000
DTSTAMP:20260423T063435
CREATED:20250305T040540Z
LAST-MODIFIED:20250305T040545Z
UID:10017162-1756987200-1756989000@stnicholasoftolentinebronx.org
SUMMARY:12:00 Noon English mass
DESCRIPTION:
URL:https://stnicholasoftolentinebronx.org/event/1200-noon-english-mass/2025-09-04/
LOCATION:St Nicholas of Tolentine Church\, 2345 University Avenue\, Bronx\, NY\, 10468\, United States
END:VEVENT
BEGIN:VEVENT
DTSTART;TZID=America/New_York:20250904T190000
DTEND;TZID=America/New_York:20250904T210000
DTSTAMP:20260423T063435
CREATED:20250305T041048Z
LAST-MODIFIED:20250306T225714Z
UID:10018363-1757012400-1757019600@stnicholasoftolentinebronx.org
SUMMARY:7:00 pm Círculo
DESCRIPTION:
URL:https://stnicholasoftolentinebronx.org/event/700-circulo/2025-09-04/
LOCATION:NY
END:VEVENT
BEGIN:VEVENT
DTSTART;TZID=America/New_York:20250905T083000
DTEND;TZID=America/New_York:20250905T093000
DTSTAMP:20260423T063435
CREATED:20250305T035020Z
LAST-MODIFIED:20250305T035025Z
UID:10015859-1757061000-1757064600@stnicholasoftolentinebronx.org
SUMMARY:8:30 am Spanish Mass
DESCRIPTION:
URL:https://stnicholasoftolentinebronx.org/event/830-am-spanish-mass-3/2025-09-05/
LOCATION:St Nicholas of Tolentine Church\, 2345 University Avenue\, Bronx\, NY\, 10468\, United States
END:VEVENT
BEGIN:VEVENT
DTSTART;TZID=America/New_York:20250905T120000
DTEND;TZID=America/New_York:20250905T123000
DTSTAMP:20260423T063435
CREATED:20250305T040540Z
LAST-MODIFIED:20250305T040545Z
UID:10017163-1757073600-1757075400@stnicholasoftolentinebronx.org
SUMMARY:12:00 Noon English mass
DESCRIPTION:
URL:https://stnicholasoftolentinebronx.org/event/1200-noon-english-mass/2025-09-05/
LOCATION:St Nicholas of Tolentine Church\, 2345 University Avenue\, Bronx\, NY\, 10468\, United States
END:VEVENT
BEGIN:VEVENT
DTSTART;TZID=America/New_York:20250906T074500
DTEND;TZID=America/New_York:20250906T083000
DTSTAMP:20260423T063435
CREATED:20250313T023643Z
LAST-MODIFIED:20250313T023646Z
UID:10018644-1757144700-1757147400@stnicholasoftolentinebronx.org
SUMMARY:7:45 am Vietnamese Mass
DESCRIPTION:
URL:https://stnicholasoftolentinebronx.org/event/745-am-vietnamese-mass/2025-09-06/
LOCATION:St Nicholas of Tolentine Church\, 2345 University Avenue\, Bronx\, NY\, 10468\, United States
END:VEVENT
BEGIN:VEVENT
DTSTART;TZID=America/New_York:20250906T100000
DTEND;TZID=America/New_York:20250906T113000
DTSTAMP:20260423T063435
CREATED:20250906T010247Z
LAST-MODIFIED:20250906T010253Z
UID:10020768-1757152800-1757158200@stnicholasoftolentinebronx.org
SUMMARY:10:00 am Anointing Mass
DESCRIPTION:
URL:https://stnicholasoftolentinebronx.org/event/1000-am-anointing-mass/
LOCATION:St Nicholas of Tolentine Church\, 2345 University Avenue\, Bronx\, NY\, 10468\, United States
END:VEVENT
BEGIN:VEVENT
DTSTART;TZID=America/New_York:20250906T173000
DTEND;TZID=America/New_York:20250906T183000
DTSTAMP:20260423T063435
CREATED:20250313T023751Z
LAST-MODIFIED:20250313T023752Z
UID:10018905-1757179800-1757183400@stnicholasoftolentinebronx.org
SUMMARY:5:30 pm Confessions
DESCRIPTION:
URL:https://stnicholasoftolentinebronx.org/event/530-pm-confessions/2025-09-06/
LOCATION:St Nicholas of Tolentine Church\, 2345 University Avenue\, Bronx\, NY\, 10468\, United States
END:VEVENT
BEGIN:VEVENT
DTSTART;TZID=America/New_York:20250906T190000
DTEND;TZID=America/New_York:20250906T200000
DTSTAMP:20260423T063435
CREATED:20250313T023841Z
LAST-MODIFIED:20250313T023842Z
UID:10019166-1757185200-1757188800@stnicholasoftolentinebronx.org
SUMMARY:7:00 pm Spanish Mass
DESCRIPTION:
URL:https://stnicholasoftolentinebronx.org/event/700-pm-spanish-mass/2025-09-06/
LOCATION:St Nicholas of Tolentine Church\, 2345 University Avenue\, Bronx\, NY\, 10468\, United States
END:VEVENT
BEGIN:VEVENT
DTSTART;TZID=America/New_York:20250907T080000
DTEND;TZID=America/New_York:20250907T090000
DTSTAMP:20260423T063435
CREATED:20250313T023930Z
LAST-MODIFIED:20250418T035212Z
UID:10019427-1757232000-1757235600@stnicholasoftolentinebronx.org
SUMMARY:8:00 am English Mass
DESCRIPTION:
URL:https://stnicholasoftolentinebronx.org/event/800-am-english-mass/2025-09-07/
LOCATION:St Nicholas of Tolentine Church\, 2345 University Avenue\, Bronx\, NY\, 10468\, United States
END:VEVENT
BEGIN:VEVENT
DTSTART;TZID=America/New_York:20250907T093000
DTEND;TZID=America/New_York:20250907T110000
DTSTAMP:20260423T063435
CREATED:20250313T024022Z
LAST-MODIFIED:20250313T024024Z
UID:10019688-1757237400-1757242800@stnicholasoftolentinebronx.org
SUMMARY:9:30 am Spanish Mass
DESCRIPTION:
URL:https://stnicholasoftolentinebronx.org/event/930-am-spanish-mass/2025-09-07/
LOCATION:St Nicholas of Tolentine Church\, 2345 University Avenue\, Bronx\, NY\, 10468\, United States
END:VEVENT
BEGIN:VEVENT
DTSTART;TZID=America/New_York:20250907T113000
DTEND;TZID=America/New_York:20250907T123000
DTSTAMP:20260423T063435
CREATED:20250313T024110Z
LAST-MODIFIED:20250313T024112Z
UID:10019949-1757244600-1757248200@stnicholasoftolentinebronx.org
SUMMARY:11:30 am English Mass
DESCRIPTION:
URL:https://stnicholasoftolentinebronx.org/event/1130-am-english-mass/2025-09-07/
LOCATION:St Nicholas of Tolentine Church\, 2345 University Avenue\, Bronx\, NY\, 10468\, United States
END:VEVENT
BEGIN:VEVENT
DTSTART;TZID=America/New_York:20250907T133000
DTEND;TZID=America/New_York:20250907T143000
DTSTAMP:20260423T063435
CREATED:20250313T024158Z
LAST-MODIFIED:20250313T024339Z
UID:10020210-1757251800-1757255400@stnicholasoftolentinebronx.org
SUMMARY:1:30 pm Vietnamese Mass
DESCRIPTION:
URL:https://stnicholasoftolentinebronx.org/event/130-pm-vietnamese-mass/2025-09-07/
LOCATION:St Nicholas of Tolentine Church\, 2345 University Avenue\, Bronx\, NY\, 10468\, United States
END:VEVENT
BEGIN:VEVENT
DTSTART;TZID=America/New_York:20250908T083000
DTEND;TZID=America/New_York:20250908T093000
DTSTAMP:20260423T063435
CREATED:20250305T035020Z
LAST-MODIFIED:20250305T035025Z
UID:10015860-1757320200-1757323800@stnicholasoftolentinebronx.org
SUMMARY:8:30 am Spanish Mass
DESCRIPTION:
URL:https://stnicholasoftolentinebronx.org/event/830-am-spanish-mass-3/2025-09-08/
LOCATION:St Nicholas of Tolentine Church\, 2345 University Avenue\, Bronx\, NY\, 10468\, United States
END:VEVENT
BEGIN:VEVENT
DTSTART;TZID=America/New_York:20250908T120000
DTEND;TZID=America/New_York:20250908T123000
DTSTAMP:20260423T063435
CREATED:20250305T040540Z
LAST-MODIFIED:20250305T040545Z
UID:10017164-1757332800-1757334600@stnicholasoftolentinebronx.org
SUMMARY:12:00 Noon English mass
DESCRIPTION:
URL:https://stnicholasoftolentinebronx.org/event/1200-noon-english-mass/2025-09-08/
LOCATION:St Nicholas of Tolentine Church\, 2345 University Avenue\, Bronx\, NY\, 10468\, United States
END:VEVENT
BEGIN:VEVENT
DTSTART;TZID=America/New_York:20250909T083000
DTEND;TZID=America/New_York:20250909T093000
DTSTAMP:20260423T063435
CREATED:20250305T035020Z
LAST-MODIFIED:20250305T035025Z
UID:10015861-1757406600-1757410200@stnicholasoftolentinebronx.org
SUMMARY:8:30 am Spanish Mass
DESCRIPTION:
URL:https://stnicholasoftolentinebronx.org/event/830-am-spanish-mass-3/2025-09-09/
LOCATION:St Nicholas of Tolentine Church\, 2345 University Avenue\, Bronx\, NY\, 10468\, United States
END:VEVENT
BEGIN:VEVENT
DTSTART;TZID=America/New_York:20250909T120000
DTEND;TZID=America/New_York:20250909T123000
DTSTAMP:20260423T063435
CREATED:20250305T040540Z
LAST-MODIFIED:20250305T040545Z
UID:10017165-1757419200-1757421000@stnicholasoftolentinebronx.org
SUMMARY:12:00 Noon English mass
DESCRIPTION:
URL:https://stnicholasoftolentinebronx.org/event/1200-noon-english-mass/2025-09-09/
LOCATION:St Nicholas of Tolentine Church\, 2345 University Avenue\, Bronx\, NY\, 10468\, United States
END:VEVENT
END:VCALENDAR