BEGIN:VCALENDAR
VERSION:2.0
PRODID:-//St. Nicholas of Tolentine Church - ECPv6.15.20//NONSGML v1.0//EN
CALSCALE:GREGORIAN
METHOD:PUBLISH
X-ORIGINAL-URL:https://stnicholasoftolentinebronx.org
X-WR-CALDESC:Events for St. Nicholas of Tolentine Church
REFRESH-INTERVAL;VALUE=DURATION:PT1H
X-Robots-Tag:noindex
X-PUBLISHED-TTL:PT1H
BEGIN:VTIMEZONE
TZID:America/New_York
BEGIN:DAYLIGHT
TZOFFSETFROM:-0500
TZOFFSETTO:-0400
TZNAME:EDT
DTSTART:20270314T070000
END:DAYLIGHT
BEGIN:STANDARD
TZOFFSETFROM:-0400
TZOFFSETTO:-0500
TZNAME:EST
DTSTART:20271107T060000
END:STANDARD
BEGIN:DAYLIGHT
TZOFFSETFROM:-0500
TZOFFSETTO:-0400
TZNAME:EDT
DTSTART:20280312T070000
END:DAYLIGHT
BEGIN:STANDARD
TZOFFSETFROM:-0400
TZOFFSETTO:-0500
TZNAME:EST
DTSTART:20281105T060000
END:STANDARD
BEGIN:DAYLIGHT
TZOFFSETFROM:-0500
TZOFFSETTO:-0400
TZNAME:EDT
DTSTART:20290311T070000
END:DAYLIGHT
BEGIN:STANDARD
TZOFFSETFROM:-0400
TZOFFSETTO:-0500
TZNAME:EST
DTSTART:20291104T060000
END:STANDARD
END:VTIMEZONE
BEGIN:VEVENT
DTSTART;TZID=America/New_York:20280408T074500
DTEND;TZID=America/New_York:20280408T083000
DTSTAMP:20260425T074124
CREATED:20250313T023643Z
LAST-MODIFIED:20250313T023646Z
UID:10018779-1838792700-1838795400@stnicholasoftolentinebronx.org
SUMMARY:7:45 am Vietnamese Mass
DESCRIPTION:
URL:https://stnicholasoftolentinebronx.org/event/745-am-vietnamese-mass/2028-04-08/
LOCATION:St Nicholas of Tolentine Church\, 2345 University Avenue\, Bronx\, NY\, 10468\, United States
END:VEVENT
BEGIN:VEVENT
DTSTART;TZID=America/New_York:20280408T173000
DTEND;TZID=America/New_York:20280408T183000
DTSTAMP:20260425T074124
CREATED:20250313T023751Z
LAST-MODIFIED:20250313T023752Z
UID:10019040-1838827800-1838831400@stnicholasoftolentinebronx.org
SUMMARY:5:30 pm Confessions
DESCRIPTION:
URL:https://stnicholasoftolentinebronx.org/event/530-pm-confessions/2028-04-08/
LOCATION:St Nicholas of Tolentine Church\, 2345 University Avenue\, Bronx\, NY\, 10468\, United States
END:VEVENT
BEGIN:VEVENT
DTSTART;TZID=America/New_York:20280408T190000
DTEND;TZID=America/New_York:20280408T200000
DTSTAMP:20260425T074124
CREATED:20250313T023841Z
LAST-MODIFIED:20250313T023842Z
UID:10019301-1838833200-1838836800@stnicholasoftolentinebronx.org
SUMMARY:7:00 pm Spanish Mass
DESCRIPTION:
URL:https://stnicholasoftolentinebronx.org/event/700-pm-spanish-mass/2028-04-08/
LOCATION:St Nicholas of Tolentine Church\, 2345 University Avenue\, Bronx\, NY\, 10468\, United States
END:VEVENT
BEGIN:VEVENT
DTSTART;TZID=America/New_York:20280409T080000
DTEND;TZID=America/New_York:20280409T090000
DTSTAMP:20260425T074124
CREATED:20250313T023930Z
LAST-MODIFIED:20250418T035212Z
UID:10019562-1838880000-1838883600@stnicholasoftolentinebronx.org
SUMMARY:8:00 am English Mass
DESCRIPTION:
URL:https://stnicholasoftolentinebronx.org/event/800-am-english-mass/2028-04-09/
LOCATION:St Nicholas of Tolentine Church\, 2345 University Avenue\, Bronx\, NY\, 10468\, United States
END:VEVENT
BEGIN:VEVENT
DTSTART;TZID=America/New_York:20280409T093000
DTEND;TZID=America/New_York:20280409T110000
DTSTAMP:20260425T074124
CREATED:20250313T024022Z
LAST-MODIFIED:20250313T024024Z
UID:10019823-1838885400-1838890800@stnicholasoftolentinebronx.org
SUMMARY:9:30 am Spanish Mass
DESCRIPTION:
URL:https://stnicholasoftolentinebronx.org/event/930-am-spanish-mass/2028-04-09/
LOCATION:St Nicholas of Tolentine Church\, 2345 University Avenue\, Bronx\, NY\, 10468\, United States
END:VEVENT
BEGIN:VEVENT
DTSTART;TZID=America/New_York:20280409T113000
DTEND;TZID=America/New_York:20280409T123000
DTSTAMP:20260425T074124
CREATED:20250313T024110Z
LAST-MODIFIED:20250313T024112Z
UID:10020084-1838892600-1838896200@stnicholasoftolentinebronx.org
SUMMARY:11:30 am English Mass
DESCRIPTION:
URL:https://stnicholasoftolentinebronx.org/event/1130-am-english-mass/2028-04-09/
LOCATION:St Nicholas of Tolentine Church\, 2345 University Avenue\, Bronx\, NY\, 10468\, United States
END:VEVENT
BEGIN:VEVENT
DTSTART;TZID=America/New_York:20280409T133000
DTEND;TZID=America/New_York:20280409T143000
DTSTAMP:20260425T074124
CREATED:20250313T024158Z
LAST-MODIFIED:20250313T024339Z
UID:10020345-1838899800-1838903400@stnicholasoftolentinebronx.org
SUMMARY:1:30 pm Vietnamese Mass
DESCRIPTION:
URL:https://stnicholasoftolentinebronx.org/event/130-pm-vietnamese-mass/2028-04-09/
LOCATION:St Nicholas of Tolentine Church\, 2345 University Avenue\, Bronx\, NY\, 10468\, United States
END:VEVENT
BEGIN:VEVENT
DTSTART;TZID=America/New_York:20280410T083000
DTEND;TZID=America/New_York:20280410T093000
DTSTAMP:20260425T074124
CREATED:20250305T035020Z
LAST-MODIFIED:20250305T035025Z
UID:10016535-1838968200-1838971800@stnicholasoftolentinebronx.org
SUMMARY:8:30 am Spanish Mass
DESCRIPTION:
URL:https://stnicholasoftolentinebronx.org/event/830-am-spanish-mass-3/2028-04-10/
LOCATION:St Nicholas of Tolentine Church\, 2345 University Avenue\, Bronx\, NY\, 10468\, United States
END:VEVENT
BEGIN:VEVENT
DTSTART;TZID=America/New_York:20280410T120000
DTEND;TZID=America/New_York:20280410T123000
DTSTAMP:20260425T074124
CREATED:20250305T040540Z
LAST-MODIFIED:20250305T040545Z
UID:10017839-1838980800-1838982600@stnicholasoftolentinebronx.org
SUMMARY:12:00 Noon English mass
DESCRIPTION:
URL:https://stnicholasoftolentinebronx.org/event/1200-noon-english-mass/2028-04-10/
LOCATION:St Nicholas of Tolentine Church\, 2345 University Avenue\, Bronx\, NY\, 10468\, United States
END:VEVENT
BEGIN:VEVENT
DTSTART;TZID=America/New_York:20280411T083000
DTEND;TZID=America/New_York:20280411T093000
DTSTAMP:20260425T074124
CREATED:20250305T035020Z
LAST-MODIFIED:20250305T035025Z
UID:10016536-1839054600-1839058200@stnicholasoftolentinebronx.org
SUMMARY:8:30 am Spanish Mass
DESCRIPTION:
URL:https://stnicholasoftolentinebronx.org/event/830-am-spanish-mass-3/2028-04-11/
LOCATION:St Nicholas of Tolentine Church\, 2345 University Avenue\, Bronx\, NY\, 10468\, United States
END:VEVENT
BEGIN:VEVENT
DTSTART;TZID=America/New_York:20280411T120000
DTEND;TZID=America/New_York:20280411T123000
DTSTAMP:20260425T074124
CREATED:20250305T040540Z
LAST-MODIFIED:20250305T040545Z
UID:10017840-1839067200-1839069000@stnicholasoftolentinebronx.org
SUMMARY:12:00 Noon English mass
DESCRIPTION:
URL:https://stnicholasoftolentinebronx.org/event/1200-noon-english-mass/2028-04-11/
LOCATION:St Nicholas of Tolentine Church\, 2345 University Avenue\, Bronx\, NY\, 10468\, United States
END:VEVENT
BEGIN:VEVENT
DTSTART;TZID=America/New_York:20280412T083000
DTEND;TZID=America/New_York:20280412T093000
DTSTAMP:20260425T074124
CREATED:20250305T035020Z
LAST-MODIFIED:20250305T035025Z
UID:10016537-1839141000-1839144600@stnicholasoftolentinebronx.org
SUMMARY:8:30 am Spanish Mass
DESCRIPTION:
URL:https://stnicholasoftolentinebronx.org/event/830-am-spanish-mass-3/2028-04-12/
LOCATION:St Nicholas of Tolentine Church\, 2345 University Avenue\, Bronx\, NY\, 10468\, United States
END:VEVENT
BEGIN:VEVENT
DTSTART;TZID=America/New_York:20280412T120000
DTEND;TZID=America/New_York:20280412T123000
DTSTAMP:20260425T074124
CREATED:20250305T040540Z
LAST-MODIFIED:20250305T040545Z
UID:10017841-1839153600-1839155400@stnicholasoftolentinebronx.org
SUMMARY:12:00 Noon English mass
DESCRIPTION:
URL:https://stnicholasoftolentinebronx.org/event/1200-noon-english-mass/2028-04-12/
LOCATION:St Nicholas of Tolentine Church\, 2345 University Avenue\, Bronx\, NY\, 10468\, United States
END:VEVENT
BEGIN:VEVENT
DTSTART;TZID=America/New_York:20280413T083000
DTEND;TZID=America/New_York:20280413T093000
DTSTAMP:20260425T074124
CREATED:20250305T035020Z
LAST-MODIFIED:20250305T035025Z
UID:10016538-1839227400-1839231000@stnicholasoftolentinebronx.org
SUMMARY:8:30 am Spanish Mass
DESCRIPTION:
URL:https://stnicholasoftolentinebronx.org/event/830-am-spanish-mass-3/2028-04-13/
LOCATION:St Nicholas of Tolentine Church\, 2345 University Avenue\, Bronx\, NY\, 10468\, United States
END:VEVENT
BEGIN:VEVENT
DTSTART;TZID=America/New_York:20280413T120000
DTEND;TZID=America/New_York:20280413T123000
DTSTAMP:20260425T074124
CREATED:20250305T040540Z
LAST-MODIFIED:20250305T040545Z
UID:10017842-1839240000-1839241800@stnicholasoftolentinebronx.org
SUMMARY:12:00 Noon English mass
DESCRIPTION:
URL:https://stnicholasoftolentinebronx.org/event/1200-noon-english-mass/2028-04-13/
LOCATION:St Nicholas of Tolentine Church\, 2345 University Avenue\, Bronx\, NY\, 10468\, United States
END:VEVENT
BEGIN:VEVENT
DTSTART;TZID=America/New_York:20280413T190000
DTEND;TZID=America/New_York:20280413T210000
DTSTAMP:20260425T074124
CREATED:20250305T041048Z
LAST-MODIFIED:20250306T225714Z
UID:10018499-1839265200-1839272400@stnicholasoftolentinebronx.org
SUMMARY:7:00 pm Círculo
DESCRIPTION:
URL:https://stnicholasoftolentinebronx.org/event/700-circulo/2028-04-13/
LOCATION:NY
END:VEVENT
BEGIN:VEVENT
DTSTART;TZID=America/New_York:20280414T083000
DTEND;TZID=America/New_York:20280414T093000
DTSTAMP:20260425T074124
CREATED:20250305T035020Z
LAST-MODIFIED:20250305T035025Z
UID:10016539-1839313800-1839317400@stnicholasoftolentinebronx.org
SUMMARY:8:30 am Spanish Mass
DESCRIPTION:
URL:https://stnicholasoftolentinebronx.org/event/830-am-spanish-mass-3/2028-04-14/
LOCATION:St Nicholas of Tolentine Church\, 2345 University Avenue\, Bronx\, NY\, 10468\, United States
END:VEVENT
BEGIN:VEVENT
DTSTART;TZID=America/New_York:20280414T120000
DTEND;TZID=America/New_York:20280414T123000
DTSTAMP:20260425T074124
CREATED:20250305T040540Z
LAST-MODIFIED:20250305T040545Z
UID:10017843-1839326400-1839328200@stnicholasoftolentinebronx.org
SUMMARY:12:00 Noon English mass
DESCRIPTION:
URL:https://stnicholasoftolentinebronx.org/event/1200-noon-english-mass/2028-04-14/
LOCATION:St Nicholas of Tolentine Church\, 2345 University Avenue\, Bronx\, NY\, 10468\, United States
END:VEVENT
BEGIN:VEVENT
DTSTART;TZID=America/New_York:20280415T074500
DTEND;TZID=America/New_York:20280415T083000
DTSTAMP:20260425T074124
CREATED:20250313T023643Z
LAST-MODIFIED:20250313T023646Z
UID:10018780-1839397500-1839400200@stnicholasoftolentinebronx.org
SUMMARY:7:45 am Vietnamese Mass
DESCRIPTION:
URL:https://stnicholasoftolentinebronx.org/event/745-am-vietnamese-mass/2028-04-15/
LOCATION:St Nicholas of Tolentine Church\, 2345 University Avenue\, Bronx\, NY\, 10468\, United States
END:VEVENT
BEGIN:VEVENT
DTSTART;TZID=America/New_York:20280415T173000
DTEND;TZID=America/New_York:20280415T183000
DTSTAMP:20260425T074124
CREATED:20250313T023751Z
LAST-MODIFIED:20250313T023752Z
UID:10019041-1839432600-1839436200@stnicholasoftolentinebronx.org
SUMMARY:5:30 pm Confessions
DESCRIPTION:
URL:https://stnicholasoftolentinebronx.org/event/530-pm-confessions/2028-04-15/
LOCATION:St Nicholas of Tolentine Church\, 2345 University Avenue\, Bronx\, NY\, 10468\, United States
END:VEVENT
BEGIN:VEVENT
DTSTART;TZID=America/New_York:20280415T190000
DTEND;TZID=America/New_York:20280415T200000
DTSTAMP:20260425T074124
CREATED:20250313T023841Z
LAST-MODIFIED:20250313T023842Z
UID:10019302-1839438000-1839441600@stnicholasoftolentinebronx.org
SUMMARY:7:00 pm Spanish Mass
DESCRIPTION:
URL:https://stnicholasoftolentinebronx.org/event/700-pm-spanish-mass/2028-04-15/
LOCATION:St Nicholas of Tolentine Church\, 2345 University Avenue\, Bronx\, NY\, 10468\, United States
END:VEVENT
BEGIN:VEVENT
DTSTART;TZID=America/New_York:20280416T080000
DTEND;TZID=America/New_York:20280416T090000
DTSTAMP:20260425T074124
CREATED:20250313T023930Z
LAST-MODIFIED:20250418T035212Z
UID:10019563-1839484800-1839488400@stnicholasoftolentinebronx.org
SUMMARY:8:00 am English Mass
DESCRIPTION:
URL:https://stnicholasoftolentinebronx.org/event/800-am-english-mass/2028-04-16/
LOCATION:St Nicholas of Tolentine Church\, 2345 University Avenue\, Bronx\, NY\, 10468\, United States
END:VEVENT
BEGIN:VEVENT
DTSTART;TZID=America/New_York:20280416T093000
DTEND;TZID=America/New_York:20280416T110000
DTSTAMP:20260425T074124
CREATED:20250313T024022Z
LAST-MODIFIED:20250313T024024Z
UID:10019824-1839490200-1839495600@stnicholasoftolentinebronx.org
SUMMARY:9:30 am Spanish Mass
DESCRIPTION:
URL:https://stnicholasoftolentinebronx.org/event/930-am-spanish-mass/2028-04-16/
LOCATION:St Nicholas of Tolentine Church\, 2345 University Avenue\, Bronx\, NY\, 10468\, United States
END:VEVENT
BEGIN:VEVENT
DTSTART;TZID=America/New_York:20280416T113000
DTEND;TZID=America/New_York:20280416T123000
DTSTAMP:20260425T074124
CREATED:20250313T024110Z
LAST-MODIFIED:20250313T024112Z
UID:10020085-1839497400-1839501000@stnicholasoftolentinebronx.org
SUMMARY:11:30 am English Mass
DESCRIPTION:
URL:https://stnicholasoftolentinebronx.org/event/1130-am-english-mass/2028-04-16/
LOCATION:St Nicholas of Tolentine Church\, 2345 University Avenue\, Bronx\, NY\, 10468\, United States
END:VEVENT
BEGIN:VEVENT
DTSTART;TZID=America/New_York:20280416T133000
DTEND;TZID=America/New_York:20280416T143000
DTSTAMP:20260425T074124
CREATED:20250313T024158Z
LAST-MODIFIED:20250313T024339Z
UID:10020346-1839504600-1839508200@stnicholasoftolentinebronx.org
SUMMARY:1:30 pm Vietnamese Mass
DESCRIPTION:
URL:https://stnicholasoftolentinebronx.org/event/130-pm-vietnamese-mass/2028-04-16/
LOCATION:St Nicholas of Tolentine Church\, 2345 University Avenue\, Bronx\, NY\, 10468\, United States
END:VEVENT
BEGIN:VEVENT
DTSTART;TZID=America/New_York:20280417T083000
DTEND;TZID=America/New_York:20280417T093000
DTSTAMP:20260425T074124
CREATED:20250305T035020Z
LAST-MODIFIED:20250305T035025Z
UID:10016540-1839573000-1839576600@stnicholasoftolentinebronx.org
SUMMARY:8:30 am Spanish Mass
DESCRIPTION:
URL:https://stnicholasoftolentinebronx.org/event/830-am-spanish-mass-3/2028-04-17/
LOCATION:St Nicholas of Tolentine Church\, 2345 University Avenue\, Bronx\, NY\, 10468\, United States
END:VEVENT
BEGIN:VEVENT
DTSTART;TZID=America/New_York:20280417T120000
DTEND;TZID=America/New_York:20280417T123000
DTSTAMP:20260425T074124
CREATED:20250305T040540Z
LAST-MODIFIED:20250305T040545Z
UID:10017844-1839585600-1839587400@stnicholasoftolentinebronx.org
SUMMARY:12:00 Noon English mass
DESCRIPTION:
URL:https://stnicholasoftolentinebronx.org/event/1200-noon-english-mass/2028-04-17/
LOCATION:St Nicholas of Tolentine Church\, 2345 University Avenue\, Bronx\, NY\, 10468\, United States
END:VEVENT
BEGIN:VEVENT
DTSTART;TZID=America/New_York:20280418T083000
DTEND;TZID=America/New_York:20280418T093000
DTSTAMP:20260425T074124
CREATED:20250305T035020Z
LAST-MODIFIED:20250305T035025Z
UID:10016541-1839659400-1839663000@stnicholasoftolentinebronx.org
SUMMARY:8:30 am Spanish Mass
DESCRIPTION:
URL:https://stnicholasoftolentinebronx.org/event/830-am-spanish-mass-3/2028-04-18/
LOCATION:St Nicholas of Tolentine Church\, 2345 University Avenue\, Bronx\, NY\, 10468\, United States
END:VEVENT
BEGIN:VEVENT
DTSTART;TZID=America/New_York:20280418T120000
DTEND;TZID=America/New_York:20280418T123000
DTSTAMP:20260425T074124
CREATED:20250305T040540Z
LAST-MODIFIED:20250305T040545Z
UID:10017845-1839672000-1839673800@stnicholasoftolentinebronx.org
SUMMARY:12:00 Noon English mass
DESCRIPTION:
URL:https://stnicholasoftolentinebronx.org/event/1200-noon-english-mass/2028-04-18/
LOCATION:St Nicholas of Tolentine Church\, 2345 University Avenue\, Bronx\, NY\, 10468\, United States
END:VEVENT
BEGIN:VEVENT
DTSTART;TZID=America/New_York:20280419T083000
DTEND;TZID=America/New_York:20280419T093000
DTSTAMP:20260425T074124
CREATED:20250305T035020Z
LAST-MODIFIED:20250305T035025Z
UID:10016542-1839745800-1839749400@stnicholasoftolentinebronx.org
SUMMARY:8:30 am Spanish Mass
DESCRIPTION:
URL:https://stnicholasoftolentinebronx.org/event/830-am-spanish-mass-3/2028-04-19/
LOCATION:St Nicholas of Tolentine Church\, 2345 University Avenue\, Bronx\, NY\, 10468\, United States
END:VEVENT
END:VCALENDAR