BEGIN:VCALENDAR
VERSION:2.0
PRODID:-//St. Nicholas of Tolentine Church - ECPv6.15.20//NONSGML v1.0//EN
CALSCALE:GREGORIAN
METHOD:PUBLISH
X-WR-CALNAME:St. Nicholas of Tolentine Church
X-ORIGINAL-URL:https://stnicholasoftolentinebronx.org
X-WR-CALDESC:Events for St. Nicholas of Tolentine Church
REFRESH-INTERVAL;VALUE=DURATION:PT1H
X-Robots-Tag:noindex
X-PUBLISHED-TTL:PT1H
BEGIN:VTIMEZONE
TZID:America/New_York
BEGIN:DAYLIGHT
TZOFFSETFROM:-0500
TZOFFSETTO:-0400
TZNAME:EDT
DTSTART:20270314T070000
END:DAYLIGHT
BEGIN:STANDARD
TZOFFSETFROM:-0400
TZOFFSETTO:-0500
TZNAME:EST
DTSTART:20271107T060000
END:STANDARD
BEGIN:DAYLIGHT
TZOFFSETFROM:-0500
TZOFFSETTO:-0400
TZNAME:EDT
DTSTART:20280312T070000
END:DAYLIGHT
BEGIN:STANDARD
TZOFFSETFROM:-0400
TZOFFSETTO:-0500
TZNAME:EST
DTSTART:20281105T060000
END:STANDARD
BEGIN:DAYLIGHT
TZOFFSETFROM:-0500
TZOFFSETTO:-0400
TZNAME:EDT
DTSTART:20290311T070000
END:DAYLIGHT
BEGIN:STANDARD
TZOFFSETFROM:-0400
TZOFFSETTO:-0500
TZNAME:EST
DTSTART:20291104T060000
END:STANDARD
END:VTIMEZONE
BEGIN:VEVENT
DTSTART;TZID=America/New_York:20280514T093000
DTEND;TZID=America/New_York:20280514T110000
DTSTAMP:20260425T103517
CREATED:20250313T024022Z
LAST-MODIFIED:20250313T024024Z
UID:10019828-1841909400-1841914800@stnicholasoftolentinebronx.org
SUMMARY:9:30 am Spanish Mass
DESCRIPTION:
URL:https://stnicholasoftolentinebronx.org/event/930-am-spanish-mass/2028-05-14/
LOCATION:St Nicholas of Tolentine Church\, 2345 University Avenue\, Bronx\, NY\, 10468\, United States
END:VEVENT
BEGIN:VEVENT
DTSTART;TZID=America/New_York:20280514T113000
DTEND;TZID=America/New_York:20280514T123000
DTSTAMP:20260425T103517
CREATED:20250313T024110Z
LAST-MODIFIED:20250313T024112Z
UID:10020089-1841916600-1841920200@stnicholasoftolentinebronx.org
SUMMARY:11:30 am English Mass
DESCRIPTION:
URL:https://stnicholasoftolentinebronx.org/event/1130-am-english-mass/2028-05-14/
LOCATION:St Nicholas of Tolentine Church\, 2345 University Avenue\, Bronx\, NY\, 10468\, United States
END:VEVENT
BEGIN:VEVENT
DTSTART;TZID=America/New_York:20280514T133000
DTEND;TZID=America/New_York:20280514T143000
DTSTAMP:20260425T103517
CREATED:20250313T024158Z
LAST-MODIFIED:20250313T024339Z
UID:10020350-1841923800-1841927400@stnicholasoftolentinebronx.org
SUMMARY:1:30 pm Vietnamese Mass
DESCRIPTION:
URL:https://stnicholasoftolentinebronx.org/event/130-pm-vietnamese-mass/2028-05-14/
LOCATION:St Nicholas of Tolentine Church\, 2345 University Avenue\, Bronx\, NY\, 10468\, United States
END:VEVENT
BEGIN:VEVENT
DTSTART;TZID=America/New_York:20280515T083000
DTEND;TZID=America/New_York:20280515T093000
DTSTAMP:20260425T103517
CREATED:20250305T035020Z
LAST-MODIFIED:20250305T035025Z
UID:10016560-1841992200-1841995800@stnicholasoftolentinebronx.org
SUMMARY:8:30 am Spanish Mass
DESCRIPTION:
URL:https://stnicholasoftolentinebronx.org/event/830-am-spanish-mass-3/2028-05-15/
LOCATION:St Nicholas of Tolentine Church\, 2345 University Avenue\, Bronx\, NY\, 10468\, United States
END:VEVENT
BEGIN:VEVENT
DTSTART;TZID=America/New_York:20280515T120000
DTEND;TZID=America/New_York:20280515T123000
DTSTAMP:20260425T103517
CREATED:20250305T040540Z
LAST-MODIFIED:20250305T040545Z
UID:10017864-1842004800-1842006600@stnicholasoftolentinebronx.org
SUMMARY:12:00 Noon English mass
DESCRIPTION:
URL:https://stnicholasoftolentinebronx.org/event/1200-noon-english-mass/2028-05-15/
LOCATION:St Nicholas of Tolentine Church\, 2345 University Avenue\, Bronx\, NY\, 10468\, United States
END:VEVENT
BEGIN:VEVENT
DTSTART;TZID=America/New_York:20280516T083000
DTEND;TZID=America/New_York:20280516T093000
DTSTAMP:20260425T103517
CREATED:20250305T035020Z
LAST-MODIFIED:20250305T035025Z
UID:10016561-1842078600-1842082200@stnicholasoftolentinebronx.org
SUMMARY:8:30 am Spanish Mass
DESCRIPTION:
URL:https://stnicholasoftolentinebronx.org/event/830-am-spanish-mass-3/2028-05-16/
LOCATION:St Nicholas of Tolentine Church\, 2345 University Avenue\, Bronx\, NY\, 10468\, United States
END:VEVENT
BEGIN:VEVENT
DTSTART;TZID=America/New_York:20280516T120000
DTEND;TZID=America/New_York:20280516T123000
DTSTAMP:20260425T103517
CREATED:20250305T040540Z
LAST-MODIFIED:20250305T040545Z
UID:10017865-1842091200-1842093000@stnicholasoftolentinebronx.org
SUMMARY:12:00 Noon English mass
DESCRIPTION:
URL:https://stnicholasoftolentinebronx.org/event/1200-noon-english-mass/2028-05-16/
LOCATION:St Nicholas of Tolentine Church\, 2345 University Avenue\, Bronx\, NY\, 10468\, United States
END:VEVENT
BEGIN:VEVENT
DTSTART;TZID=America/New_York:20280517T083000
DTEND;TZID=America/New_York:20280517T093000
DTSTAMP:20260425T103517
CREATED:20250305T035020Z
LAST-MODIFIED:20250305T035025Z
UID:10016562-1842165000-1842168600@stnicholasoftolentinebronx.org
SUMMARY:8:30 am Spanish Mass
DESCRIPTION:
URL:https://stnicholasoftolentinebronx.org/event/830-am-spanish-mass-3/2028-05-17/
LOCATION:St Nicholas of Tolentine Church\, 2345 University Avenue\, Bronx\, NY\, 10468\, United States
END:VEVENT
BEGIN:VEVENT
DTSTART;TZID=America/New_York:20280517T120000
DTEND;TZID=America/New_York:20280517T123000
DTSTAMP:20260425T103517
CREATED:20250305T040540Z
LAST-MODIFIED:20250305T040545Z
UID:10017866-1842177600-1842179400@stnicholasoftolentinebronx.org
SUMMARY:12:00 Noon English mass
DESCRIPTION:
URL:https://stnicholasoftolentinebronx.org/event/1200-noon-english-mass/2028-05-17/
LOCATION:St Nicholas of Tolentine Church\, 2345 University Avenue\, Bronx\, NY\, 10468\, United States
END:VEVENT
BEGIN:VEVENT
DTSTART;TZID=America/New_York:20280518T083000
DTEND;TZID=America/New_York:20280518T093000
DTSTAMP:20260425T103517
CREATED:20250305T035020Z
LAST-MODIFIED:20250305T035025Z
UID:10016563-1842251400-1842255000@stnicholasoftolentinebronx.org
SUMMARY:8:30 am Spanish Mass
DESCRIPTION:
URL:https://stnicholasoftolentinebronx.org/event/830-am-spanish-mass-3/2028-05-18/
LOCATION:St Nicholas of Tolentine Church\, 2345 University Avenue\, Bronx\, NY\, 10468\, United States
END:VEVENT
BEGIN:VEVENT
DTSTART;TZID=America/New_York:20280518T120000
DTEND;TZID=America/New_York:20280518T123000
DTSTAMP:20260425T103517
CREATED:20250305T040540Z
LAST-MODIFIED:20250305T040545Z
UID:10017867-1842264000-1842265800@stnicholasoftolentinebronx.org
SUMMARY:12:00 Noon English mass
DESCRIPTION:
URL:https://stnicholasoftolentinebronx.org/event/1200-noon-english-mass/2028-05-18/
LOCATION:St Nicholas of Tolentine Church\, 2345 University Avenue\, Bronx\, NY\, 10468\, United States
END:VEVENT
BEGIN:VEVENT
DTSTART;TZID=America/New_York:20280518T190000
DTEND;TZID=America/New_York:20280518T210000
DTSTAMP:20260425T103517
CREATED:20250305T041048Z
LAST-MODIFIED:20250306T225714Z
UID:10018504-1842289200-1842296400@stnicholasoftolentinebronx.org
SUMMARY:7:00 pm Círculo
DESCRIPTION:
URL:https://stnicholasoftolentinebronx.org/event/700-circulo/2028-05-18/
LOCATION:NY
END:VEVENT
BEGIN:VEVENT
DTSTART;TZID=America/New_York:20280519T083000
DTEND;TZID=America/New_York:20280519T093000
DTSTAMP:20260425T103517
CREATED:20250305T035020Z
LAST-MODIFIED:20250305T035025Z
UID:10016564-1842337800-1842341400@stnicholasoftolentinebronx.org
SUMMARY:8:30 am Spanish Mass
DESCRIPTION:
URL:https://stnicholasoftolentinebronx.org/event/830-am-spanish-mass-3/2028-05-19/
LOCATION:St Nicholas of Tolentine Church\, 2345 University Avenue\, Bronx\, NY\, 10468\, United States
END:VEVENT
BEGIN:VEVENT
DTSTART;TZID=America/New_York:20280519T120000
DTEND;TZID=America/New_York:20280519T123000
DTSTAMP:20260425T103517
CREATED:20250305T040540Z
LAST-MODIFIED:20250305T040545Z
UID:10017868-1842350400-1842352200@stnicholasoftolentinebronx.org
SUMMARY:12:00 Noon English mass
DESCRIPTION:
URL:https://stnicholasoftolentinebronx.org/event/1200-noon-english-mass/2028-05-19/
LOCATION:St Nicholas of Tolentine Church\, 2345 University Avenue\, Bronx\, NY\, 10468\, United States
END:VEVENT
BEGIN:VEVENT
DTSTART;TZID=America/New_York:20280520T074500
DTEND;TZID=America/New_York:20280520T083000
DTSTAMP:20260425T103517
CREATED:20250313T023643Z
LAST-MODIFIED:20250313T023646Z
UID:10018785-1842421500-1842424200@stnicholasoftolentinebronx.org
SUMMARY:7:45 am Vietnamese Mass
DESCRIPTION:
URL:https://stnicholasoftolentinebronx.org/event/745-am-vietnamese-mass/2028-05-20/
LOCATION:St Nicholas of Tolentine Church\, 2345 University Avenue\, Bronx\, NY\, 10468\, United States
END:VEVENT
BEGIN:VEVENT
DTSTART;TZID=America/New_York:20280520T173000
DTEND;TZID=America/New_York:20280520T183000
DTSTAMP:20260425T103517
CREATED:20250313T023751Z
LAST-MODIFIED:20250313T023752Z
UID:10019046-1842456600-1842460200@stnicholasoftolentinebronx.org
SUMMARY:5:30 pm Confessions
DESCRIPTION:
URL:https://stnicholasoftolentinebronx.org/event/530-pm-confessions/2028-05-20/
LOCATION:St Nicholas of Tolentine Church\, 2345 University Avenue\, Bronx\, NY\, 10468\, United States
END:VEVENT
BEGIN:VEVENT
DTSTART;TZID=America/New_York:20280520T190000
DTEND;TZID=America/New_York:20280520T200000
DTSTAMP:20260425T103517
CREATED:20250313T023841Z
LAST-MODIFIED:20250313T023842Z
UID:10019307-1842462000-1842465600@stnicholasoftolentinebronx.org
SUMMARY:7:00 pm Spanish Mass
DESCRIPTION:
URL:https://stnicholasoftolentinebronx.org/event/700-pm-spanish-mass/2028-05-20/
LOCATION:St Nicholas of Tolentine Church\, 2345 University Avenue\, Bronx\, NY\, 10468\, United States
END:VEVENT
BEGIN:VEVENT
DTSTART;TZID=America/New_York:20280521T080000
DTEND;TZID=America/New_York:20280521T090000
DTSTAMP:20260425T103517
CREATED:20250313T023930Z
LAST-MODIFIED:20250418T035212Z
UID:10019568-1842508800-1842512400@stnicholasoftolentinebronx.org
SUMMARY:8:00 am English Mass
DESCRIPTION:
URL:https://stnicholasoftolentinebronx.org/event/800-am-english-mass/2028-05-21/
LOCATION:St Nicholas of Tolentine Church\, 2345 University Avenue\, Bronx\, NY\, 10468\, United States
END:VEVENT
BEGIN:VEVENT
DTSTART;TZID=America/New_York:20280521T093000
DTEND;TZID=America/New_York:20280521T110000
DTSTAMP:20260425T103517
CREATED:20250313T024022Z
LAST-MODIFIED:20250313T024024Z
UID:10019829-1842514200-1842519600@stnicholasoftolentinebronx.org
SUMMARY:9:30 am Spanish Mass
DESCRIPTION:
URL:https://stnicholasoftolentinebronx.org/event/930-am-spanish-mass/2028-05-21/
LOCATION:St Nicholas of Tolentine Church\, 2345 University Avenue\, Bronx\, NY\, 10468\, United States
END:VEVENT
BEGIN:VEVENT
DTSTART;TZID=America/New_York:20280521T113000
DTEND;TZID=America/New_York:20280521T123000
DTSTAMP:20260425T103517
CREATED:20250313T024110Z
LAST-MODIFIED:20250313T024112Z
UID:10020090-1842521400-1842525000@stnicholasoftolentinebronx.org
SUMMARY:11:30 am English Mass
DESCRIPTION:
URL:https://stnicholasoftolentinebronx.org/event/1130-am-english-mass/2028-05-21/
LOCATION:St Nicholas of Tolentine Church\, 2345 University Avenue\, Bronx\, NY\, 10468\, United States
END:VEVENT
BEGIN:VEVENT
DTSTART;TZID=America/New_York:20280521T133000
DTEND;TZID=America/New_York:20280521T143000
DTSTAMP:20260425T103517
CREATED:20250313T024158Z
LAST-MODIFIED:20250313T024339Z
UID:10020351-1842528600-1842532200@stnicholasoftolentinebronx.org
SUMMARY:1:30 pm Vietnamese Mass
DESCRIPTION:
URL:https://stnicholasoftolentinebronx.org/event/130-pm-vietnamese-mass/2028-05-21/
LOCATION:St Nicholas of Tolentine Church\, 2345 University Avenue\, Bronx\, NY\, 10468\, United States
END:VEVENT
BEGIN:VEVENT
DTSTART;TZID=America/New_York:20280522T083000
DTEND;TZID=America/New_York:20280522T093000
DTSTAMP:20260425T103517
CREATED:20250305T035020Z
LAST-MODIFIED:20250305T035025Z
UID:10016565-1842597000-1842600600@stnicholasoftolentinebronx.org
SUMMARY:8:30 am Spanish Mass
DESCRIPTION:
URL:https://stnicholasoftolentinebronx.org/event/830-am-spanish-mass-3/2028-05-22/
LOCATION:St Nicholas of Tolentine Church\, 2345 University Avenue\, Bronx\, NY\, 10468\, United States
END:VEVENT
BEGIN:VEVENT
DTSTART;TZID=America/New_York:20280522T120000
DTEND;TZID=America/New_York:20280522T123000
DTSTAMP:20260425T103517
CREATED:20250305T040540Z
LAST-MODIFIED:20250305T040545Z
UID:10017869-1842609600-1842611400@stnicholasoftolentinebronx.org
SUMMARY:12:00 Noon English mass
DESCRIPTION:
URL:https://stnicholasoftolentinebronx.org/event/1200-noon-english-mass/2028-05-22/
LOCATION:St Nicholas of Tolentine Church\, 2345 University Avenue\, Bronx\, NY\, 10468\, United States
END:VEVENT
BEGIN:VEVENT
DTSTART;TZID=America/New_York:20280523T083000
DTEND;TZID=America/New_York:20280523T093000
DTSTAMP:20260425T103517
CREATED:20250305T035020Z
LAST-MODIFIED:20250305T035025Z
UID:10016566-1842683400-1842687000@stnicholasoftolentinebronx.org
SUMMARY:8:30 am Spanish Mass
DESCRIPTION:
URL:https://stnicholasoftolentinebronx.org/event/830-am-spanish-mass-3/2028-05-23/
LOCATION:St Nicholas of Tolentine Church\, 2345 University Avenue\, Bronx\, NY\, 10468\, United States
END:VEVENT
BEGIN:VEVENT
DTSTART;TZID=America/New_York:20280523T120000
DTEND;TZID=America/New_York:20280523T123000
DTSTAMP:20260425T103517
CREATED:20250305T040540Z
LAST-MODIFIED:20250305T040545Z
UID:10017870-1842696000-1842697800@stnicholasoftolentinebronx.org
SUMMARY:12:00 Noon English mass
DESCRIPTION:
URL:https://stnicholasoftolentinebronx.org/event/1200-noon-english-mass/2028-05-23/
LOCATION:St Nicholas of Tolentine Church\, 2345 University Avenue\, Bronx\, NY\, 10468\, United States
END:VEVENT
BEGIN:VEVENT
DTSTART;TZID=America/New_York:20280524T083000
DTEND;TZID=America/New_York:20280524T093000
DTSTAMP:20260425T103517
CREATED:20250305T035020Z
LAST-MODIFIED:20250305T035025Z
UID:10016567-1842769800-1842773400@stnicholasoftolentinebronx.org
SUMMARY:8:30 am Spanish Mass
DESCRIPTION:
URL:https://stnicholasoftolentinebronx.org/event/830-am-spanish-mass-3/2028-05-24/
LOCATION:St Nicholas of Tolentine Church\, 2345 University Avenue\, Bronx\, NY\, 10468\, United States
END:VEVENT
BEGIN:VEVENT
DTSTART;TZID=America/New_York:20280524T120000
DTEND;TZID=America/New_York:20280524T123000
DTSTAMP:20260425T103517
CREATED:20250305T040540Z
LAST-MODIFIED:20250305T040545Z
UID:10017871-1842782400-1842784200@stnicholasoftolentinebronx.org
SUMMARY:12:00 Noon English mass
DESCRIPTION:
URL:https://stnicholasoftolentinebronx.org/event/1200-noon-english-mass/2028-05-24/
LOCATION:St Nicholas of Tolentine Church\, 2345 University Avenue\, Bronx\, NY\, 10468\, United States
END:VEVENT
BEGIN:VEVENT
DTSTART;TZID=America/New_York:20280525T083000
DTEND;TZID=America/New_York:20280525T093000
DTSTAMP:20260425T103517
CREATED:20250305T035020Z
LAST-MODIFIED:20250305T035025Z
UID:10016568-1842856200-1842859800@stnicholasoftolentinebronx.org
SUMMARY:8:30 am Spanish Mass
DESCRIPTION:
URL:https://stnicholasoftolentinebronx.org/event/830-am-spanish-mass-3/2028-05-25/
LOCATION:St Nicholas of Tolentine Church\, 2345 University Avenue\, Bronx\, NY\, 10468\, United States
END:VEVENT
BEGIN:VEVENT
DTSTART;TZID=America/New_York:20280525T120000
DTEND;TZID=America/New_York:20280525T123000
DTSTAMP:20260425T103517
CREATED:20250305T040540Z
LAST-MODIFIED:20250305T040545Z
UID:10017872-1842868800-1842870600@stnicholasoftolentinebronx.org
SUMMARY:12:00 Noon English mass
DESCRIPTION:
URL:https://stnicholasoftolentinebronx.org/event/1200-noon-english-mass/2028-05-25/
LOCATION:St Nicholas of Tolentine Church\, 2345 University Avenue\, Bronx\, NY\, 10468\, United States
END:VEVENT
BEGIN:VEVENT
DTSTART;TZID=America/New_York:20280525T190000
DTEND;TZID=America/New_York:20280525T210000
DTSTAMP:20260425T103517
CREATED:20250305T041048Z
LAST-MODIFIED:20250306T225714Z
UID:10018505-1842894000-1842901200@stnicholasoftolentinebronx.org
SUMMARY:7:00 pm Círculo
DESCRIPTION:
URL:https://stnicholasoftolentinebronx.org/event/700-circulo/2028-05-25/
LOCATION:NY
END:VEVENT
END:VCALENDAR