BEGIN:VCALENDAR
VERSION:2.0
PRODID:-//St. Nicholas of Tolentine Church - ECPv6.15.20//NONSGML v1.0//EN
CALSCALE:GREGORIAN
METHOD:PUBLISH
X-WR-CALNAME:St. Nicholas of Tolentine Church
X-ORIGINAL-URL:https://stnicholasoftolentinebronx.org
X-WR-CALDESC:Events for St. Nicholas of Tolentine Church
REFRESH-INTERVAL;VALUE=DURATION:PT1H
X-Robots-Tag:noindex
X-PUBLISHED-TTL:PT1H
BEGIN:VTIMEZONE
TZID:America/New_York
BEGIN:DAYLIGHT
TZOFFSETFROM:-0500
TZOFFSETTO:-0400
TZNAME:EDT
DTSTART:20250309T070000
END:DAYLIGHT
BEGIN:STANDARD
TZOFFSETFROM:-0400
TZOFFSETTO:-0500
TZNAME:EST
DTSTART:20251102T060000
END:STANDARD
BEGIN:DAYLIGHT
TZOFFSETFROM:-0500
TZOFFSETTO:-0400
TZNAME:EDT
DTSTART:20260308T070000
END:DAYLIGHT
BEGIN:STANDARD
TZOFFSETFROM:-0400
TZOFFSETTO:-0500
TZNAME:EST
DTSTART:20261101T060000
END:STANDARD
BEGIN:DAYLIGHT
TZOFFSETFROM:-0500
TZOFFSETTO:-0400
TZNAME:EDT
DTSTART:20270314T070000
END:DAYLIGHT
BEGIN:STANDARD
TZOFFSETFROM:-0400
TZOFFSETTO:-0500
TZNAME:EST
DTSTART:20271107T060000
END:STANDARD
END:VTIMEZONE
BEGIN:VEVENT
DTSTART;TZID=America/New_York:20260301T113000
DTEND;TZID=America/New_York:20260301T123000
DTSTAMP:20260423T165733
CREATED:20250313T024110Z
LAST-MODIFIED:20250313T024112Z
UID:10019974-1772364600-1772368200@stnicholasoftolentinebronx.org
SUMMARY:11:30 am English Mass
DESCRIPTION:
URL:https://stnicholasoftolentinebronx.org/event/1130-am-english-mass/2026-03-01/
LOCATION:St Nicholas of Tolentine Church\, 2345 University Avenue\, Bronx\, NY\, 10468\, United States
END:VEVENT
BEGIN:VEVENT
DTSTART;TZID=America/New_York:20260301T133000
DTEND;TZID=America/New_York:20260301T143000
DTSTAMP:20260423T165733
CREATED:20250313T024158Z
LAST-MODIFIED:20250313T024339Z
UID:10020235-1772371800-1772375400@stnicholasoftolentinebronx.org
SUMMARY:1:30 pm Vietnamese Mass
DESCRIPTION:
URL:https://stnicholasoftolentinebronx.org/event/130-pm-vietnamese-mass/2026-03-01/
LOCATION:St Nicholas of Tolentine Church\, 2345 University Avenue\, Bronx\, NY\, 10468\, United States
END:VEVENT
BEGIN:VEVENT
DTSTART;TZID=America/New_York:20260302T083000
DTEND;TZID=America/New_York:20260302T093000
DTSTAMP:20260423T165733
CREATED:20250305T035020Z
LAST-MODIFIED:20250305T035025Z
UID:10015985-1772440200-1772443800@stnicholasoftolentinebronx.org
SUMMARY:8:30 am Spanish Mass
DESCRIPTION:
URL:https://stnicholasoftolentinebronx.org/event/830-am-spanish-mass-3/2026-03-02/
LOCATION:St Nicholas of Tolentine Church\, 2345 University Avenue\, Bronx\, NY\, 10468\, United States
END:VEVENT
BEGIN:VEVENT
DTSTART;TZID=America/New_York:20260302T120000
DTEND;TZID=America/New_York:20260302T123000
DTSTAMP:20260423T165733
CREATED:20250305T040540Z
LAST-MODIFIED:20250305T040545Z
UID:10017289-1772452800-1772454600@stnicholasoftolentinebronx.org
SUMMARY:12:00 Noon English mass
DESCRIPTION:
URL:https://stnicholasoftolentinebronx.org/event/1200-noon-english-mass/2026-03-02/
LOCATION:St Nicholas of Tolentine Church\, 2345 University Avenue\, Bronx\, NY\, 10468\, United States
END:VEVENT
BEGIN:VEVENT
DTSTART;TZID=America/New_York:20260302T190000
DTEND;TZID=America/New_York:20260302T210000
DTSTAMP:20260423T165733
CREATED:20260216T175040Z
LAST-MODIFIED:20260216T175042Z
UID:10021394-1772478000-1772485200@stnicholasoftolentinebronx.org
SUMMARY:7:00 pm Ensayos para Viernes Santo
DESCRIPTION:
URL:https://stnicholasoftolentinebronx.org/event/700-pm-ensayos-para-viernes-santo/2026-03-02/
LOCATION:St Nicholas of Tolentine Church\, 2345 University Avenue\, Bronx\, NY\, 10468\, United States
END:VEVENT
BEGIN:VEVENT
DTSTART;TZID=America/New_York:20260303T083000
DTEND;TZID=America/New_York:20260303T093000
DTSTAMP:20260423T165733
CREATED:20250305T035020Z
LAST-MODIFIED:20250305T035025Z
UID:10015986-1772526600-1772530200@stnicholasoftolentinebronx.org
SUMMARY:8:30 am Spanish Mass
DESCRIPTION:
URL:https://stnicholasoftolentinebronx.org/event/830-am-spanish-mass-3/2026-03-03/
LOCATION:St Nicholas of Tolentine Church\, 2345 University Avenue\, Bronx\, NY\, 10468\, United States
END:VEVENT
BEGIN:VEVENT
DTSTART;TZID=America/New_York:20260303T120000
DTEND;TZID=America/New_York:20260303T123000
DTSTAMP:20260423T165733
CREATED:20250305T040540Z
LAST-MODIFIED:20250305T040545Z
UID:10017290-1772539200-1772541000@stnicholasoftolentinebronx.org
SUMMARY:12:00 Noon English mass
DESCRIPTION:
URL:https://stnicholasoftolentinebronx.org/event/1200-noon-english-mass/2026-03-03/
LOCATION:St Nicholas of Tolentine Church\, 2345 University Avenue\, Bronx\, NY\, 10468\, United States
END:VEVENT
BEGIN:VEVENT
DTSTART;TZID=America/New_York:20260304T083000
DTEND;TZID=America/New_York:20260304T093000
DTSTAMP:20260423T165733
CREATED:20250305T035020Z
LAST-MODIFIED:20250305T035025Z
UID:10015987-1772613000-1772616600@stnicholasoftolentinebronx.org
SUMMARY:8:30 am Spanish Mass
DESCRIPTION:
URL:https://stnicholasoftolentinebronx.org/event/830-am-spanish-mass-3/2026-03-04/
LOCATION:St Nicholas of Tolentine Church\, 2345 University Avenue\, Bronx\, NY\, 10468\, United States
END:VEVENT
BEGIN:VEVENT
DTSTART;TZID=America/New_York:20260304T120000
DTEND;TZID=America/New_York:20260304T123000
DTSTAMP:20260423T165733
CREATED:20250305T040540Z
LAST-MODIFIED:20250305T040545Z
UID:10017291-1772625600-1772627400@stnicholasoftolentinebronx.org
SUMMARY:12:00 Noon English mass
DESCRIPTION:
URL:https://stnicholasoftolentinebronx.org/event/1200-noon-english-mass/2026-03-04/
LOCATION:St Nicholas of Tolentine Church\, 2345 University Avenue\, Bronx\, NY\, 10468\, United States
END:VEVENT
BEGIN:VEVENT
DTSTART;TZID=America/New_York:20260304T193000
DTEND;TZID=America/New_York:20260304T210000
DTSTAMP:20260423T165733
CREATED:20260216T175724Z
LAST-MODIFIED:20260216T175725Z
UID:10021401-1772652600-1772658000@stnicholasoftolentinebronx.org
SUMMARY:7:30 pm Reflexión Cuaresmal
DESCRIPTION:
URL:https://stnicholasoftolentinebronx.org/event/730-pm-reflexion-cuaresmal/2026-03-04/
LOCATION:St Nicholas of Tolentine Church\, 2345 University Avenue\, Bronx\, NY\, 10468\, United States
END:VEVENT
BEGIN:VEVENT
DTSTART;TZID=America/New_York:20260305T083000
DTEND;TZID=America/New_York:20260305T093000
DTSTAMP:20260423T165733
CREATED:20250305T035020Z
LAST-MODIFIED:20250305T035025Z
UID:10015988-1772699400-1772703000@stnicholasoftolentinebronx.org
SUMMARY:8:30 am Spanish Mass
DESCRIPTION:
URL:https://stnicholasoftolentinebronx.org/event/830-am-spanish-mass-3/2026-03-05/
LOCATION:St Nicholas of Tolentine Church\, 2345 University Avenue\, Bronx\, NY\, 10468\, United States
END:VEVENT
BEGIN:VEVENT
DTSTART;TZID=America/New_York:20260305T120000
DTEND;TZID=America/New_York:20260305T123000
DTSTAMP:20260423T165733
CREATED:20250305T040540Z
LAST-MODIFIED:20250305T040545Z
UID:10017292-1772712000-1772713800@stnicholasoftolentinebronx.org
SUMMARY:12:00 Noon English mass
DESCRIPTION:
URL:https://stnicholasoftolentinebronx.org/event/1200-noon-english-mass/2026-03-05/
LOCATION:St Nicholas of Tolentine Church\, 2345 University Avenue\, Bronx\, NY\, 10468\, United States
END:VEVENT
BEGIN:VEVENT
DTSTART;TZID=America/New_York:20260305T190000
DTEND;TZID=America/New_York:20260305T210000
DTSTAMP:20260423T165733
CREATED:20250305T041048Z
LAST-MODIFIED:20250306T225714Z
UID:10018389-1772737200-1772744400@stnicholasoftolentinebronx.org
SUMMARY:7:00 pm Círculo
DESCRIPTION:
URL:https://stnicholasoftolentinebronx.org/event/700-circulo/2026-03-05/
LOCATION:NY
END:VEVENT
END:VCALENDAR