BEGIN:VCALENDAR
VERSION:2.0
PRODID:-//St. Nicholas of Tolentine Church - ECPv6.15.20//NONSGML v1.0//EN
CALSCALE:GREGORIAN
METHOD:PUBLISH
X-ORIGINAL-URL:https://stnicholasoftolentinebronx.org
X-WR-CALDESC:Events for St. Nicholas of Tolentine Church
REFRESH-INTERVAL;VALUE=DURATION:PT1H
X-Robots-Tag:noindex
X-PUBLISHED-TTL:PT1H
BEGIN:VTIMEZONE
TZID:America/New_York
BEGIN:DAYLIGHT
TZOFFSETFROM:-0500
TZOFFSETTO:-0400
TZNAME:EDT
DTSTART:20250309T070000
END:DAYLIGHT
BEGIN:STANDARD
TZOFFSETFROM:-0400
TZOFFSETTO:-0500
TZNAME:EST
DTSTART:20251102T060000
END:STANDARD
BEGIN:DAYLIGHT
TZOFFSETFROM:-0500
TZOFFSETTO:-0400
TZNAME:EDT
DTSTART:20260308T070000
END:DAYLIGHT
BEGIN:STANDARD
TZOFFSETFROM:-0400
TZOFFSETTO:-0500
TZNAME:EST
DTSTART:20261101T060000
END:STANDARD
BEGIN:DAYLIGHT
TZOFFSETFROM:-0500
TZOFFSETTO:-0400
TZNAME:EDT
DTSTART:20270314T070000
END:DAYLIGHT
BEGIN:STANDARD
TZOFFSETFROM:-0400
TZOFFSETTO:-0500
TZNAME:EST
DTSTART:20271107T060000
END:STANDARD
END:VTIMEZONE
BEGIN:VEVENT
DTSTART;TZID=America/New_York:20261101T093000
DTEND;TZID=America/New_York:20261101T110000
DTSTAMP:20260423T162058
CREATED:20250313T024022Z
LAST-MODIFIED:20250313T024024Z
UID:10019748-1793525400-1793530800@stnicholasoftolentinebronx.org
SUMMARY:9:30 am Spanish Mass
DESCRIPTION:
URL:https://stnicholasoftolentinebronx.org/event/930-am-spanish-mass/2026-11-01/
LOCATION:St Nicholas of Tolentine Church\, 2345 University Avenue\, Bronx\, NY\, 10468\, United States
END:VEVENT
BEGIN:VEVENT
DTSTART;TZID=America/New_York:20261101T113000
DTEND;TZID=America/New_York:20261101T123000
DTSTAMP:20260423T162058
CREATED:20250313T024110Z
LAST-MODIFIED:20250313T024112Z
UID:10020009-1793532600-1793536200@stnicholasoftolentinebronx.org
SUMMARY:11:30 am English Mass
DESCRIPTION:
URL:https://stnicholasoftolentinebronx.org/event/1130-am-english-mass/2026-11-01/
LOCATION:St Nicholas of Tolentine Church\, 2345 University Avenue\, Bronx\, NY\, 10468\, United States
END:VEVENT
BEGIN:VEVENT
DTSTART;TZID=America/New_York:20261101T133000
DTEND;TZID=America/New_York:20261101T143000
DTSTAMP:20260423T162058
CREATED:20250313T024158Z
LAST-MODIFIED:20250313T024339Z
UID:10020270-1793539800-1793543400@stnicholasoftolentinebronx.org
SUMMARY:1:30 pm Vietnamese Mass
DESCRIPTION:
URL:https://stnicholasoftolentinebronx.org/event/130-pm-vietnamese-mass/2026-11-01/
LOCATION:St Nicholas of Tolentine Church\, 2345 University Avenue\, Bronx\, NY\, 10468\, United States
END:VEVENT
BEGIN:VEVENT
DTSTART;TZID=America/New_York:20261102T083000
DTEND;TZID=America/New_York:20261102T093000
DTSTAMP:20260423T162058
CREATED:20250305T035020Z
LAST-MODIFIED:20250305T035025Z
UID:10016160-1793608200-1793611800@stnicholasoftolentinebronx.org
SUMMARY:8:30 am Spanish Mass
DESCRIPTION:
URL:https://stnicholasoftolentinebronx.org/event/830-am-spanish-mass-3/2026-11-02/
LOCATION:St Nicholas of Tolentine Church\, 2345 University Avenue\, Bronx\, NY\, 10468\, United States
END:VEVENT
BEGIN:VEVENT
DTSTART;TZID=America/New_York:20261102T120000
DTEND;TZID=America/New_York:20261102T123000
DTSTAMP:20260423T162058
CREATED:20250305T040540Z
LAST-MODIFIED:20250305T040545Z
UID:10017464-1793620800-1793622600@stnicholasoftolentinebronx.org
SUMMARY:12:00 Noon English mass
DESCRIPTION:
URL:https://stnicholasoftolentinebronx.org/event/1200-noon-english-mass/2026-11-02/
LOCATION:St Nicholas of Tolentine Church\, 2345 University Avenue\, Bronx\, NY\, 10468\, United States
END:VEVENT
BEGIN:VEVENT
DTSTART;TZID=America/New_York:20261103T083000
DTEND;TZID=America/New_York:20261103T093000
DTSTAMP:20260423T162058
CREATED:20250305T035020Z
LAST-MODIFIED:20250305T035025Z
UID:10016161-1793694600-1793698200@stnicholasoftolentinebronx.org
SUMMARY:8:30 am Spanish Mass
DESCRIPTION:
URL:https://stnicholasoftolentinebronx.org/event/830-am-spanish-mass-3/2026-11-03/
LOCATION:St Nicholas of Tolentine Church\, 2345 University Avenue\, Bronx\, NY\, 10468\, United States
END:VEVENT
BEGIN:VEVENT
DTSTART;TZID=America/New_York:20261103T120000
DTEND;TZID=America/New_York:20261103T123000
DTSTAMP:20260423T162058
CREATED:20250305T040540Z
LAST-MODIFIED:20250305T040545Z
UID:10017465-1793707200-1793709000@stnicholasoftolentinebronx.org
SUMMARY:12:00 Noon English mass
DESCRIPTION:
URL:https://stnicholasoftolentinebronx.org/event/1200-noon-english-mass/2026-11-03/
LOCATION:St Nicholas of Tolentine Church\, 2345 University Avenue\, Bronx\, NY\, 10468\, United States
END:VEVENT
BEGIN:VEVENT
DTSTART;TZID=America/New_York:20261104T083000
DTEND;TZID=America/New_York:20261104T093000
DTSTAMP:20260423T162058
CREATED:20250305T035020Z
LAST-MODIFIED:20250305T035025Z
UID:10016162-1793781000-1793784600@stnicholasoftolentinebronx.org
SUMMARY:8:30 am Spanish Mass
DESCRIPTION:
URL:https://stnicholasoftolentinebronx.org/event/830-am-spanish-mass-3/2026-11-04/
LOCATION:St Nicholas of Tolentine Church\, 2345 University Avenue\, Bronx\, NY\, 10468\, United States
END:VEVENT
BEGIN:VEVENT
DTSTART;TZID=America/New_York:20261104T120000
DTEND;TZID=America/New_York:20261104T123000
DTSTAMP:20260423T162058
CREATED:20250305T040540Z
LAST-MODIFIED:20250305T040545Z
UID:10017466-1793793600-1793795400@stnicholasoftolentinebronx.org
SUMMARY:12:00 Noon English mass
DESCRIPTION:
URL:https://stnicholasoftolentinebronx.org/event/1200-noon-english-mass/2026-11-04/
LOCATION:St Nicholas of Tolentine Church\, 2345 University Avenue\, Bronx\, NY\, 10468\, United States
END:VEVENT
BEGIN:VEVENT
DTSTART;TZID=America/New_York:20261105T083000
DTEND;TZID=America/New_York:20261105T093000
DTSTAMP:20260423T162058
CREATED:20250305T035020Z
LAST-MODIFIED:20250305T035025Z
UID:10016163-1793867400-1793871000@stnicholasoftolentinebronx.org
SUMMARY:8:30 am Spanish Mass
DESCRIPTION:
URL:https://stnicholasoftolentinebronx.org/event/830-am-spanish-mass-3/2026-11-05/
LOCATION:St Nicholas of Tolentine Church\, 2345 University Avenue\, Bronx\, NY\, 10468\, United States
END:VEVENT
BEGIN:VEVENT
DTSTART;TZID=America/New_York:20261105T120000
DTEND;TZID=America/New_York:20261105T123000
DTSTAMP:20260423T162058
CREATED:20250305T040540Z
LAST-MODIFIED:20250305T040545Z
UID:10017467-1793880000-1793881800@stnicholasoftolentinebronx.org
SUMMARY:12:00 Noon English mass
DESCRIPTION:
URL:https://stnicholasoftolentinebronx.org/event/1200-noon-english-mass/2026-11-05/
LOCATION:St Nicholas of Tolentine Church\, 2345 University Avenue\, Bronx\, NY\, 10468\, United States
END:VEVENT
BEGIN:VEVENT
DTSTART;TZID=America/New_York:20261105T190000
DTEND;TZID=America/New_York:20261105T210000
DTSTAMP:20260423T162058
CREATED:20250305T041048Z
LAST-MODIFIED:20250306T225714Z
UID:10018424-1793905200-1793912400@stnicholasoftolentinebronx.org
SUMMARY:7:00 pm Círculo
DESCRIPTION:
URL:https://stnicholasoftolentinebronx.org/event/700-circulo/2026-11-05/
LOCATION:NY
END:VEVENT
BEGIN:VEVENT
DTSTART;TZID=America/New_York:20261106T083000
DTEND;TZID=America/New_York:20261106T093000
DTSTAMP:20260423T162058
CREATED:20250305T035020Z
LAST-MODIFIED:20250305T035025Z
UID:10016164-1793953800-1793957400@stnicholasoftolentinebronx.org
SUMMARY:8:30 am Spanish Mass
DESCRIPTION:
URL:https://stnicholasoftolentinebronx.org/event/830-am-spanish-mass-3/2026-11-06/
LOCATION:St Nicholas of Tolentine Church\, 2345 University Avenue\, Bronx\, NY\, 10468\, United States
END:VEVENT
BEGIN:VEVENT
DTSTART;TZID=America/New_York:20261106T120000
DTEND;TZID=America/New_York:20261106T123000
DTSTAMP:20260423T162058
CREATED:20250305T040540Z
LAST-MODIFIED:20250305T040545Z
UID:10017468-1793966400-1793968200@stnicholasoftolentinebronx.org
SUMMARY:12:00 Noon English mass
DESCRIPTION:
URL:https://stnicholasoftolentinebronx.org/event/1200-noon-english-mass/2026-11-06/
LOCATION:St Nicholas of Tolentine Church\, 2345 University Avenue\, Bronx\, NY\, 10468\, United States
END:VEVENT
BEGIN:VEVENT
DTSTART;TZID=America/New_York:20261107T074500
DTEND;TZID=America/New_York:20261107T083000
DTSTAMP:20260423T162058
CREATED:20250313T023643Z
LAST-MODIFIED:20250313T023646Z
UID:10018705-1794037500-1794040200@stnicholasoftolentinebronx.org
SUMMARY:7:45 am Vietnamese Mass
DESCRIPTION:
URL:https://stnicholasoftolentinebronx.org/event/745-am-vietnamese-mass/2026-11-07/
LOCATION:St Nicholas of Tolentine Church\, 2345 University Avenue\, Bronx\, NY\, 10468\, United States
END:VEVENT
BEGIN:VEVENT
DTSTART;TZID=America/New_York:20261107T173000
DTEND;TZID=America/New_York:20261107T183000
DTSTAMP:20260423T162058
CREATED:20250313T023751Z
LAST-MODIFIED:20250313T023752Z
UID:10018966-1794072600-1794076200@stnicholasoftolentinebronx.org
SUMMARY:5:30 pm Confessions
DESCRIPTION:
URL:https://stnicholasoftolentinebronx.org/event/530-pm-confessions/2026-11-07/
LOCATION:St Nicholas of Tolentine Church\, 2345 University Avenue\, Bronx\, NY\, 10468\, United States
END:VEVENT
BEGIN:VEVENT
DTSTART;TZID=America/New_York:20261107T190000
DTEND;TZID=America/New_York:20261107T200000
DTSTAMP:20260423T162058
CREATED:20250313T023841Z
LAST-MODIFIED:20250313T023842Z
UID:10019227-1794078000-1794081600@stnicholasoftolentinebronx.org
SUMMARY:7:00 pm Spanish Mass
DESCRIPTION:
URL:https://stnicholasoftolentinebronx.org/event/700-pm-spanish-mass/2026-11-07/
LOCATION:St Nicholas of Tolentine Church\, 2345 University Avenue\, Bronx\, NY\, 10468\, United States
END:VEVENT
BEGIN:VEVENT
DTSTART;TZID=America/New_York:20261108T080000
DTEND;TZID=America/New_York:20261108T090000
DTSTAMP:20260423T162058
CREATED:20250313T023930Z
LAST-MODIFIED:20250418T035212Z
UID:10019488-1794124800-1794128400@stnicholasoftolentinebronx.org
SUMMARY:8:00 am English Mass
DESCRIPTION:
URL:https://stnicholasoftolentinebronx.org/event/800-am-english-mass/2026-11-08/
LOCATION:St Nicholas of Tolentine Church\, 2345 University Avenue\, Bronx\, NY\, 10468\, United States
END:VEVENT
BEGIN:VEVENT
DTSTART;TZID=America/New_York:20261108T093000
DTEND;TZID=America/New_York:20261108T110000
DTSTAMP:20260423T162058
CREATED:20250313T024022Z
LAST-MODIFIED:20250313T024024Z
UID:10019749-1794130200-1794135600@stnicholasoftolentinebronx.org
SUMMARY:9:30 am Spanish Mass
DESCRIPTION:
URL:https://stnicholasoftolentinebronx.org/event/930-am-spanish-mass/2026-11-08/
LOCATION:St Nicholas of Tolentine Church\, 2345 University Avenue\, Bronx\, NY\, 10468\, United States
END:VEVENT
BEGIN:VEVENT
DTSTART;TZID=America/New_York:20261108T113000
DTEND;TZID=America/New_York:20261108T123000
DTSTAMP:20260423T162058
CREATED:20250313T024110Z
LAST-MODIFIED:20250313T024112Z
UID:10020010-1794137400-1794141000@stnicholasoftolentinebronx.org
SUMMARY:11:30 am English Mass
DESCRIPTION:
URL:https://stnicholasoftolentinebronx.org/event/1130-am-english-mass/2026-11-08/
LOCATION:St Nicholas of Tolentine Church\, 2345 University Avenue\, Bronx\, NY\, 10468\, United States
END:VEVENT
BEGIN:VEVENT
DTSTART;TZID=America/New_York:20261108T133000
DTEND;TZID=America/New_York:20261108T143000
DTSTAMP:20260423T162058
CREATED:20250313T024158Z
LAST-MODIFIED:20250313T024339Z
UID:10020271-1794144600-1794148200@stnicholasoftolentinebronx.org
SUMMARY:1:30 pm Vietnamese Mass
DESCRIPTION:
URL:https://stnicholasoftolentinebronx.org/event/130-pm-vietnamese-mass/2026-11-08/
LOCATION:St Nicholas of Tolentine Church\, 2345 University Avenue\, Bronx\, NY\, 10468\, United States
END:VEVENT
BEGIN:VEVENT
DTSTART;TZID=America/New_York:20261109T083000
DTEND;TZID=America/New_York:20261109T093000
DTSTAMP:20260423T162058
CREATED:20250305T035020Z
LAST-MODIFIED:20250305T035025Z
UID:10016165-1794213000-1794216600@stnicholasoftolentinebronx.org
SUMMARY:8:30 am Spanish Mass
DESCRIPTION:
URL:https://stnicholasoftolentinebronx.org/event/830-am-spanish-mass-3/2026-11-09/
LOCATION:St Nicholas of Tolentine Church\, 2345 University Avenue\, Bronx\, NY\, 10468\, United States
END:VEVENT
BEGIN:VEVENT
DTSTART;TZID=America/New_York:20261109T120000
DTEND;TZID=America/New_York:20261109T123000
DTSTAMP:20260423T162058
CREATED:20250305T040540Z
LAST-MODIFIED:20250305T040545Z
UID:10017469-1794225600-1794227400@stnicholasoftolentinebronx.org
SUMMARY:12:00 Noon English mass
DESCRIPTION:
URL:https://stnicholasoftolentinebronx.org/event/1200-noon-english-mass/2026-11-09/
LOCATION:St Nicholas of Tolentine Church\, 2345 University Avenue\, Bronx\, NY\, 10468\, United States
END:VEVENT
BEGIN:VEVENT
DTSTART;TZID=America/New_York:20261110T083000
DTEND;TZID=America/New_York:20261110T093000
DTSTAMP:20260423T162058
CREATED:20250305T035020Z
LAST-MODIFIED:20250305T035025Z
UID:10016166-1794299400-1794303000@stnicholasoftolentinebronx.org
SUMMARY:8:30 am Spanish Mass
DESCRIPTION:
URL:https://stnicholasoftolentinebronx.org/event/830-am-spanish-mass-3/2026-11-10/
LOCATION:St Nicholas of Tolentine Church\, 2345 University Avenue\, Bronx\, NY\, 10468\, United States
END:VEVENT
BEGIN:VEVENT
DTSTART;TZID=America/New_York:20261110T120000
DTEND;TZID=America/New_York:20261110T123000
DTSTAMP:20260423T162058
CREATED:20250305T040540Z
LAST-MODIFIED:20250305T040545Z
UID:10017470-1794312000-1794313800@stnicholasoftolentinebronx.org
SUMMARY:12:00 Noon English mass
DESCRIPTION:
URL:https://stnicholasoftolentinebronx.org/event/1200-noon-english-mass/2026-11-10/
LOCATION:St Nicholas of Tolentine Church\, 2345 University Avenue\, Bronx\, NY\, 10468\, United States
END:VEVENT
BEGIN:VEVENT
DTSTART;TZID=America/New_York:20261111T083000
DTEND;TZID=America/New_York:20261111T093000
DTSTAMP:20260423T162058
CREATED:20250305T035020Z
LAST-MODIFIED:20250305T035025Z
UID:10016167-1794385800-1794389400@stnicholasoftolentinebronx.org
SUMMARY:8:30 am Spanish Mass
DESCRIPTION:
URL:https://stnicholasoftolentinebronx.org/event/830-am-spanish-mass-3/2026-11-11/
LOCATION:St Nicholas of Tolentine Church\, 2345 University Avenue\, Bronx\, NY\, 10468\, United States
END:VEVENT
BEGIN:VEVENT
DTSTART;TZID=America/New_York:20261111T120000
DTEND;TZID=America/New_York:20261111T123000
DTSTAMP:20260423T162058
CREATED:20250305T040540Z
LAST-MODIFIED:20250305T040545Z
UID:10017471-1794398400-1794400200@stnicholasoftolentinebronx.org
SUMMARY:12:00 Noon English mass
DESCRIPTION:
URL:https://stnicholasoftolentinebronx.org/event/1200-noon-english-mass/2026-11-11/
LOCATION:St Nicholas of Tolentine Church\, 2345 University Avenue\, Bronx\, NY\, 10468\, United States
END:VEVENT
BEGIN:VEVENT
DTSTART;TZID=America/New_York:20261112T083000
DTEND;TZID=America/New_York:20261112T093000
DTSTAMP:20260423T162058
CREATED:20250305T035020Z
LAST-MODIFIED:20250305T035025Z
UID:10016168-1794472200-1794475800@stnicholasoftolentinebronx.org
SUMMARY:8:30 am Spanish Mass
DESCRIPTION:
URL:https://stnicholasoftolentinebronx.org/event/830-am-spanish-mass-3/2026-11-12/
LOCATION:St Nicholas of Tolentine Church\, 2345 University Avenue\, Bronx\, NY\, 10468\, United States
END:VEVENT
BEGIN:VEVENT
DTSTART;TZID=America/New_York:20261112T120000
DTEND;TZID=America/New_York:20261112T123000
DTSTAMP:20260423T162058
CREATED:20250305T040540Z
LAST-MODIFIED:20250305T040545Z
UID:10017472-1794484800-1794486600@stnicholasoftolentinebronx.org
SUMMARY:12:00 Noon English mass
DESCRIPTION:
URL:https://stnicholasoftolentinebronx.org/event/1200-noon-english-mass/2026-11-12/
LOCATION:St Nicholas of Tolentine Church\, 2345 University Avenue\, Bronx\, NY\, 10468\, United States
END:VEVENT
BEGIN:VEVENT
DTSTART;TZID=America/New_York:20261112T190000
DTEND;TZID=America/New_York:20261112T210000
DTSTAMP:20260423T162058
CREATED:20250305T041048Z
LAST-MODIFIED:20250306T225714Z
UID:10018425-1794510000-1794517200@stnicholasoftolentinebronx.org
SUMMARY:7:00 pm Círculo
DESCRIPTION:
URL:https://stnicholasoftolentinebronx.org/event/700-circulo/2026-11-12/
LOCATION:NY
END:VEVENT
END:VCALENDAR