BEGIN:VCALENDAR
VERSION:2.0
PRODID:-//St. Nicholas of Tolentine Church - ECPv6.15.20//NONSGML v1.0//EN
CALSCALE:GREGORIAN
METHOD:PUBLISH
X-WR-CALNAME:St. Nicholas of Tolentine Church
X-ORIGINAL-URL:https://stnicholasoftolentinebronx.org
X-WR-CALDESC:Events for St. Nicholas of Tolentine Church
REFRESH-INTERVAL;VALUE=DURATION:PT1H
X-Robots-Tag:noindex
X-PUBLISHED-TTL:PT1H
BEGIN:VTIMEZONE
TZID:America/New_York
BEGIN:DAYLIGHT
TZOFFSETFROM:-0500
TZOFFSETTO:-0400
TZNAME:EDT
DTSTART:20260308T070000
END:DAYLIGHT
BEGIN:STANDARD
TZOFFSETFROM:-0400
TZOFFSETTO:-0500
TZNAME:EST
DTSTART:20261101T060000
END:STANDARD
BEGIN:DAYLIGHT
TZOFFSETFROM:-0500
TZOFFSETTO:-0400
TZNAME:EDT
DTSTART:20270314T070000
END:DAYLIGHT
BEGIN:STANDARD
TZOFFSETFROM:-0400
TZOFFSETTO:-0500
TZNAME:EST
DTSTART:20271107T060000
END:STANDARD
BEGIN:DAYLIGHT
TZOFFSETFROM:-0500
TZOFFSETTO:-0400
TZNAME:EDT
DTSTART:20280312T070000
END:DAYLIGHT
BEGIN:STANDARD
TZOFFSETFROM:-0400
TZOFFSETTO:-0500
TZNAME:EST
DTSTART:20281105T060000
END:STANDARD
END:VTIMEZONE
BEGIN:VEVENT
DTSTART;TZID=America/New_York:20271001T083000
DTEND;TZID=America/New_York:20271001T093000
DTSTAMP:20260425T104956
CREATED:20250305T035020Z
LAST-MODIFIED:20250305T035025Z
UID:10016399-1822379400-1822383000@stnicholasoftolentinebronx.org
SUMMARY:8:30 am Spanish Mass
DESCRIPTION:
URL:https://stnicholasoftolentinebronx.org/event/830-am-spanish-mass-3/2027-10-01/
LOCATION:St Nicholas of Tolentine Church\, 2345 University Avenue\, Bronx\, NY\, 10468\, United States
END:VEVENT
BEGIN:VEVENT
DTSTART;TZID=America/New_York:20271001T120000
DTEND;TZID=America/New_York:20271001T123000
DTSTAMP:20260425T104956
CREATED:20250305T040540Z
LAST-MODIFIED:20250305T040545Z
UID:10017703-1822392000-1822393800@stnicholasoftolentinebronx.org
SUMMARY:12:00 Noon English mass
DESCRIPTION:
URL:https://stnicholasoftolentinebronx.org/event/1200-noon-english-mass/2027-10-01/
LOCATION:St Nicholas of Tolentine Church\, 2345 University Avenue\, Bronx\, NY\, 10468\, United States
END:VEVENT
BEGIN:VEVENT
DTSTART;TZID=America/New_York:20271002T074500
DTEND;TZID=America/New_York:20271002T083000
DTSTAMP:20260425T104956
CREATED:20250313T023643Z
LAST-MODIFIED:20250313T023646Z
UID:10018752-1822463100-1822465800@stnicholasoftolentinebronx.org
SUMMARY:7:45 am Vietnamese Mass
DESCRIPTION:
URL:https://stnicholasoftolentinebronx.org/event/745-am-vietnamese-mass/2027-10-02/
LOCATION:St Nicholas of Tolentine Church\, 2345 University Avenue\, Bronx\, NY\, 10468\, United States
END:VEVENT
BEGIN:VEVENT
DTSTART;TZID=America/New_York:20271002T173000
DTEND;TZID=America/New_York:20271002T183000
DTSTAMP:20260425T104956
CREATED:20250313T023751Z
LAST-MODIFIED:20250313T023752Z
UID:10019013-1822498200-1822501800@stnicholasoftolentinebronx.org
SUMMARY:5:30 pm Confessions
DESCRIPTION:
URL:https://stnicholasoftolentinebronx.org/event/530-pm-confessions/2027-10-02/
LOCATION:St Nicholas of Tolentine Church\, 2345 University Avenue\, Bronx\, NY\, 10468\, United States
END:VEVENT
BEGIN:VEVENT
DTSTART;TZID=America/New_York:20271002T190000
DTEND;TZID=America/New_York:20271002T200000
DTSTAMP:20260425T104956
CREATED:20250313T023841Z
LAST-MODIFIED:20250313T023842Z
UID:10019274-1822503600-1822507200@stnicholasoftolentinebronx.org
SUMMARY:7:00 pm Spanish Mass
DESCRIPTION:
URL:https://stnicholasoftolentinebronx.org/event/700-pm-spanish-mass/2027-10-02/
LOCATION:St Nicholas of Tolentine Church\, 2345 University Avenue\, Bronx\, NY\, 10468\, United States
END:VEVENT
BEGIN:VEVENT
DTSTART;TZID=America/New_York:20271003T080000
DTEND;TZID=America/New_York:20271003T090000
DTSTAMP:20260425T104956
CREATED:20250313T023930Z
LAST-MODIFIED:20250418T035212Z
UID:10019535-1822550400-1822554000@stnicholasoftolentinebronx.org
SUMMARY:8:00 am English Mass
DESCRIPTION:
URL:https://stnicholasoftolentinebronx.org/event/800-am-english-mass/2027-10-03/
LOCATION:St Nicholas of Tolentine Church\, 2345 University Avenue\, Bronx\, NY\, 10468\, United States
END:VEVENT
BEGIN:VEVENT
DTSTART;TZID=America/New_York:20271003T093000
DTEND;TZID=America/New_York:20271003T110000
DTSTAMP:20260425T104956
CREATED:20250313T024022Z
LAST-MODIFIED:20250313T024024Z
UID:10019796-1822555800-1822561200@stnicholasoftolentinebronx.org
SUMMARY:9:30 am Spanish Mass
DESCRIPTION:
URL:https://stnicholasoftolentinebronx.org/event/930-am-spanish-mass/2027-10-03/
LOCATION:St Nicholas of Tolentine Church\, 2345 University Avenue\, Bronx\, NY\, 10468\, United States
END:VEVENT
BEGIN:VEVENT
DTSTART;TZID=America/New_York:20271003T113000
DTEND;TZID=America/New_York:20271003T123000
DTSTAMP:20260425T104956
CREATED:20250313T024110Z
LAST-MODIFIED:20250313T024112Z
UID:10020057-1822563000-1822566600@stnicholasoftolentinebronx.org
SUMMARY:11:30 am English Mass
DESCRIPTION:
URL:https://stnicholasoftolentinebronx.org/event/1130-am-english-mass/2027-10-03/
LOCATION:St Nicholas of Tolentine Church\, 2345 University Avenue\, Bronx\, NY\, 10468\, United States
END:VEVENT
BEGIN:VEVENT
DTSTART;TZID=America/New_York:20271003T133000
DTEND;TZID=America/New_York:20271003T143000
DTSTAMP:20260425T104956
CREATED:20250313T024158Z
LAST-MODIFIED:20250313T024339Z
UID:10020318-1822570200-1822573800@stnicholasoftolentinebronx.org
SUMMARY:1:30 pm Vietnamese Mass
DESCRIPTION:
URL:https://stnicholasoftolentinebronx.org/event/130-pm-vietnamese-mass/2027-10-03/
LOCATION:St Nicholas of Tolentine Church\, 2345 University Avenue\, Bronx\, NY\, 10468\, United States
END:VEVENT
BEGIN:VEVENT
DTSTART;TZID=America/New_York:20271004T083000
DTEND;TZID=America/New_York:20271004T093000
DTSTAMP:20260425T104956
CREATED:20250305T035020Z
LAST-MODIFIED:20250305T035025Z
UID:10016400-1822638600-1822642200@stnicholasoftolentinebronx.org
SUMMARY:8:30 am Spanish Mass
DESCRIPTION:
URL:https://stnicholasoftolentinebronx.org/event/830-am-spanish-mass-3/2027-10-04/
LOCATION:St Nicholas of Tolentine Church\, 2345 University Avenue\, Bronx\, NY\, 10468\, United States
END:VEVENT
BEGIN:VEVENT
DTSTART;TZID=America/New_York:20271004T120000
DTEND;TZID=America/New_York:20271004T123000
DTSTAMP:20260425T104956
CREATED:20250305T040540Z
LAST-MODIFIED:20250305T040545Z
UID:10017704-1822651200-1822653000@stnicholasoftolentinebronx.org
SUMMARY:12:00 Noon English mass
DESCRIPTION:
URL:https://stnicholasoftolentinebronx.org/event/1200-noon-english-mass/2027-10-04/
LOCATION:St Nicholas of Tolentine Church\, 2345 University Avenue\, Bronx\, NY\, 10468\, United States
END:VEVENT
BEGIN:VEVENT
DTSTART;TZID=America/New_York:20271005T083000
DTEND;TZID=America/New_York:20271005T093000
DTSTAMP:20260425T104956
CREATED:20250305T035020Z
LAST-MODIFIED:20250305T035025Z
UID:10016401-1822725000-1822728600@stnicholasoftolentinebronx.org
SUMMARY:8:30 am Spanish Mass
DESCRIPTION:
URL:https://stnicholasoftolentinebronx.org/event/830-am-spanish-mass-3/2027-10-05/
LOCATION:St Nicholas of Tolentine Church\, 2345 University Avenue\, Bronx\, NY\, 10468\, United States
END:VEVENT
BEGIN:VEVENT
DTSTART;TZID=America/New_York:20271005T120000
DTEND;TZID=America/New_York:20271005T123000
DTSTAMP:20260425T104956
CREATED:20250305T040540Z
LAST-MODIFIED:20250305T040545Z
UID:10017705-1822737600-1822739400@stnicholasoftolentinebronx.org
SUMMARY:12:00 Noon English mass
DESCRIPTION:
URL:https://stnicholasoftolentinebronx.org/event/1200-noon-english-mass/2027-10-05/
LOCATION:St Nicholas of Tolentine Church\, 2345 University Avenue\, Bronx\, NY\, 10468\, United States
END:VEVENT
BEGIN:VEVENT
DTSTART;TZID=America/New_York:20271006T083000
DTEND;TZID=America/New_York:20271006T093000
DTSTAMP:20260425T104956
CREATED:20250305T035020Z
LAST-MODIFIED:20250305T035025Z
UID:10016402-1822811400-1822815000@stnicholasoftolentinebronx.org
SUMMARY:8:30 am Spanish Mass
DESCRIPTION:
URL:https://stnicholasoftolentinebronx.org/event/830-am-spanish-mass-3/2027-10-06/
LOCATION:St Nicholas of Tolentine Church\, 2345 University Avenue\, Bronx\, NY\, 10468\, United States
END:VEVENT
BEGIN:VEVENT
DTSTART;TZID=America/New_York:20271006T120000
DTEND;TZID=America/New_York:20271006T123000
DTSTAMP:20260425T104957
CREATED:20250305T040540Z
LAST-MODIFIED:20250305T040545Z
UID:10017706-1822824000-1822825800@stnicholasoftolentinebronx.org
SUMMARY:12:00 Noon English mass
DESCRIPTION:
URL:https://stnicholasoftolentinebronx.org/event/1200-noon-english-mass/2027-10-06/
LOCATION:St Nicholas of Tolentine Church\, 2345 University Avenue\, Bronx\, NY\, 10468\, United States
END:VEVENT
BEGIN:VEVENT
DTSTART;TZID=America/New_York:20271007T083000
DTEND;TZID=America/New_York:20271007T093000
DTSTAMP:20260425T104957
CREATED:20250305T035020Z
LAST-MODIFIED:20250305T035025Z
UID:10016403-1822897800-1822901400@stnicholasoftolentinebronx.org
SUMMARY:8:30 am Spanish Mass
DESCRIPTION:
URL:https://stnicholasoftolentinebronx.org/event/830-am-spanish-mass-3/2027-10-07/
LOCATION:St Nicholas of Tolentine Church\, 2345 University Avenue\, Bronx\, NY\, 10468\, United States
END:VEVENT
BEGIN:VEVENT
DTSTART;TZID=America/New_York:20271007T120000
DTEND;TZID=America/New_York:20271007T123000
DTSTAMP:20260425T104957
CREATED:20250305T040540Z
LAST-MODIFIED:20250305T040545Z
UID:10017707-1822910400-1822912200@stnicholasoftolentinebronx.org
SUMMARY:12:00 Noon English mass
DESCRIPTION:
URL:https://stnicholasoftolentinebronx.org/event/1200-noon-english-mass/2027-10-07/
LOCATION:St Nicholas of Tolentine Church\, 2345 University Avenue\, Bronx\, NY\, 10468\, United States
END:VEVENT
BEGIN:VEVENT
DTSTART;TZID=America/New_York:20271007T190000
DTEND;TZID=America/New_York:20271007T210000
DTSTAMP:20260425T104957
CREATED:20250305T041048Z
LAST-MODIFIED:20250306T225714Z
UID:10018472-1822935600-1822942800@stnicholasoftolentinebronx.org
SUMMARY:7:00 pm Círculo
DESCRIPTION:
URL:https://stnicholasoftolentinebronx.org/event/700-circulo/2027-10-07/
LOCATION:NY
END:VEVENT
BEGIN:VEVENT
DTSTART;TZID=America/New_York:20271008T083000
DTEND;TZID=America/New_York:20271008T093000
DTSTAMP:20260425T104957
CREATED:20250305T035020Z
LAST-MODIFIED:20250305T035025Z
UID:10016404-1822984200-1822987800@stnicholasoftolentinebronx.org
SUMMARY:8:30 am Spanish Mass
DESCRIPTION:
URL:https://stnicholasoftolentinebronx.org/event/830-am-spanish-mass-3/2027-10-08/
LOCATION:St Nicholas of Tolentine Church\, 2345 University Avenue\, Bronx\, NY\, 10468\, United States
END:VEVENT
BEGIN:VEVENT
DTSTART;TZID=America/New_York:20271008T120000
DTEND;TZID=America/New_York:20271008T123000
DTSTAMP:20260425T104957
CREATED:20250305T040540Z
LAST-MODIFIED:20250305T040545Z
UID:10017708-1822996800-1822998600@stnicholasoftolentinebronx.org
SUMMARY:12:00 Noon English mass
DESCRIPTION:
URL:https://stnicholasoftolentinebronx.org/event/1200-noon-english-mass/2027-10-08/
LOCATION:St Nicholas of Tolentine Church\, 2345 University Avenue\, Bronx\, NY\, 10468\, United States
END:VEVENT
BEGIN:VEVENT
DTSTART;TZID=America/New_York:20271009T074500
DTEND;TZID=America/New_York:20271009T083000
DTSTAMP:20260425T104957
CREATED:20250313T023643Z
LAST-MODIFIED:20250313T023646Z
UID:10018753-1823067900-1823070600@stnicholasoftolentinebronx.org
SUMMARY:7:45 am Vietnamese Mass
DESCRIPTION:
URL:https://stnicholasoftolentinebronx.org/event/745-am-vietnamese-mass/2027-10-09/
LOCATION:St Nicholas of Tolentine Church\, 2345 University Avenue\, Bronx\, NY\, 10468\, United States
END:VEVENT
BEGIN:VEVENT
DTSTART;TZID=America/New_York:20271009T173000
DTEND;TZID=America/New_York:20271009T183000
DTSTAMP:20260425T104957
CREATED:20250313T023751Z
LAST-MODIFIED:20250313T023752Z
UID:10019014-1823103000-1823106600@stnicholasoftolentinebronx.org
SUMMARY:5:30 pm Confessions
DESCRIPTION:
URL:https://stnicholasoftolentinebronx.org/event/530-pm-confessions/2027-10-09/
LOCATION:St Nicholas of Tolentine Church\, 2345 University Avenue\, Bronx\, NY\, 10468\, United States
END:VEVENT
BEGIN:VEVENT
DTSTART;TZID=America/New_York:20271009T190000
DTEND;TZID=America/New_York:20271009T200000
DTSTAMP:20260425T104957
CREATED:20250313T023841Z
LAST-MODIFIED:20250313T023842Z
UID:10019275-1823108400-1823112000@stnicholasoftolentinebronx.org
SUMMARY:7:00 pm Spanish Mass
DESCRIPTION:
URL:https://stnicholasoftolentinebronx.org/event/700-pm-spanish-mass/2027-10-09/
LOCATION:St Nicholas of Tolentine Church\, 2345 University Avenue\, Bronx\, NY\, 10468\, United States
END:VEVENT
BEGIN:VEVENT
DTSTART;TZID=America/New_York:20271010T080000
DTEND;TZID=America/New_York:20271010T090000
DTSTAMP:20260425T104957
CREATED:20250313T023930Z
LAST-MODIFIED:20250418T035212Z
UID:10019536-1823155200-1823158800@stnicholasoftolentinebronx.org
SUMMARY:8:00 am English Mass
DESCRIPTION:
URL:https://stnicholasoftolentinebronx.org/event/800-am-english-mass/2027-10-10/
LOCATION:St Nicholas of Tolentine Church\, 2345 University Avenue\, Bronx\, NY\, 10468\, United States
END:VEVENT
BEGIN:VEVENT
DTSTART;TZID=America/New_York:20271010T093000
DTEND;TZID=America/New_York:20271010T110000
DTSTAMP:20260425T104957
CREATED:20250313T024022Z
LAST-MODIFIED:20250313T024024Z
UID:10019797-1823160600-1823166000@stnicholasoftolentinebronx.org
SUMMARY:9:30 am Spanish Mass
DESCRIPTION:
URL:https://stnicholasoftolentinebronx.org/event/930-am-spanish-mass/2027-10-10/
LOCATION:St Nicholas of Tolentine Church\, 2345 University Avenue\, Bronx\, NY\, 10468\, United States
END:VEVENT
BEGIN:VEVENT
DTSTART;TZID=America/New_York:20271010T113000
DTEND;TZID=America/New_York:20271010T123000
DTSTAMP:20260425T104957
CREATED:20250313T024110Z
LAST-MODIFIED:20250313T024112Z
UID:10020058-1823167800-1823171400@stnicholasoftolentinebronx.org
SUMMARY:11:30 am English Mass
DESCRIPTION:
URL:https://stnicholasoftolentinebronx.org/event/1130-am-english-mass/2027-10-10/
LOCATION:St Nicholas of Tolentine Church\, 2345 University Avenue\, Bronx\, NY\, 10468\, United States
END:VEVENT
BEGIN:VEVENT
DTSTART;TZID=America/New_York:20271010T133000
DTEND;TZID=America/New_York:20271010T143000
DTSTAMP:20260425T104957
CREATED:20250313T024158Z
LAST-MODIFIED:20250313T024339Z
UID:10020319-1823175000-1823178600@stnicholasoftolentinebronx.org
SUMMARY:1:30 pm Vietnamese Mass
DESCRIPTION:
URL:https://stnicholasoftolentinebronx.org/event/130-pm-vietnamese-mass/2027-10-10/
LOCATION:St Nicholas of Tolentine Church\, 2345 University Avenue\, Bronx\, NY\, 10468\, United States
END:VEVENT
BEGIN:VEVENT
DTSTART;TZID=America/New_York:20271011T083000
DTEND;TZID=America/New_York:20271011T093000
DTSTAMP:20260425T104957
CREATED:20250305T035020Z
LAST-MODIFIED:20250305T035025Z
UID:10016405-1823243400-1823247000@stnicholasoftolentinebronx.org
SUMMARY:8:30 am Spanish Mass
DESCRIPTION:
URL:https://stnicholasoftolentinebronx.org/event/830-am-spanish-mass-3/2027-10-11/
LOCATION:St Nicholas of Tolentine Church\, 2345 University Avenue\, Bronx\, NY\, 10468\, United States
END:VEVENT
BEGIN:VEVENT
DTSTART;TZID=America/New_York:20271011T120000
DTEND;TZID=America/New_York:20271011T123000
DTSTAMP:20260425T104957
CREATED:20250305T040540Z
LAST-MODIFIED:20250305T040545Z
UID:10017709-1823256000-1823257800@stnicholasoftolentinebronx.org
SUMMARY:12:00 Noon English mass
DESCRIPTION:
URL:https://stnicholasoftolentinebronx.org/event/1200-noon-english-mass/2027-10-11/
LOCATION:St Nicholas of Tolentine Church\, 2345 University Avenue\, Bronx\, NY\, 10468\, United States
END:VEVENT
BEGIN:VEVENT
DTSTART;TZID=America/New_York:20271012T083000
DTEND;TZID=America/New_York:20271012T093000
DTSTAMP:20260425T104957
CREATED:20250305T035020Z
LAST-MODIFIED:20250305T035025Z
UID:10016406-1823329800-1823333400@stnicholasoftolentinebronx.org
SUMMARY:8:30 am Spanish Mass
DESCRIPTION:
URL:https://stnicholasoftolentinebronx.org/event/830-am-spanish-mass-3/2027-10-12/
LOCATION:St Nicholas of Tolentine Church\, 2345 University Avenue\, Bronx\, NY\, 10468\, United States
END:VEVENT
END:VCALENDAR