BEGIN:VCALENDAR
VERSION:2.0
PRODID:-//St. Nicholas of Tolentine Church - ECPv6.15.20//NONSGML v1.0//EN
CALSCALE:GREGORIAN
METHOD:PUBLISH
X-WR-CALNAME:St. Nicholas of Tolentine Church
X-ORIGINAL-URL:https://stnicholasoftolentinebronx.org
X-WR-CALDESC:Events for St. Nicholas of Tolentine Church
REFRESH-INTERVAL;VALUE=DURATION:PT1H
X-Robots-Tag:noindex
X-PUBLISHED-TTL:PT1H
BEGIN:VTIMEZONE
TZID:America/New_York
BEGIN:DAYLIGHT
TZOFFSETFROM:-0500
TZOFFSETTO:-0400
TZNAME:EDT
DTSTART:20260308T070000
END:DAYLIGHT
BEGIN:STANDARD
TZOFFSETFROM:-0400
TZOFFSETTO:-0500
TZNAME:EST
DTSTART:20261101T060000
END:STANDARD
BEGIN:DAYLIGHT
TZOFFSETFROM:-0500
TZOFFSETTO:-0400
TZNAME:EDT
DTSTART:20270314T070000
END:DAYLIGHT
BEGIN:STANDARD
TZOFFSETFROM:-0400
TZOFFSETTO:-0500
TZNAME:EST
DTSTART:20271107T060000
END:STANDARD
BEGIN:DAYLIGHT
TZOFFSETFROM:-0500
TZOFFSETTO:-0400
TZNAME:EDT
DTSTART:20280312T070000
END:DAYLIGHT
BEGIN:STANDARD
TZOFFSETFROM:-0400
TZOFFSETTO:-0500
TZNAME:EST
DTSTART:20281105T060000
END:STANDARD
END:VTIMEZONE
BEGIN:VEVENT
DTSTART;TZID=America/New_York:20270208T120000
DTEND;TZID=America/New_York:20270208T123000
DTSTAMP:20260423T191021
CREATED:20250305T040540Z
LAST-MODIFIED:20250305T040545Z
UID:10017534-1802088000-1802089800@stnicholasoftolentinebronx.org
SUMMARY:12:00 Noon English mass
DESCRIPTION:
URL:https://stnicholasoftolentinebronx.org/event/1200-noon-english-mass/2027-02-08/
LOCATION:St Nicholas of Tolentine Church\, 2345 University Avenue\, Bronx\, NY\, 10468\, United States
END:VEVENT
BEGIN:VEVENT
DTSTART;TZID=America/New_York:20270209T083000
DTEND;TZID=America/New_York:20270209T093000
DTSTAMP:20260423T191021
CREATED:20250305T035020Z
LAST-MODIFIED:20250305T035025Z
UID:10016231-1802161800-1802165400@stnicholasoftolentinebronx.org
SUMMARY:8:30 am Spanish Mass
DESCRIPTION:
URL:https://stnicholasoftolentinebronx.org/event/830-am-spanish-mass-3/2027-02-09/
LOCATION:St Nicholas of Tolentine Church\, 2345 University Avenue\, Bronx\, NY\, 10468\, United States
END:VEVENT
BEGIN:VEVENT
DTSTART;TZID=America/New_York:20270209T120000
DTEND;TZID=America/New_York:20270209T123000
DTSTAMP:20260423T191021
CREATED:20250305T040540Z
LAST-MODIFIED:20250305T040545Z
UID:10017535-1802174400-1802176200@stnicholasoftolentinebronx.org
SUMMARY:12:00 Noon English mass
DESCRIPTION:
URL:https://stnicholasoftolentinebronx.org/event/1200-noon-english-mass/2027-02-09/
LOCATION:St Nicholas of Tolentine Church\, 2345 University Avenue\, Bronx\, NY\, 10468\, United States
END:VEVENT
BEGIN:VEVENT
DTSTART;TZID=America/New_York:20270210T083000
DTEND;TZID=America/New_York:20270210T093000
DTSTAMP:20260423T191021
CREATED:20250305T035020Z
LAST-MODIFIED:20250305T035025Z
UID:10016232-1802248200-1802251800@stnicholasoftolentinebronx.org
SUMMARY:8:30 am Spanish Mass
DESCRIPTION:
URL:https://stnicholasoftolentinebronx.org/event/830-am-spanish-mass-3/2027-02-10/
LOCATION:St Nicholas of Tolentine Church\, 2345 University Avenue\, Bronx\, NY\, 10468\, United States
END:VEVENT
BEGIN:VEVENT
DTSTART;TZID=America/New_York:20270210T120000
DTEND;TZID=America/New_York:20270210T123000
DTSTAMP:20260423T191021
CREATED:20250305T040540Z
LAST-MODIFIED:20250305T040545Z
UID:10017536-1802260800-1802262600@stnicholasoftolentinebronx.org
SUMMARY:12:00 Noon English mass
DESCRIPTION:
URL:https://stnicholasoftolentinebronx.org/event/1200-noon-english-mass/2027-02-10/
LOCATION:St Nicholas of Tolentine Church\, 2345 University Avenue\, Bronx\, NY\, 10468\, United States
END:VEVENT
BEGIN:VEVENT
DTSTART;TZID=America/New_York:20270211T083000
DTEND;TZID=America/New_York:20270211T093000
DTSTAMP:20260423T191021
CREATED:20250305T035020Z
LAST-MODIFIED:20250305T035025Z
UID:10016233-1802334600-1802338200@stnicholasoftolentinebronx.org
SUMMARY:8:30 am Spanish Mass
DESCRIPTION:
URL:https://stnicholasoftolentinebronx.org/event/830-am-spanish-mass-3/2027-02-11/
LOCATION:St Nicholas of Tolentine Church\, 2345 University Avenue\, Bronx\, NY\, 10468\, United States
END:VEVENT
BEGIN:VEVENT
DTSTART;TZID=America/New_York:20270211T120000
DTEND;TZID=America/New_York:20270211T123000
DTSTAMP:20260423T191021
CREATED:20250305T040540Z
LAST-MODIFIED:20250305T040545Z
UID:10017537-1802347200-1802349000@stnicholasoftolentinebronx.org
SUMMARY:12:00 Noon English mass
DESCRIPTION:
URL:https://stnicholasoftolentinebronx.org/event/1200-noon-english-mass/2027-02-11/
LOCATION:St Nicholas of Tolentine Church\, 2345 University Avenue\, Bronx\, NY\, 10468\, United States
END:VEVENT
BEGIN:VEVENT
DTSTART;TZID=America/New_York:20270211T190000
DTEND;TZID=America/New_York:20270211T210000
DTSTAMP:20260423T191021
CREATED:20250305T041048Z
LAST-MODIFIED:20250306T225714Z
UID:10018438-1802372400-1802379600@stnicholasoftolentinebronx.org
SUMMARY:7:00 pm Círculo
DESCRIPTION:
URL:https://stnicholasoftolentinebronx.org/event/700-circulo/2027-02-11/
LOCATION:NY
END:VEVENT
BEGIN:VEVENT
DTSTART;TZID=America/New_York:20270212T083000
DTEND;TZID=America/New_York:20270212T093000
DTSTAMP:20260423T191021
CREATED:20250305T035020Z
LAST-MODIFIED:20250305T035025Z
UID:10016234-1802421000-1802424600@stnicholasoftolentinebronx.org
SUMMARY:8:30 am Spanish Mass
DESCRIPTION:
URL:https://stnicholasoftolentinebronx.org/event/830-am-spanish-mass-3/2027-02-12/
LOCATION:St Nicholas of Tolentine Church\, 2345 University Avenue\, Bronx\, NY\, 10468\, United States
END:VEVENT
BEGIN:VEVENT
DTSTART;TZID=America/New_York:20270212T120000
DTEND;TZID=America/New_York:20270212T123000
DTSTAMP:20260423T191021
CREATED:20250305T040540Z
LAST-MODIFIED:20250305T040545Z
UID:10017538-1802433600-1802435400@stnicholasoftolentinebronx.org
SUMMARY:12:00 Noon English mass
DESCRIPTION:
URL:https://stnicholasoftolentinebronx.org/event/1200-noon-english-mass/2027-02-12/
LOCATION:St Nicholas of Tolentine Church\, 2345 University Avenue\, Bronx\, NY\, 10468\, United States
END:VEVENT
BEGIN:VEVENT
DTSTART;TZID=America/New_York:20270213T074500
DTEND;TZID=America/New_York:20270213T083000
DTSTAMP:20260423T191021
CREATED:20250313T023643Z
LAST-MODIFIED:20250313T023646Z
UID:10018719-1802504700-1802507400@stnicholasoftolentinebronx.org
SUMMARY:7:45 am Vietnamese Mass
DESCRIPTION:
URL:https://stnicholasoftolentinebronx.org/event/745-am-vietnamese-mass/2027-02-13/
LOCATION:St Nicholas of Tolentine Church\, 2345 University Avenue\, Bronx\, NY\, 10468\, United States
END:VEVENT
BEGIN:VEVENT
DTSTART;TZID=America/New_York:20270213T173000
DTEND;TZID=America/New_York:20270213T183000
DTSTAMP:20260423T191021
CREATED:20250313T023751Z
LAST-MODIFIED:20250313T023752Z
UID:10018980-1802539800-1802543400@stnicholasoftolentinebronx.org
SUMMARY:5:30 pm Confessions
DESCRIPTION:
URL:https://stnicholasoftolentinebronx.org/event/530-pm-confessions/2027-02-13/
LOCATION:St Nicholas of Tolentine Church\, 2345 University Avenue\, Bronx\, NY\, 10468\, United States
END:VEVENT
BEGIN:VEVENT
DTSTART;TZID=America/New_York:20270213T190000
DTEND;TZID=America/New_York:20270213T200000
DTSTAMP:20260423T191021
CREATED:20250313T023841Z
LAST-MODIFIED:20250313T023842Z
UID:10019241-1802545200-1802548800@stnicholasoftolentinebronx.org
SUMMARY:7:00 pm Spanish Mass
DESCRIPTION:
URL:https://stnicholasoftolentinebronx.org/event/700-pm-spanish-mass/2027-02-13/
LOCATION:St Nicholas of Tolentine Church\, 2345 University Avenue\, Bronx\, NY\, 10468\, United States
END:VEVENT
BEGIN:VEVENT
DTSTART;TZID=America/New_York:20270214T080000
DTEND;TZID=America/New_York:20270214T090000
DTSTAMP:20260423T191021
CREATED:20250313T023930Z
LAST-MODIFIED:20250418T035212Z
UID:10019502-1802592000-1802595600@stnicholasoftolentinebronx.org
SUMMARY:8:00 am English Mass
DESCRIPTION:
URL:https://stnicholasoftolentinebronx.org/event/800-am-english-mass/2027-02-14/
LOCATION:St Nicholas of Tolentine Church\, 2345 University Avenue\, Bronx\, NY\, 10468\, United States
END:VEVENT
BEGIN:VEVENT
DTSTART;TZID=America/New_York:20270214T093000
DTEND;TZID=America/New_York:20270214T110000
DTSTAMP:20260423T191021
CREATED:20250313T024022Z
LAST-MODIFIED:20250313T024024Z
UID:10019763-1802597400-1802602800@stnicholasoftolentinebronx.org
SUMMARY:9:30 am Spanish Mass
DESCRIPTION:
URL:https://stnicholasoftolentinebronx.org/event/930-am-spanish-mass/2027-02-14/
LOCATION:St Nicholas of Tolentine Church\, 2345 University Avenue\, Bronx\, NY\, 10468\, United States
END:VEVENT
BEGIN:VEVENT
DTSTART;TZID=America/New_York:20270214T113000
DTEND;TZID=America/New_York:20270214T123000
DTSTAMP:20260423T191021
CREATED:20250313T024110Z
LAST-MODIFIED:20250313T024112Z
UID:10020024-1802604600-1802608200@stnicholasoftolentinebronx.org
SUMMARY:11:30 am English Mass
DESCRIPTION:
URL:https://stnicholasoftolentinebronx.org/event/1130-am-english-mass/2027-02-14/
LOCATION:St Nicholas of Tolentine Church\, 2345 University Avenue\, Bronx\, NY\, 10468\, United States
END:VEVENT
BEGIN:VEVENT
DTSTART;TZID=America/New_York:20270214T133000
DTEND;TZID=America/New_York:20270214T143000
DTSTAMP:20260423T191021
CREATED:20250313T024158Z
LAST-MODIFIED:20250313T024339Z
UID:10020285-1802611800-1802615400@stnicholasoftolentinebronx.org
SUMMARY:1:30 pm Vietnamese Mass
DESCRIPTION:
URL:https://stnicholasoftolentinebronx.org/event/130-pm-vietnamese-mass/2027-02-14/
LOCATION:St Nicholas of Tolentine Church\, 2345 University Avenue\, Bronx\, NY\, 10468\, United States
END:VEVENT
BEGIN:VEVENT
DTSTART;TZID=America/New_York:20270215T083000
DTEND;TZID=America/New_York:20270215T093000
DTSTAMP:20260423T191021
CREATED:20250305T035020Z
LAST-MODIFIED:20250305T035025Z
UID:10016235-1802680200-1802683800@stnicholasoftolentinebronx.org
SUMMARY:8:30 am Spanish Mass
DESCRIPTION:
URL:https://stnicholasoftolentinebronx.org/event/830-am-spanish-mass-3/2027-02-15/
LOCATION:St Nicholas of Tolentine Church\, 2345 University Avenue\, Bronx\, NY\, 10468\, United States
END:VEVENT
BEGIN:VEVENT
DTSTART;TZID=America/New_York:20270215T120000
DTEND;TZID=America/New_York:20270215T123000
DTSTAMP:20260423T191021
CREATED:20250305T040540Z
LAST-MODIFIED:20250305T040545Z
UID:10017539-1802692800-1802694600@stnicholasoftolentinebronx.org
SUMMARY:12:00 Noon English mass
DESCRIPTION:
URL:https://stnicholasoftolentinebronx.org/event/1200-noon-english-mass/2027-02-15/
LOCATION:St Nicholas of Tolentine Church\, 2345 University Avenue\, Bronx\, NY\, 10468\, United States
END:VEVENT
BEGIN:VEVENT
DTSTART;TZID=America/New_York:20270216T083000
DTEND;TZID=America/New_York:20270216T093000
DTSTAMP:20260423T191021
CREATED:20250305T035020Z
LAST-MODIFIED:20250305T035025Z
UID:10016236-1802766600-1802770200@stnicholasoftolentinebronx.org
SUMMARY:8:30 am Spanish Mass
DESCRIPTION:
URL:https://stnicholasoftolentinebronx.org/event/830-am-spanish-mass-3/2027-02-16/
LOCATION:St Nicholas of Tolentine Church\, 2345 University Avenue\, Bronx\, NY\, 10468\, United States
END:VEVENT
BEGIN:VEVENT
DTSTART;TZID=America/New_York:20270216T120000
DTEND;TZID=America/New_York:20270216T123000
DTSTAMP:20260423T191021
CREATED:20250305T040540Z
LAST-MODIFIED:20250305T040545Z
UID:10017540-1802779200-1802781000@stnicholasoftolentinebronx.org
SUMMARY:12:00 Noon English mass
DESCRIPTION:
URL:https://stnicholasoftolentinebronx.org/event/1200-noon-english-mass/2027-02-16/
LOCATION:St Nicholas of Tolentine Church\, 2345 University Avenue\, Bronx\, NY\, 10468\, United States
END:VEVENT
BEGIN:VEVENT
DTSTART;TZID=America/New_York:20270217T083000
DTEND;TZID=America/New_York:20270217T093000
DTSTAMP:20260423T191021
CREATED:20250305T035020Z
LAST-MODIFIED:20250305T035025Z
UID:10016237-1802853000-1802856600@stnicholasoftolentinebronx.org
SUMMARY:8:30 am Spanish Mass
DESCRIPTION:
URL:https://stnicholasoftolentinebronx.org/event/830-am-spanish-mass-3/2027-02-17/
LOCATION:St Nicholas of Tolentine Church\, 2345 University Avenue\, Bronx\, NY\, 10468\, United States
END:VEVENT
BEGIN:VEVENT
DTSTART;TZID=America/New_York:20270217T120000
DTEND;TZID=America/New_York:20270217T123000
DTSTAMP:20260423T191021
CREATED:20250305T040540Z
LAST-MODIFIED:20250305T040545Z
UID:10017541-1802865600-1802867400@stnicholasoftolentinebronx.org
SUMMARY:12:00 Noon English mass
DESCRIPTION:
URL:https://stnicholasoftolentinebronx.org/event/1200-noon-english-mass/2027-02-17/
LOCATION:St Nicholas of Tolentine Church\, 2345 University Avenue\, Bronx\, NY\, 10468\, United States
END:VEVENT
BEGIN:VEVENT
DTSTART;TZID=America/New_York:20270218T083000
DTEND;TZID=America/New_York:20270218T093000
DTSTAMP:20260423T191021
CREATED:20250305T035020Z
LAST-MODIFIED:20250305T035025Z
UID:10016238-1802939400-1802943000@stnicholasoftolentinebronx.org
SUMMARY:8:30 am Spanish Mass
DESCRIPTION:
URL:https://stnicholasoftolentinebronx.org/event/830-am-spanish-mass-3/2027-02-18/
LOCATION:St Nicholas of Tolentine Church\, 2345 University Avenue\, Bronx\, NY\, 10468\, United States
END:VEVENT
BEGIN:VEVENT
DTSTART;TZID=America/New_York:20270218T120000
DTEND;TZID=America/New_York:20270218T123000
DTSTAMP:20260423T191021
CREATED:20250305T040540Z
LAST-MODIFIED:20250305T040545Z
UID:10017542-1802952000-1802953800@stnicholasoftolentinebronx.org
SUMMARY:12:00 Noon English mass
DESCRIPTION:
URL:https://stnicholasoftolentinebronx.org/event/1200-noon-english-mass/2027-02-18/
LOCATION:St Nicholas of Tolentine Church\, 2345 University Avenue\, Bronx\, NY\, 10468\, United States
END:VEVENT
BEGIN:VEVENT
DTSTART;TZID=America/New_York:20270218T190000
DTEND;TZID=America/New_York:20270218T210000
DTSTAMP:20260423T191021
CREATED:20250305T041048Z
LAST-MODIFIED:20250306T225714Z
UID:10018439-1802977200-1802984400@stnicholasoftolentinebronx.org
SUMMARY:7:00 pm Círculo
DESCRIPTION:
URL:https://stnicholasoftolentinebronx.org/event/700-circulo/2027-02-18/
LOCATION:NY
END:VEVENT
BEGIN:VEVENT
DTSTART;TZID=America/New_York:20270219T083000
DTEND;TZID=America/New_York:20270219T093000
DTSTAMP:20260423T191021
CREATED:20250305T035020Z
LAST-MODIFIED:20250305T035025Z
UID:10016239-1803025800-1803029400@stnicholasoftolentinebronx.org
SUMMARY:8:30 am Spanish Mass
DESCRIPTION:
URL:https://stnicholasoftolentinebronx.org/event/830-am-spanish-mass-3/2027-02-19/
LOCATION:St Nicholas of Tolentine Church\, 2345 University Avenue\, Bronx\, NY\, 10468\, United States
END:VEVENT
BEGIN:VEVENT
DTSTART;TZID=America/New_York:20270219T120000
DTEND;TZID=America/New_York:20270219T123000
DTSTAMP:20260423T191021
CREATED:20250305T040540Z
LAST-MODIFIED:20250305T040545Z
UID:10017543-1803038400-1803040200@stnicholasoftolentinebronx.org
SUMMARY:12:00 Noon English mass
DESCRIPTION:
URL:https://stnicholasoftolentinebronx.org/event/1200-noon-english-mass/2027-02-19/
LOCATION:St Nicholas of Tolentine Church\, 2345 University Avenue\, Bronx\, NY\, 10468\, United States
END:VEVENT
BEGIN:VEVENT
DTSTART;TZID=America/New_York:20270220T074500
DTEND;TZID=America/New_York:20270220T083000
DTSTAMP:20260423T191021
CREATED:20250313T023643Z
LAST-MODIFIED:20250313T023646Z
UID:10018720-1803109500-1803112200@stnicholasoftolentinebronx.org
SUMMARY:7:45 am Vietnamese Mass
DESCRIPTION:
URL:https://stnicholasoftolentinebronx.org/event/745-am-vietnamese-mass/2027-02-20/
LOCATION:St Nicholas of Tolentine Church\, 2345 University Avenue\, Bronx\, NY\, 10468\, United States
END:VEVENT
BEGIN:VEVENT
DTSTART;TZID=America/New_York:20270220T173000
DTEND;TZID=America/New_York:20270220T183000
DTSTAMP:20260423T191021
CREATED:20250313T023751Z
LAST-MODIFIED:20250313T023752Z
UID:10018981-1803144600-1803148200@stnicholasoftolentinebronx.org
SUMMARY:5:30 pm Confessions
DESCRIPTION:
URL:https://stnicholasoftolentinebronx.org/event/530-pm-confessions/2027-02-20/
LOCATION:St Nicholas of Tolentine Church\, 2345 University Avenue\, Bronx\, NY\, 10468\, United States
END:VEVENT
END:VCALENDAR