BEGIN:VCALENDAR
VERSION:2.0
PRODID:-//St. Nicholas of Tolentine Church - ECPv6.15.20//NONSGML v1.0//EN
CALSCALE:GREGORIAN
METHOD:PUBLISH
X-ORIGINAL-URL:https://stnicholasoftolentinebronx.org
X-WR-CALDESC:Events for St. Nicholas of Tolentine Church
REFRESH-INTERVAL;VALUE=DURATION:PT1H
X-Robots-Tag:noindex
X-PUBLISHED-TTL:PT1H
BEGIN:VTIMEZONE
TZID:America/New_York
BEGIN:DAYLIGHT
TZOFFSETFROM:-0500
TZOFFSETTO:-0400
TZNAME:EDT
DTSTART:20260308T070000
END:DAYLIGHT
BEGIN:STANDARD
TZOFFSETFROM:-0400
TZOFFSETTO:-0500
TZNAME:EST
DTSTART:20261101T060000
END:STANDARD
BEGIN:DAYLIGHT
TZOFFSETFROM:-0500
TZOFFSETTO:-0400
TZNAME:EDT
DTSTART:20270314T070000
END:DAYLIGHT
BEGIN:STANDARD
TZOFFSETFROM:-0400
TZOFFSETTO:-0500
TZNAME:EST
DTSTART:20271107T060000
END:STANDARD
BEGIN:DAYLIGHT
TZOFFSETFROM:-0500
TZOFFSETTO:-0400
TZNAME:EDT
DTSTART:20280312T070000
END:DAYLIGHT
BEGIN:STANDARD
TZOFFSETFROM:-0400
TZOFFSETTO:-0500
TZNAME:EST
DTSTART:20281105T060000
END:STANDARD
END:VTIMEZONE
BEGIN:VEVENT
DTSTART;TZID=America/New_York:20270913T083000
DTEND;TZID=America/New_York:20270913T093000
DTSTAMP:20260425T074256
CREATED:20250305T035020Z
LAST-MODIFIED:20250305T035025Z
UID:10016385-1820824200-1820827800@stnicholasoftolentinebronx.org
SUMMARY:8:30 am Spanish Mass
DESCRIPTION:
URL:https://stnicholasoftolentinebronx.org/event/830-am-spanish-mass-3/2027-09-13/
LOCATION:St Nicholas of Tolentine Church\, 2345 University Avenue\, Bronx\, NY\, 10468\, United States
END:VEVENT
BEGIN:VEVENT
DTSTART;TZID=America/New_York:20270913T120000
DTEND;TZID=America/New_York:20270913T123000
DTSTAMP:20260425T074256
CREATED:20250305T040540Z
LAST-MODIFIED:20250305T040545Z
UID:10017689-1820836800-1820838600@stnicholasoftolentinebronx.org
SUMMARY:12:00 Noon English mass
DESCRIPTION:
URL:https://stnicholasoftolentinebronx.org/event/1200-noon-english-mass/2027-09-13/
LOCATION:St Nicholas of Tolentine Church\, 2345 University Avenue\, Bronx\, NY\, 10468\, United States
END:VEVENT
BEGIN:VEVENT
DTSTART;TZID=America/New_York:20270914T083000
DTEND;TZID=America/New_York:20270914T093000
DTSTAMP:20260425T074256
CREATED:20250305T035020Z
LAST-MODIFIED:20250305T035025Z
UID:10016386-1820910600-1820914200@stnicholasoftolentinebronx.org
SUMMARY:8:30 am Spanish Mass
DESCRIPTION:
URL:https://stnicholasoftolentinebronx.org/event/830-am-spanish-mass-3/2027-09-14/
LOCATION:St Nicholas of Tolentine Church\, 2345 University Avenue\, Bronx\, NY\, 10468\, United States
END:VEVENT
BEGIN:VEVENT
DTSTART;TZID=America/New_York:20270914T120000
DTEND;TZID=America/New_York:20270914T123000
DTSTAMP:20260425T074256
CREATED:20250305T040540Z
LAST-MODIFIED:20250305T040545Z
UID:10017690-1820923200-1820925000@stnicholasoftolentinebronx.org
SUMMARY:12:00 Noon English mass
DESCRIPTION:
URL:https://stnicholasoftolentinebronx.org/event/1200-noon-english-mass/2027-09-14/
LOCATION:St Nicholas of Tolentine Church\, 2345 University Avenue\, Bronx\, NY\, 10468\, United States
END:VEVENT
BEGIN:VEVENT
DTSTART;TZID=America/New_York:20270915T083000
DTEND;TZID=America/New_York:20270915T093000
DTSTAMP:20260425T074256
CREATED:20250305T035020Z
LAST-MODIFIED:20250305T035025Z
UID:10016387-1820997000-1821000600@stnicholasoftolentinebronx.org
SUMMARY:8:30 am Spanish Mass
DESCRIPTION:
URL:https://stnicholasoftolentinebronx.org/event/830-am-spanish-mass-3/2027-09-15/
LOCATION:St Nicholas of Tolentine Church\, 2345 University Avenue\, Bronx\, NY\, 10468\, United States
END:VEVENT
BEGIN:VEVENT
DTSTART;TZID=America/New_York:20270915T120000
DTEND;TZID=America/New_York:20270915T123000
DTSTAMP:20260425T074256
CREATED:20250305T040540Z
LAST-MODIFIED:20250305T040545Z
UID:10017691-1821009600-1821011400@stnicholasoftolentinebronx.org
SUMMARY:12:00 Noon English mass
DESCRIPTION:
URL:https://stnicholasoftolentinebronx.org/event/1200-noon-english-mass/2027-09-15/
LOCATION:St Nicholas of Tolentine Church\, 2345 University Avenue\, Bronx\, NY\, 10468\, United States
END:VEVENT
BEGIN:VEVENT
DTSTART;TZID=America/New_York:20270916T083000
DTEND;TZID=America/New_York:20270916T093000
DTSTAMP:20260425T074256
CREATED:20250305T035020Z
LAST-MODIFIED:20250305T035025Z
UID:10016388-1821083400-1821087000@stnicholasoftolentinebronx.org
SUMMARY:8:30 am Spanish Mass
DESCRIPTION:
URL:https://stnicholasoftolentinebronx.org/event/830-am-spanish-mass-3/2027-09-16/
LOCATION:St Nicholas of Tolentine Church\, 2345 University Avenue\, Bronx\, NY\, 10468\, United States
END:VEVENT
BEGIN:VEVENT
DTSTART;TZID=America/New_York:20270916T120000
DTEND;TZID=America/New_York:20270916T123000
DTSTAMP:20260425T074256
CREATED:20250305T040540Z
LAST-MODIFIED:20250305T040545Z
UID:10017692-1821096000-1821097800@stnicholasoftolentinebronx.org
SUMMARY:12:00 Noon English mass
DESCRIPTION:
URL:https://stnicholasoftolentinebronx.org/event/1200-noon-english-mass/2027-09-16/
LOCATION:St Nicholas of Tolentine Church\, 2345 University Avenue\, Bronx\, NY\, 10468\, United States
END:VEVENT
BEGIN:VEVENT
DTSTART;TZID=America/New_York:20270916T190000
DTEND;TZID=America/New_York:20270916T210000
DTSTAMP:20260425T074256
CREATED:20250305T041048Z
LAST-MODIFIED:20250306T225714Z
UID:10018469-1821121200-1821128400@stnicholasoftolentinebronx.org
SUMMARY:7:00 pm Círculo
DESCRIPTION:
URL:https://stnicholasoftolentinebronx.org/event/700-circulo/2027-09-16/
LOCATION:NY
END:VEVENT
BEGIN:VEVENT
DTSTART;TZID=America/New_York:20270917T083000
DTEND;TZID=America/New_York:20270917T093000
DTSTAMP:20260425T074256
CREATED:20250305T035020Z
LAST-MODIFIED:20250305T035025Z
UID:10016389-1821169800-1821173400@stnicholasoftolentinebronx.org
SUMMARY:8:30 am Spanish Mass
DESCRIPTION:
URL:https://stnicholasoftolentinebronx.org/event/830-am-spanish-mass-3/2027-09-17/
LOCATION:St Nicholas of Tolentine Church\, 2345 University Avenue\, Bronx\, NY\, 10468\, United States
END:VEVENT
BEGIN:VEVENT
DTSTART;TZID=America/New_York:20270917T120000
DTEND;TZID=America/New_York:20270917T123000
DTSTAMP:20260425T074256
CREATED:20250305T040540Z
LAST-MODIFIED:20250305T040545Z
UID:10017693-1821182400-1821184200@stnicholasoftolentinebronx.org
SUMMARY:12:00 Noon English mass
DESCRIPTION:
URL:https://stnicholasoftolentinebronx.org/event/1200-noon-english-mass/2027-09-17/
LOCATION:St Nicholas of Tolentine Church\, 2345 University Avenue\, Bronx\, NY\, 10468\, United States
END:VEVENT
BEGIN:VEVENT
DTSTART;TZID=America/New_York:20270918T074500
DTEND;TZID=America/New_York:20270918T083000
DTSTAMP:20260425T074256
CREATED:20250313T023643Z
LAST-MODIFIED:20250313T023646Z
UID:10018750-1821253500-1821256200@stnicholasoftolentinebronx.org
SUMMARY:7:45 am Vietnamese Mass
DESCRIPTION:
URL:https://stnicholasoftolentinebronx.org/event/745-am-vietnamese-mass/2027-09-18/
LOCATION:St Nicholas of Tolentine Church\, 2345 University Avenue\, Bronx\, NY\, 10468\, United States
END:VEVENT
BEGIN:VEVENT
DTSTART;TZID=America/New_York:20270918T173000
DTEND;TZID=America/New_York:20270918T183000
DTSTAMP:20260425T074256
CREATED:20250313T023751Z
LAST-MODIFIED:20250313T023752Z
UID:10019011-1821288600-1821292200@stnicholasoftolentinebronx.org
SUMMARY:5:30 pm Confessions
DESCRIPTION:
URL:https://stnicholasoftolentinebronx.org/event/530-pm-confessions/2027-09-18/
LOCATION:St Nicholas of Tolentine Church\, 2345 University Avenue\, Bronx\, NY\, 10468\, United States
END:VEVENT
BEGIN:VEVENT
DTSTART;TZID=America/New_York:20270918T190000
DTEND;TZID=America/New_York:20270918T200000
DTSTAMP:20260425T074256
CREATED:20250313T023841Z
LAST-MODIFIED:20250313T023842Z
UID:10019272-1821294000-1821297600@stnicholasoftolentinebronx.org
SUMMARY:7:00 pm Spanish Mass
DESCRIPTION:
URL:https://stnicholasoftolentinebronx.org/event/700-pm-spanish-mass/2027-09-18/
LOCATION:St Nicholas of Tolentine Church\, 2345 University Avenue\, Bronx\, NY\, 10468\, United States
END:VEVENT
BEGIN:VEVENT
DTSTART;TZID=America/New_York:20270919T080000
DTEND;TZID=America/New_York:20270919T090000
DTSTAMP:20260425T074256
CREATED:20250313T023930Z
LAST-MODIFIED:20250418T035212Z
UID:10019533-1821340800-1821344400@stnicholasoftolentinebronx.org
SUMMARY:8:00 am English Mass
DESCRIPTION:
URL:https://stnicholasoftolentinebronx.org/event/800-am-english-mass/2027-09-19/
LOCATION:St Nicholas of Tolentine Church\, 2345 University Avenue\, Bronx\, NY\, 10468\, United States
END:VEVENT
BEGIN:VEVENT
DTSTART;TZID=America/New_York:20270919T093000
DTEND;TZID=America/New_York:20270919T110000
DTSTAMP:20260425T074256
CREATED:20250313T024022Z
LAST-MODIFIED:20250313T024024Z
UID:10019794-1821346200-1821351600@stnicholasoftolentinebronx.org
SUMMARY:9:30 am Spanish Mass
DESCRIPTION:
URL:https://stnicholasoftolentinebronx.org/event/930-am-spanish-mass/2027-09-19/
LOCATION:St Nicholas of Tolentine Church\, 2345 University Avenue\, Bronx\, NY\, 10468\, United States
END:VEVENT
BEGIN:VEVENT
DTSTART;TZID=America/New_York:20270919T113000
DTEND;TZID=America/New_York:20270919T123000
DTSTAMP:20260425T074256
CREATED:20250313T024110Z
LAST-MODIFIED:20250313T024112Z
UID:10020055-1821353400-1821357000@stnicholasoftolentinebronx.org
SUMMARY:11:30 am English Mass
DESCRIPTION:
URL:https://stnicholasoftolentinebronx.org/event/1130-am-english-mass/2027-09-19/
LOCATION:St Nicholas of Tolentine Church\, 2345 University Avenue\, Bronx\, NY\, 10468\, United States
END:VEVENT
BEGIN:VEVENT
DTSTART;TZID=America/New_York:20270919T133000
DTEND;TZID=America/New_York:20270919T143000
DTSTAMP:20260425T074256
CREATED:20250313T024158Z
LAST-MODIFIED:20250313T024339Z
UID:10020316-1821360600-1821364200@stnicholasoftolentinebronx.org
SUMMARY:1:30 pm Vietnamese Mass
DESCRIPTION:
URL:https://stnicholasoftolentinebronx.org/event/130-pm-vietnamese-mass/2027-09-19/
LOCATION:St Nicholas of Tolentine Church\, 2345 University Avenue\, Bronx\, NY\, 10468\, United States
END:VEVENT
BEGIN:VEVENT
DTSTART;TZID=America/New_York:20270920T083000
DTEND;TZID=America/New_York:20270920T093000
DTSTAMP:20260425T074256
CREATED:20250305T035020Z
LAST-MODIFIED:20250305T035025Z
UID:10016390-1821429000-1821432600@stnicholasoftolentinebronx.org
SUMMARY:8:30 am Spanish Mass
DESCRIPTION:
URL:https://stnicholasoftolentinebronx.org/event/830-am-spanish-mass-3/2027-09-20/
LOCATION:St Nicholas of Tolentine Church\, 2345 University Avenue\, Bronx\, NY\, 10468\, United States
END:VEVENT
BEGIN:VEVENT
DTSTART;TZID=America/New_York:20270920T120000
DTEND;TZID=America/New_York:20270920T123000
DTSTAMP:20260425T074256
CREATED:20250305T040540Z
LAST-MODIFIED:20250305T040545Z
UID:10017694-1821441600-1821443400@stnicholasoftolentinebronx.org
SUMMARY:12:00 Noon English mass
DESCRIPTION:
URL:https://stnicholasoftolentinebronx.org/event/1200-noon-english-mass/2027-09-20/
LOCATION:St Nicholas of Tolentine Church\, 2345 University Avenue\, Bronx\, NY\, 10468\, United States
END:VEVENT
BEGIN:VEVENT
DTSTART;TZID=America/New_York:20270921T083000
DTEND;TZID=America/New_York:20270921T093000
DTSTAMP:20260425T074256
CREATED:20250305T035020Z
LAST-MODIFIED:20250305T035025Z
UID:10016391-1821515400-1821519000@stnicholasoftolentinebronx.org
SUMMARY:8:30 am Spanish Mass
DESCRIPTION:
URL:https://stnicholasoftolentinebronx.org/event/830-am-spanish-mass-3/2027-09-21/
LOCATION:St Nicholas of Tolentine Church\, 2345 University Avenue\, Bronx\, NY\, 10468\, United States
END:VEVENT
BEGIN:VEVENT
DTSTART;TZID=America/New_York:20270921T120000
DTEND;TZID=America/New_York:20270921T123000
DTSTAMP:20260425T074256
CREATED:20250305T040540Z
LAST-MODIFIED:20250305T040545Z
UID:10017695-1821528000-1821529800@stnicholasoftolentinebronx.org
SUMMARY:12:00 Noon English mass
DESCRIPTION:
URL:https://stnicholasoftolentinebronx.org/event/1200-noon-english-mass/2027-09-21/
LOCATION:St Nicholas of Tolentine Church\, 2345 University Avenue\, Bronx\, NY\, 10468\, United States
END:VEVENT
BEGIN:VEVENT
DTSTART;TZID=America/New_York:20270922T083000
DTEND;TZID=America/New_York:20270922T093000
DTSTAMP:20260425T074256
CREATED:20250305T035020Z
LAST-MODIFIED:20250305T035025Z
UID:10016392-1821601800-1821605400@stnicholasoftolentinebronx.org
SUMMARY:8:30 am Spanish Mass
DESCRIPTION:
URL:https://stnicholasoftolentinebronx.org/event/830-am-spanish-mass-3/2027-09-22/
LOCATION:St Nicholas of Tolentine Church\, 2345 University Avenue\, Bronx\, NY\, 10468\, United States
END:VEVENT
BEGIN:VEVENT
DTSTART;TZID=America/New_York:20270922T120000
DTEND;TZID=America/New_York:20270922T123000
DTSTAMP:20260425T074256
CREATED:20250305T040540Z
LAST-MODIFIED:20250305T040545Z
UID:10017696-1821614400-1821616200@stnicholasoftolentinebronx.org
SUMMARY:12:00 Noon English mass
DESCRIPTION:
URL:https://stnicholasoftolentinebronx.org/event/1200-noon-english-mass/2027-09-22/
LOCATION:St Nicholas of Tolentine Church\, 2345 University Avenue\, Bronx\, NY\, 10468\, United States
END:VEVENT
BEGIN:VEVENT
DTSTART;TZID=America/New_York:20270923T083000
DTEND;TZID=America/New_York:20270923T093000
DTSTAMP:20260425T074256
CREATED:20250305T035020Z
LAST-MODIFIED:20250305T035025Z
UID:10016393-1821688200-1821691800@stnicholasoftolentinebronx.org
SUMMARY:8:30 am Spanish Mass
DESCRIPTION:
URL:https://stnicholasoftolentinebronx.org/event/830-am-spanish-mass-3/2027-09-23/
LOCATION:St Nicholas of Tolentine Church\, 2345 University Avenue\, Bronx\, NY\, 10468\, United States
END:VEVENT
BEGIN:VEVENT
DTSTART;TZID=America/New_York:20270923T120000
DTEND;TZID=America/New_York:20270923T123000
DTSTAMP:20260425T074256
CREATED:20250305T040540Z
LAST-MODIFIED:20250305T040545Z
UID:10017697-1821700800-1821702600@stnicholasoftolentinebronx.org
SUMMARY:12:00 Noon English mass
DESCRIPTION:
URL:https://stnicholasoftolentinebronx.org/event/1200-noon-english-mass/2027-09-23/
LOCATION:St Nicholas of Tolentine Church\, 2345 University Avenue\, Bronx\, NY\, 10468\, United States
END:VEVENT
BEGIN:VEVENT
DTSTART;TZID=America/New_York:20270923T190000
DTEND;TZID=America/New_York:20270923T210000
DTSTAMP:20260425T074256
CREATED:20250305T041048Z
LAST-MODIFIED:20250306T225714Z
UID:10018470-1821726000-1821733200@stnicholasoftolentinebronx.org
SUMMARY:7:00 pm Círculo
DESCRIPTION:
URL:https://stnicholasoftolentinebronx.org/event/700-circulo/2027-09-23/
LOCATION:NY
END:VEVENT
BEGIN:VEVENT
DTSTART;TZID=America/New_York:20270924T083000
DTEND;TZID=America/New_York:20270924T093000
DTSTAMP:20260425T074256
CREATED:20250305T035020Z
LAST-MODIFIED:20250305T035025Z
UID:10016394-1821774600-1821778200@stnicholasoftolentinebronx.org
SUMMARY:8:30 am Spanish Mass
DESCRIPTION:
URL:https://stnicholasoftolentinebronx.org/event/830-am-spanish-mass-3/2027-09-24/
LOCATION:St Nicholas of Tolentine Church\, 2345 University Avenue\, Bronx\, NY\, 10468\, United States
END:VEVENT
BEGIN:VEVENT
DTSTART;TZID=America/New_York:20270924T120000
DTEND;TZID=America/New_York:20270924T123000
DTSTAMP:20260425T074256
CREATED:20250305T040540Z
LAST-MODIFIED:20250305T040545Z
UID:10017698-1821787200-1821789000@stnicholasoftolentinebronx.org
SUMMARY:12:00 Noon English mass
DESCRIPTION:
URL:https://stnicholasoftolentinebronx.org/event/1200-noon-english-mass/2027-09-24/
LOCATION:St Nicholas of Tolentine Church\, 2345 University Avenue\, Bronx\, NY\, 10468\, United States
END:VEVENT
BEGIN:VEVENT
DTSTART;TZID=America/New_York:20270925T074500
DTEND;TZID=America/New_York:20270925T083000
DTSTAMP:20260425T074256
CREATED:20250313T023643Z
LAST-MODIFIED:20250313T023646Z
UID:10018751-1821858300-1821861000@stnicholasoftolentinebronx.org
SUMMARY:7:45 am Vietnamese Mass
DESCRIPTION:
URL:https://stnicholasoftolentinebronx.org/event/745-am-vietnamese-mass/2027-09-25/
LOCATION:St Nicholas of Tolentine Church\, 2345 University Avenue\, Bronx\, NY\, 10468\, United States
END:VEVENT
END:VCALENDAR